Workbook
Name päätelaitteet.: Kaavat!$B$3:$B$12

Sheet Ilmanvaihtolaskelma
B3: Ilmanvaihtolaskelma | N3: Päätelaitteen säätöasennon laskeminen litrojen ja paineen mukaan
B5: Nro | C5: Huone | D5: Päätelaite | E5: Tyyppi | F5: Asento (mm tai n) | G5: Paine-ero (Pa) | H5: Ilmamäärä (l/s) | I5: Suunniteltu (l/s) | J5: Ero (l/s) | K5: Ero (%) | N5: Päätelaite | O5: Tyyppi | P5: Asento (mm tai n) | Q5: Paine-ero (Pa) | R5: Haluttu virtaus (l/s)
B7: =IF(D7<>"",SUM(Laskut!$B$7:C7),"") -> 1 | C7: OH | D7: KTS-100 | E7: =IF(Laskut!C7=1,"Poistoilma",IF(Laskut!B7=1,"Tuloilma","")) -> Tuloilma | F7: 12 | G7: 4 | H7: =IF(Laskut!J7<>"",IF(Laskut!B7=1,Laskut!J7*SQRT(( (0.00002*20^2 - 0.0048*20 + 1.2917)/( 0.00002*$I$28^2 - 0.0048*$I$28 + 1.2917))),IF(Laskut!C7=1,Laskut!J7*SQRT(( (0.00002*20^2 - 0.0048*20 + 1.2917)/( 0.00002*$I$32^2 - 0.0048*$I$32 + 1.2917))),"")),"") -> 10.277 | I7: 10 | J7: =IF(AND(I7<>"", H7<>""),H7-I7,"") -> 0.277 | K7: =IF(AND(I7<>"", H7<>""),ROUND(H7,1)/I7-1,"") -> 0.03 | N7: KSO-125 | O7: =IF(N7="","",IF(OR(N7=Laskut!L4,N7=Laskut!M4),"Poistoilma","Tuloilma")) -> Poistoilma | P7: =IF(N7="","",IF(N7=Laskut!L4,Laskut!L31,IF(N7=Laskut!M4,Laskut!M31,IF(N7=Laskut!N4,Laskut!N31,IF(N7=Laskut!O4,Laskut!O31,IF(N7=Laskut!P4,Laskut!P31,IF(N7=Laskut!Q4,Laskut!Q31,IF(N7=Laskut!R4,Laskut!R31,IF(N7=Laskut!S4,Laskut!S31,IF(N7=Laskut!T4,Laskut!T31,"")))))))))) -> 3.7444678 | Q7: 10 | R7: 10
B8: =IF(D8<>"",SUM(Laskut!$B$7:C8),"") -> 2 | C8: OH | D8: KTS-100 | E8: =IF(Laskut!C8=1,"Poistoilma",IF(Laskut!B8=1,"Tuloilma","")) -> Tuloilma | F8: 12 | G8: 4 | H8: =IF(Laskut!J8<>"",IF(Laskut!B8=1,Laskut!J8*SQRT(( (0.00002*20^2 - 0.0048*20 + 1.2917)/( 0.00002*$I$28^2 - 0.0048*$I$28 + 1.2917))),IF(Laskut!C8=1,Laskut!J8*SQRT(( (0.00002*20^2 - 0.0048*20 + 1.2917)/( 0.00002*$I$32^2 - 0.0048*$I$32 + 1.2917))),"")),"") -> 10.277 | I8: 10 | J8: =IF(AND(I8<>"", H8<>""),H8-I8,"") -> 0.277 | K8: =IF(AND(I8<>"", H8<>""),ROUND(H8,1)/I8-1,"") -> 0.03
B9: =IF(D9<>"",SUM(Laskut!$B$7:C9),"") -> 3 | C9: K | D9: KSO-125 | E9: =IF(Laskut!C9=1,"Poistoilma",IF(Laskut!B9=1,"Tuloilma","")) -> Poistoilma | F9: -7 | G9: 25 | H9: =IF(Laskut!J9<>"",IF(Laskut!B9=1,Laskut!J9*SQRT(( (0.00002*20^2 - 0.0048*20 + 1.2917)/( 0.00002*$I$28^2 - 0.0048*$I$28 + 1.2917))),IF(Laskut!C9=1,Laskut!J9*SQRT(( (0.00002*20^2 - 0.0048*20 + 1.2917)/( 0.00002*$I$32^2 - 0.0048*$I$32 + 1.2917))),"")),"") -> 9.264 | I9: 10 | J9: =IF(AND(I9<>"", H9<>""),H9-I9,"") -> -0.736 | K9: =IF(AND(I9<>"", H9<>""),ROUND(H9,1)/I9-1,"") -> -0.07
B10: =IF(D10<>"",SUM(Laskut!$B$7:C10),"") -> 4 | C10: TH | D10: KTS-100 | E10: =IF(Laskut!C10=1,"Poistoilma",IF(Laskut!B10=1,"Tuloilma","")) -> Tuloilma | F10: 8 | G10: 6 | H10: =IF(Laskut!J10<>"",IF(Laskut!B10=1,Laskut!J10*SQRT(( (0.00002*20^2 - 0.0048*20 + 1.2917)/( 0.00002*$I$28^2 - 0.0048*$I$28 + 1.2917))),IF(Laskut!C10=1,Laskut!J10*SQRT(( (0.00002*20^2 - 0.0048*20 + 1.2917)/( 0.00002*$I$32^2 - 0.0048*$I$32 + 1.2917))),"")),"") -> 8.6704588 | I10: 8 | J10: =IF(AND(I10<>"", H10<>""),H10-I10,"") -> 0.67045884 | K10: =IF(AND(I10<>"", H10<>""),ROUND(H10,1)/I10-1,"") -> 0.0875
B11: =IF(D11<>"",SUM(Laskut!$B$7:C11),"") -> 5 | C11: WC 1 | D11: KSO-125 | E11: =IF(Laskut!C11=1,"Poistoilma",IF(Laskut!B11=1,"Tuloilma","")) -> Poistoilma | F11: -4 | G11: 19 | H11: =IF(Laskut!J11<>"",IF(Laskut!B11=1,Laskut!J11*SQRT(( (0.00002*20^2 - 0.0048*20 + 1.2917)/( 0.00002*$I$28^2 - 0.0048*$I$28 + 1.2917))),IF(Laskut!C11=1,Laskut!J11*SQRT(( (0.00002*20^2 - 0.0048*20 + 1.2917)/( 0.00002*$I$32^2 - 0.0048*$I$32 + 1.2917))),"")),"") -> 9.6113722 | I11: 10 | J11: =IF(AND(I11<>"", H11<>""),H11-I11,"") -> -0.38862783 | K11: =IF(AND(I11<>"", H11<>""),ROUND(H11,1)/I11-1,"") -> -0.04
B12: =IF(D12<>"",SUM(Laskut!$B$7:C12),"") -> 6 | C12: MH 3 | D12: KTS-100 | E12: =IF(Laskut!C12=1,"Poistoilma",IF(Laskut!B12=1,"Tuloilma","")) -> Tuloilma | F12: 8 | G12: 5 | H12: =IF(Laskut!J12<>"",IF(Laskut!B12=1,Laskut!J12*SQRT(( (0.00002*20^2 - 0.0048*20 + 1.2917)/( 0.00002*$I$28^2 - 0.0048*$I$28 + 1.2917))),IF(Laskut!C12=1,Laskut!J12*SQRT(( (0.00002*20^2 - 0.0048*20 + 1.2917)/( 0.00002*$I$32^2 - 0.0048*$I$32 + 1.2917))),"")),"") -> 7.9150098 | I12: 8 | J12: =IF(AND(I12<>"", H12<>""),H12-I12,"") -> -0.08499018 | K12: =IF(AND(I12<>"", H12<>""),ROUND(H12,1)/I12-1,"") -> -0.0125
B13: =IF(D13<>"",SUM(Laskut!$B$7:C13),"") -> 7 | C13: MH 2 | D13: KTS-100 | E13: =IF(Laskut!C13=1,"Poistoilma",IF(Laskut!B13=1,"Tuloilma","")) -> Tuloilma | F13: 8 | G13: 5 | H13: =IF(Laskut!J13<>"",IF(Laskut!B13=1,Laskut!J13*SQRT(( (0.00002*20^2 - 0.0048*20 + 1.2917)/( 0.00002*$I$28^2 - 0.0048*$I$28 + 1.2917))),IF(Laskut!C13=1,Laskut!J13*SQRT(( (0.00002*20^2 - 0.0048*20 + 1.2917)/( 0.00002*$I$32^2 - 0.0048*$I$32 + 1.2917))),"")),"") -> 7.9150098 | I13: 8 | J13: =IF(AND(I13<>"", H13<>""),H13-I13,"") -> -0.08499018 | K13: =IF(AND(I13<>"", H13<>""),ROUND(H13,1)/I13-1,"") -> -0.0125
B14: =IF(D14<>"",SUM(Laskut!$B$7:C14),"") -> 8 | C14: MH 1 | D14: KTS-100 | E14: =IF(Laskut!C14=1,"Poistoilma",IF(Laskut!B14=1,"Tuloilma","")) -> Tuloilma | F14: 12 | G14: 5 | H14: =IF(Laskut!J14<>"",IF(Laskut!B14=1,Laskut!J14*SQRT(( (0.00002*20^2 - 0.0048*20 + 1.2917)/( 0.00002*$I$28^2 - 0.0048*$I$28 + 1.2917))),IF(Laskut!C14=1,Laskut!J14*SQRT(( (0.00002*20^2 - 0.0048*20 + 1.2917)/( 0.00002*$I$32^2 - 0.0048*$I$32 + 1.2917))),"")),"") -> 11.490035 | I14: 12 | J14: =IF(AND(I14<>"", H14<>""),H14-I14,"") -> -0.5099647 | K14: =IF(AND(I14<>"", H14<>""),ROUND(H14,1)/I14-1,"") -> -0.041666667
B15: =IF(D15<>"",SUM(Laskut!$B$7:C15),"") -> 9 | C15: KHH | D15: KSO-125 | E15: =IF(Laskut!C15=1,"Poistoilma",IF(Laskut!B15=1,"Tuloilma","")) -> Poistoilma | F15: 8 | G15: 11 | H15: =IF(Laskut!J15<>"",IF(Laskut!B15=1,Laskut!J15*SQRT(( (0.00002*20^2 - 0.0048*20 + 1.2917)/( 0.00002*$I$28^2 - 0.0048*$I$28 + 1.2917))),IF(Laskut!C15=1,Laskut!J15*SQRT(( (0.00002*20^2 - 0.0048*20 + 1.2917)/( 0.00002*$I$32^2 - 0.0048*$I$32 + 1.2917))),"")),"") -> 12.343814 | I15: 12 | J15: =IF(AND(I15<>"", H15<>""),H15-I15,"") -> 0.34381414 | K15: =IF(AND(I15<>"", H15<>""),ROUND(H15,1)/I15-1,"") -> 0.025
B16: =IF(D16<>"",SUM(Laskut!$B$7:C16),"") -> 10 | C16: WC 2 | D16: KSO-100 | E16: =IF(Laskut!C16=1,"Poistoilma",IF(Laskut!B16=1,"Tuloilma","")) -> Poistoilma | F16: 3 | G16: 13 | H16: =IF(Laskut!J16<>"",IF(Laskut!B16=1,Laskut!J16*SQRT(( (0.00002*20^2 - 0.0048*20 + 1.2917)/( 0.00002*$I$28^2 - 0.0048*$I$28 + 1.2917))),IF(Laskut!C16=1,Laskut!J16*SQRT(( (0.00002*20^2 - 0.0048*20 + 1.2917)/( 0.00002*$I$32^2 - 0.0048*$I$32 + 1.2917))),"")),"") -> 7.7519352 | I16: 8 | J16: =IF(AND(I16<>"", H16<>""),H16-I16,"") -> -0.24806476 | K16: =IF(AND(I16<>"", H16<>""),ROUND(H16,1)/I16-1,"") -> -0.025
B17: =IF(D17<>"",SUM(Laskut!$B$7:C17),"") -> 11 | C17: PH | D17: KSO-125 | E17: =IF(Laskut!C17=1,"Poistoilma",IF(Laskut!B17=1,"Tuloilma","")) -> Poistoilma | F17: 10 | G17: 12 | H17: =IF(Laskut!J17<>"",IF(Laskut!B17=1,Laskut!J17*SQRT(( (0.00002*20^2 - 0.0048*20 + 1.2917)/( 0.00002*$I$28^2 - 0.0048*$I$28 + 1.2917))),IF(Laskut!C17=1,Laskut!J17*SQRT(( (0.00002*20^2 - 0.0048*20 + 1.2917)/( 0.00002*$I$32^2 - 0.0048*$I$32 + 1.2917))),"")),"") -> 13.826615 | I17: 15 | J17: =IF(AND(I17<>"", H17<>""),H17-I17,"") -> -1.1733848 | K17: =IF(AND(I17<>"", H17<>""),ROUND(H17,1)/I17-1,"") -> -0.08
B18: =IF(D18<>"",SUM(Laskut!$B$7:C18),"") -> 12 | C18: S | D18: KTS-100 | E18: =IF(Laskut!C18=1,"Poistoilma",IF(Laskut!B18=1,"Tuloilma","")) -> Tuloilma | F18: 7 | G18: 4 | H18: =IF(Laskut!J18<>"",IF(Laskut!B18=1,Laskut!J18*SQRT(( (0.00002*20^2 - 0.0048*20 + 1.2917)/( 0.00002*$I$28^2 - 0.0048*$I$28 + 1.2917))),IF(Laskut!C18=1,Laskut!J18*SQRT(( (0.00002*20^2 - 0.0048*20 + 1.2917)/( 0.00002*$I$32^2 - 0.0048*$I$32 + 1.2917))),"")),"") -> 6.28 | I18: 6 | J18: =IF(AND(I18<>"", H18<>""),H18-I18,"") -> 0.28 | K18: =IF(AND(I18<>"", H18<>""),ROUND(H18,1)/I18-1,"") -> 0.05
B19: =IF(D19<>"",SUM(Laskut!$B$7:C19),"") -> 13 | C19: S | D19: KSO-100 | E19: =IF(Laskut!C19=1,"Poistoilma",IF(Laskut!B19=1,"Tuloilma","")) -> Poistoilma | F19: 2 | G19: 6 | H19: =IF(Laskut!J19<>"",IF(Laskut!B19=1,Laskut!J19*SQRT(( (0.00002*20^2 - 0.0048*20 + 1.2917)/( 0.00002*$I$28^2 - 0.0048*$I$28 + 1.2917))),IF(Laskut!C19=1,Laskut!J19*SQRT(( (0.00002*20^2 - 0.0048*20 + 1.2917)/( 0.00002*$I$32^2 - 0.0048*$I$32 + 1.2917))),"")),"") -> 5.0444792 | I19: 5 | J19: =IF(AND(I19<>"", H19<>""),H19-I19,"") -> 0.044479176 | K19: =IF(AND(I19<>"", H19<>""),ROUND(H19,1)/I19-1,"") -> 0
B20: =IF(D20<>"",SUM(Laskut!$B$7:C20),"") -> 14 | D20: KSO-100 | E20: =IF(Laskut!C20=1,"Poistoilma",IF(Laskut!B20=1,"Tuloilma","")) -> Poistoilma | F20: 8 | G20: 6 | H20: =IF(Laskut!J20<>"",IF(Laskut!B20=1,Laskut!J20*SQRT(( (0.00002*20^2 - 0.0048*20 + 1.2917)/( 0.00002*$I$28^2 - 0.0048*$I$28 + 1.2917))),IF(Laskut!C20=1,Laskut!J20*SQRT(( (0.00002*20^2 - 0.0048*20 + 1.2917)/( 0.00002*$I$32^2 - 0.0048*$I$32 + 1.2917))),"")),"") -> 6.3760218 | I20: 5 | J20: =IF(AND(I20<>"", H20<>""),H20-I20,"") -> 1.3760218 | K20: =IF(AND(I20<>"", H20<>""),ROUND(H20,1)/I20-1,"") -> 0.28
B21: =IF(D21<>"",SUM(Laskut!$B$7:C21),"") | E21: =IF(Laskut!C21=1,"Poistoilma",IF(Laskut!B21=1,"Tuloilma","")) | H21: =IF(Laskut!J21<>"",IF(Laskut!B21=1,Laskut!J21*SQRT(( (0.00002*20^2 - 0.0048*20 + 1.2917)/( 0.00002*$I$28^2 - 0.0048*$I$28 + 1.2917))),IF(Laskut!C21=1,Laskut!J21*SQRT(( (0.00002*20^2 - 0.0048*20 + 1.2917)/( 0.00002*$I$32^2 - 0.0048*$I$32 + 1.2917))),"")),"") | J21: =IF(AND(I21<>"", H21<>""),H21-I21,"") | K21: =IF(AND(I21<>"", H21<>""),ROUND(H21,1)/I21-1,"") | L21: =IF(AND(F21<>"",G21<>""),IF(D21=Laskut!$L$4,Laskut!L20,IF(D21=Laskut!$M$4,Laskut!M20,IF(D21=Laskut!$N$4,Laskut!N20,IF(D21=Laskut!$O$4,Laskut!O20,IF(D21=Laskut!$P$4,Laskut!P20,IF(D21=Laskut!$Q$4,Laskut!Q20,IF(D21=Laskut!$R$4,Laskut!R20,IF(D21=Laskut!$S$4,Laskut!S20,IF(D21=Laskut!$T$4,Laskut!T20,""))))))))),"") | M21: =IF(L21<>"",IF(Laskut!B21=1,L21*SQRT(( (0.00002*20^2 - 0.0048*20 + 1.2917)/( 0.00002*$I$28^2 - 0.0048*$I$28 + 1.2917))),IF(Laskut!C21=1,L21*SQRT(( (0.00002*20^2 - 0.0048*20 + 1.2917)/( 0.00002*$I$32^2 - 0.0048*$I$32 + 1.2917))),"")),"")
B22: =IF(D22<>"",SUM(Laskut!$B$7:C22),"") | E22: =IF(Laskut!C22=1,"Poistoilma",IF(Laskut!B22=1,"Tuloilma","")) | H22: =IF(Laskut!J22<>"",IF(Laskut!B22=1,Laskut!J22*SQRT(( (0.00002*20^2 - 0.0048*20 + 1.2917)/( 0.00002*$I$28^2 - 0.0048*$I$28 + 1.2917))),IF(Laskut!C22=1,Laskut!J22*SQRT(( (0.00002*20^2 - 0.0048*20 + 1.2917)/( 0.00002*$I$32^2 - 0.0048*$I$32 + 1.2917))),"")),"") | J22: =IF(AND(I22<>"", H22<>""),H22-I22,"") | K22: =IF(AND(I22<>"", H22<>""),ROUND(H22,1)/I22-1,"") | L22: =IF(AND(F22<>"",G22<>""),IF(D22=Laskut!$L$4,Laskut!L21,IF(D22=Laskut!$M$4,Laskut!M21,IF(D22=Laskut!$N$4,Laskut!N21,IF(D22=Laskut!$O$4,Laskut!O21,IF(D22=Laskut!$P$4,Laskut!P21,IF(D22=Laskut!$Q$4,Laskut!Q21,IF(D22=Laskut!$R$4,Laskut!R21,IF(D22=Laskut!$S$4,Laskut!S21,IF(D22=Laskut!$T$4,Laskut!T21,""))))))))),"") | M22: =IF(L22<>"",IF(Laskut!B22=1,L22*SQRT(( (0.00002*20^2 - 0.0048*20 + 1.2917)/( 0.00002*$I$28^2 - 0.0048*$I$28 + 1.2917))),IF(Laskut!C22=1,L22*SQRT(( (0.00002*20^2 - 0.0048*20 + 1.2917)/( 0.00002*$I$32^2 - 0.0048*$I$32 + 1.2917))),"")),"")
B23: =IF(D23<>"",SUM(Laskut!$B$7:C23),"") | E23: =IF(Laskut!C23=1,"Poistoilma",IF(Laskut!B23=1,"Tuloilma","")) | H23: =IF(Laskut!J23<>"",IF(Laskut!B23=1,Laskut!J23*SQRT(( (0.00002*20^2 - 0.0048*20 + 1.2917)/( 0.00002*$I$28^2 - 0.0048*$I$28 + 1.2917))),IF(Laskut!C23=1,Laskut!J23*SQRT(( (0.00002*20^2 - 0.0048*20 + 1.2917)/( 0.00002*$I$32^2 - 0.0048*$I$32 + 1.2917))),"")),"") | J23: =IF(AND(I23<>"", H23<>""),H23-I23,"") | K23: =IF(AND(I23<>"", H23<>""),ROUND(H23,1)/I23-1,"") | L23: =IF(AND(F23<>"",G23<>""),IF(D23=Laskut!$L$4,Laskut!L22,IF(D23=Laskut!$M$4,Laskut!M22,IF(D23=Laskut!$N$4,Laskut!N22,IF(D23=Laskut!$O$4,Laskut!O22,IF(D23=Laskut!$P$4,Laskut!P22,IF(D23=Laskut!$Q$4,Laskut!Q22,IF(D23=Laskut!$R$4,Laskut!R22,IF(D23=Laskut!$S$4,Laskut!S22,IF(D23=Laskut!$T$4,Laskut!T22,""))))))))),"") | M23: =IF(L23<>"",IF(Laskut!B23=1,L23*SQRT(( (0.00002*20^2 - 0.0048*20 + 1.2917)/( 0.00002*$I$28^2 - 0.0048*$I$28 + 1.2917))),IF(Laskut!C23=1,L23*SQRT(( (0.00002*20^2 - 0.0048*20 + 1.2917)/( 0.00002*$I$32^2 - 0.0048*$I$32 + 1.2917))),"")),"")
B24: =IF(D24<>"",SUM(Laskut!$B$7:C24),"") | E24: =IF(Laskut!C24=1,"Poistoilma",IF(Laskut!B24=1,"Tuloilma","")) | H24: =IF(Laskut!J24<>"",IF(Laskut!B24=1,Laskut!J24*SQRT(( (0.00002*20^2 - 0.0048*20 + 1.2917)/( 0.00002*$I$28^2 - 0.0048*$I$28 + 1.2917))),IF(Laskut!C24=1,Laskut!J24*SQRT(( (0.00002*20^2 - 0.0048*20 + 1.2917)/( 0.00002*$I$32^2 - 0.0048*$I$32 + 1.2917))),"")),"") | J24: =IF(AND(I24<>"", H24<>""),H24-I24,"") | K24: =IF(AND(I24<>"", H24<>""),ROUND(H24,1)/I24-1,"") | L24: =IF(AND(F24<>"",G24<>""),IF(D24=Laskut!$L$4,Laskut!L23,IF(D24=Laskut!$M$4,Laskut!M23,IF(D24=Laskut!$N$4,Laskut!N23,IF(D24=Laskut!$O$4,Laskut!O23,IF(D24=Laskut!$P$4,Laskut!P23,IF(D24=Laskut!$Q$4,Laskut!Q23,IF(D24=Laskut!$R$4,Laskut!R23,IF(D24=Laskut!$S$4,Laskut!S23,IF(D24=Laskut!$T$4,Laskut!T23,""))))))))),"") | M24: =IF(L24<>"",IF(Laskut!B24=1,L24*SQRT(( (0.00002*20^2 - 0.0048*20 + 1.2917)/( 0.00002*$I$28^2 - 0.0048*$I$28 + 1.2917))),IF(Laskut!C24=1,L24*SQRT(( (0.00002*20^2 - 0.0048*20 + 1.2917)/( 0.00002*$I$32^2 - 0.0048*$I$32 + 1.2917))),"")),"")
B25: =IF(D25<>"",SUM(Laskut!$B$7:C25),"") | E25: =IF(Laskut!C25=1,"Poistoilma",IF(Laskut!B25=1,"Tuloilma","")) | H25: =IF(Laskut!J25<>"",IF(Laskut!B25=1,Laskut!J25*SQRT(( (0.00002*20^2 - 0.0048*20 + 1.2917)/( 0.00002*$I$28^2 - 0.0048*$I$28 + 1.2917))),IF(Laskut!C25=1,Laskut!J25*SQRT(( (0.00002*20^2 - 0.0048*20 + 1.2917)/( 0.00002*$I$32^2 - 0.0048*$I$32 + 1.2917))),"")),"") | J25: =IF(AND(I25<>"", H25<>""),H25-I25,"") | K25: =IF(AND(I25<>"", H25<>""),ROUND(H25,1)/I25-1,"") | L25: =IF(AND(F25<>"",G25<>""),IF(D25=Laskut!$L$4,Laskut!L24,IF(D25=Laskut!$M$4,Laskut!M24,IF(D25=Laskut!$N$4,Laskut!N24,IF(D25=Laskut!$O$4,Laskut!O24,IF(D25=Laskut!$P$4,Laskut!P24,IF(D25=Laskut!$Q$4,Laskut!Q24,IF(D25=Laskut!$R$4,Laskut!R24,IF(D25=Laskut!$S$4,Laskut!S24,IF(D25=Laskut!$T$4,Laskut!T24,""))))))))),"") | M25: =IF(L25<>"",IF(Laskut!B25=1,L25*SQRT(( (0.00002*20^2 - 0.0048*20 + 1.2917)/( 0.00002*$I$28^2 - 0.0048*$I$28 + 1.2917))),IF(Laskut!C25=1,L25*SQRT(( (0.00002*20^2 - 0.0048*20 + 1.2917)/( 0.00002*$I$32^2 - 0.0048*$I$32 + 1.2917))),"")),"")
B26: =IF(D26<>"",SUM(Laskut!$B$7:C26),"") | E26: =IF(Laskut!C26=1,"Poistoilma",IF(Laskut!B26=1,"Tuloilma","")) | H26: =IF(Laskut!J26<>"",IF(Laskut!B26=1,Laskut!J26*SQRT(( (0.00002*20^2 - 0.0048*20 + 1.2917)/( 0.00002*$I$28^2 - 0.0048*$I$28 + 1.2917))),IF(Laskut!C26=1,Laskut!J26*SQRT(( (0.00002*20^2 - 0.0048*20 + 1.2917)/( 0.00002*$I$32^2 - 0.0048*$I$32 + 1.2917))),"")),"") | J26: =IF(AND(I26<>"", H26<>""),H26-I26,"") | K26: =IF(AND(I26<>"", H26<>""),ROUND(H26,1)/I26-1,"") | L26: =IF(AND(F26<>"",G26<>""),IF(D26=Laskut!$L$4,Laskut!L25,IF(D26=Laskut!$M$4,Laskut!M25,IF(D26=Laskut!$N$4,Laskut!N25,IF(D26=Laskut!$O$4,Laskut!O25,IF(D26=Laskut!$P$4,Laskut!P25,IF(D26=Laskut!$Q$4,Laskut!Q25,IF(D26=Laskut!$R$4,Laskut!R25,IF(D26=Laskut!$S$4,Laskut!S25,IF(D26=Laskut!$T$4,Laskut!T25,""))))))))),"") | M26: =IF(L26<>"",IF(Laskut!B26=1,L26*SQRT(( (0.00002*20^2 - 0.0048*20 + 1.2917)/( 0.00002*$I$28^2 - 0.0048*$I$28 + 1.2917))),IF(Laskut!C26=1,L26*SQRT(( (0.00002*20^2 - 0.0048*20 + 1.2917)/( 0.00002*$I$32^2 - 0.0048*$I$32 + 1.2917))),"")),"")
H27: Tuloilmavirrat | K27: =IF(Laskut!C26<> 0,TEXT(Laskut!B27,"##") & " kpl","") -> 7 kpl
B28: Yhteenveto | H28: Lämpötila (°C) | I28: 20
H29: Mitattu (l/s) | I29: Suunniteltu | J29: Ero (l/s) | K29: Ero %
H30: =IF(Laskut!D27<>0,Laskut!D27,"") -> 62.824514 | I30: =IF(AND(Laskut!B27=Laskut!F27,Laskut!B27<>0),Laskut!H27,"") -> 62 | J30: =IF(AND(H30<>"", I30<>""),H30-I30,"") -> 0.82451378 | K30: =IF(AND(H30<>"", I30<>""),H30/I30-1,"") -> 0.013298609
B31: =IF(AND(I30<>"",I34<>""),"Suunniteltu tuloilmavirta on " & IF(Laskut!E34=1,"yhtäsuuri kuin poistoilmavirta.",IF(Laskut!E34=2,TEXT(Laskut!E35,"##0,0") & " l/s (" & TEXT(Laskut!E36,"##0,0%") & ") pienempi kuin poistoilmavirta.",IF(Laskut!E34=3,TEXT(Laskut!E35,"##0,0") & " l/s (" & TEXT(Laskut!E36,"##0,0%") & ") suurempi kuin poistoilmavirta.",""))),"") -> Suunniteltu tuloilmavirta on 3,0 l/s (4,8%) pienempi kuin poistoilmavirta. | H31: Poistoilmavirrat | K31: =IF(Laskut!C27<>"",TEXT(Laskut!C27,"##") & " kpl",0) -> 7 kpl
B32: =IF(AND(H34<>"",H30<>""),"Mitattu tuloilmavirta on " & IF(Laskut!E30=1,"yhtäsuuri kuin poistoilmavirta.",IF(Laskut!E30=2,TEXT(Laskut!E31,"##0,0") & " l/s (" & TEXT(Laskut!E32,"##0,0%") & ") pienempi kuin poistoilmavirta.",IF(Laskut!E30=3,TEXT(Laskut!E31,"##0,0") & " l/s (" & TEXT(Laskut!E32,"##0,0%") & ") suurempi kuin poistoilmavirta.",""))),"") -> Mitattu tuloilmavirta on 1,4 l/s (2,2%) pienempi kuin poistoilmavirta. | H32: Lämpötila (°C) | I32: 20
B33: =IF(AND(H34<>"",H30<>""),IF(AND(Laskut!E30=3,Laskut!E32>0.03),"Ilmanvaihto tekee rakennuksesta ylipaineisen!",IF(AND(Laskut!E30=2,Laskut!E32>0.03),"Ilmanvaihto tekee rakennuksesta alipaineisen.",IF(AND(Laskut!E30=3,Laskut!E32<=0.03),"Ilmanvaihto tekee rakennuksesta lievästi ylipaineisen!",IF(AND(Laskut!E30=2,Laskut!E32<=0.03),"Ilmanvaihto tekee rakennuksesta lievästi alipaineisen.","")))),"") -> Ilmanvaihto tekee rakennuksesta lievästi alipaineisen. | H33: Mitattu | I33: Suunniteltu | J33: Ero (l/s) | K33: Ero %
G34: ©Fraatti | H34: =IF(Laskut!E27<>0,Laskut!E27,"") -> 64.218238 | I34: =IF(AND(Laskut!C27=Laskut!G27,Laskut!C27<>0),Laskut!I27,"") -> 65 | J34: =IF(AND(H34<>"", I34<>""),H34-I34,"") -> -0.78176228 | K34: =IF(AND(H34<>"", I34<>""),H34/I34-1,"") -> -0.012027112

Sheet Venttiilit
B2: Tuloilmaventtiilit
B4: KTS-100/125 | J4: STQA-100/125
B13: Rak mk E7 KTS-100 max 12mm, KTS-125 max 8mm (*)
B15: Poistoilmaventtiilit
B17: KSO-100/125
B28: Rak mk E7 KSO-100 max 10mm, KSO-125 max 7,5mm (*)
B29: (*) Koskee eri palo-osastoja

Sheet Kaavat
B2: Kaavat | D2: mm -> k-arvo | F2: k-arvo -> mm
B4: KSO-100 | D4: 0,0906x + 1,8782 | F4: 11,022x - 20,705
B5: KSO-125 | D5: 0,0006x2 + 0,124x + 2,6914 | F5: -0,3012x2 + 9,7134x - 23,96
B6: KTS-100 | D6: 0,3997x + 0,3421 | F6: 2,499x - 0,8471
B7: KTS-125 | D7: 0,006x2 + 0,3161x + 0,8944 | F7: -0,072x2 + 2,9879x - 2,3442
B8: KTS-100 (suuntaava) | D8: -0,004x^2 + 0,2431x + 0,5081 | F8: 0,7445x2 + 2,48x - 1,0574
B9: KTS-125 (suuntaava) | D9: -0,0058x2 + 0,3221x + 0,835 | F9: 0,5833x2 + 0,9293x - 0,2609
B10: KTS-100 (s >06.2006) | D10: 0,01222x2 + 0,4069x + 0,2263 | F10: 0,7921x3 - 4,0196x2 + 9,5833x - 4,3404
B11: KTS-125 (s >06.2006) | D11: -0,0134x2 + 0,4836x + 0,1744 | F11: 0,6853x3 - 5,4573x2 + 17,249x - 13,82
B12: STQA-100/125 | D12: 0,3x | F12: 3,33333x
B15: ilman tiheys vs lämpötila | D15: y = 2E-05x2 - 0,0048x + 1,2917

Sheet Laskut
L3: ilmamäärät eri venttileillä
L4: =Kaavat!B4 -> KSO-100 | M4: =Kaavat!B5 -> KSO-125 | N4: =Kaavat!B6 -> KTS-100 | O4: =Kaavat!B7 -> KTS-125 | P4: =Kaavat!B8 -> KTS-100 (suuntaava) | Q4: =Kaavat!B9 -> KTS-125 (suuntaava) | R4: =Kaavat!B10 -> KTS-100 (s >06.2006) | S4: =Kaavat!B11 -> KTS-125 (s >06.2006) | T4: =Kaavat!B12 -> STQA-100/125
B5: mitattu lkm | D5: mitattu litrat | F5: suunniteltu lkm | H5: suunniteltu litrat | J5: ilmamäärä venttiililtä X
B6: tulot | C6: poistot | D6: tulot | E6: poistot | F6: tulot | G6: poistot | H6: tulot | I6: poistot | L6: =(0.0906*Ilmanvaihtolaskelma!F7 + 1.8782)*SQRT(Ilmanvaihtolaskelma!G7) -> 5.9308 | M6: =(0.0006*Ilmanvaihtolaskelma!F7*Ilmanvaihtolaskelma!F7+0.124*Ilmanvaihtolaskelma!F7+2.6914)*SQRT(Ilmanvaihtolaskelma!G7) -> 8.5316 | N6: =(0.3997*Ilmanvaihtolaskelma!F7 + 0.3421)*SQRT(Ilmanvaihtolaskelma!G7) -> 10.277 | O6: =(0.006*Ilmanvaihtolaskelma!F7^2 + 0.3161*Ilmanvaihtolaskelma!F7 + 0.8944)*SQRT(Ilmanvaihtolaskelma!G7) -> 11.1032 | P6: =( -0.004*Ilmanvaihtolaskelma!F7^2 + 0.2431*Ilmanvaihtolaskelma!F7 + 0.5081)*SQRT(Ilmanvaihtolaskelma!G7) -> 5.6986 | Q6: =(-0.0058*Ilmanvaihtolaskelma!F7^2 + 0.3221*Ilmanvaihtolaskelma!F7 + 0.835)*SQRT(Ilmanvaihtolaskelma!G7) -> 7.73 | R6: =( -0.01222*Ilmanvaihtolaskelma!F7^2 + 0.4069*Ilmanvaihtolaskelma!F7 + 0.2263)*SQRT(Ilmanvaihtolaskelma!G7) -> 6.69884 | S6: =(-0.0134*Ilmanvaihtolaskelma!F7^2 + 0.4836*Ilmanvaihtolaskelma!F7 + 0.1744)*SQRT(Ilmanvaihtolaskelma!G7) -> 8.096 | T6: =0.3*Ilmanvaihtolaskelma!F7*SQRT(Ilmanvaihtolaskelma!G7) -> 7.2
B7: =IF(OR(Ilmanvaihtolaskelma!D7="KSO-100",Ilmanvaihtolaskelma!D7="KSO-125",Ilmanvaihtolaskelma!D7=""),"",1) -> 1 | C7: =IF(OR(Ilmanvaihtolaskelma!D7="KSO-100",Ilmanvaihtolaskelma!D7="KSO-125"),1,"") | D7: =IF(OR(Ilmanvaihtolaskelma!D7="KSO-100",Ilmanvaihtolaskelma!D7="KSO-125",Ilmanvaihtolaskelma!D7=""),"",Ilmanvaihtolaskelma!H7) -> 10.277 | E7: =IF(OR(Ilmanvaihtolaskelma!D7="KSO-100",Ilmanvaihtolaskelma!D7="KSO-125"),Ilmanvaihtolaskelma!H7,"") | F7: =IF(AND(Ilmanvaihtolaskelma!I7<>"",B7=1),1,"") -> 1 | G7: =IF(AND(Ilmanvaihtolaskelma!I7<>"",C7=1),1,"") | H7: =IF(F7=1,Ilmanvaihtolaskelma!I7,"") -> 10 | I7: =IF(AND(G7=1,C7=1),Ilmanvaihtolaskelma!I7,"") | J7: =IF(AND(Ilmanvaihtolaskelma!F7<>"",Ilmanvaihtolaskelma!G7<>""),IF(Ilmanvaihtolaskelma!D7=Laskut!$L$4,Laskut!L6,IF(Ilmanvaihtolaskelma!D7=Laskut!$M$4,Laskut!M6,IF(Ilmanvaihtolaskelma!D7=Laskut!$N$4,Laskut!N6,IF(Ilmanvaihtolaskelma!D7=Laskut!$O$4,Laskut!O6,IF(Ilmanvaihtolaskelma!D7=Laskut!$P$4,Laskut!P6,IF(Ilmanvaihtolaskelma!D7=Laskut!$Q$4,Laskut!Q6,IF(Ilmanvaihtolaskelma!D7=Laskut!$R$4,Laskut!R6,IF(Ilmanvaihtolaskelma!D7=Laskut!$S$4,Laskut!S6,IF(Ilmanvaihtolaskelma!D7=Laskut!$T$4,Laskut!T6,""))))))))),"") -> 10.277 | L7: =(0.0906*Ilmanvaihtolaskelma!F8 + 1.8782)*SQRT(Ilmanvaihtolaskelma!G8) -> 5.9308 | M7: =(0.0006*Ilmanvaihtolaskelma!F8*Ilmanvaihtolaskelma!F8+0.124*Ilmanvaihtolaskelma!F8+2.6914)*SQRT(Ilmanvaihtolaskelma!G8) -> 8.5316 | N7: =(0.3997*Ilmanvaihtolaskelma!F8 + 0.3421)*SQRT(Ilmanvaihtolaskelma!G8) -> 10.277 | O7: =(0.006*Ilmanvaihtolaskelma!F8^2 + 0.3161*Ilmanvaihtolaskelma!F8 + 0.8944)*SQRT(Ilmanvaihtolaskelma!G8) -> 11.1032 | P7: =( -0.004*Ilmanvaihtolaskelma!F8^2 + 0.2431*Ilmanvaihtolaskelma!F8 + 0.5081)*SQRT(Ilmanvaihtolaskelma!G8) -> 5.6986 | Q7: =(-0.0058*Ilmanvaihtolaskelma!F8^2 + 0.3221*Ilmanvaihtolaskelma!F8 + 0.835)*SQRT(Ilmanvaihtolaskelma!G8) -> 7.73 | R7: =( -0.01222*Ilmanvaihtolaskelma!F8^2 + 0.4069*Ilmanvaihtolaskelma!F8 + 0.2263)*SQRT(Ilmanvaihtolaskelma!G8) -> 6.69884 | S7: =(-0.0134*Ilmanvaihtolaskelma!F8^2 + 0.4836*Ilmanvaihtolaskelma!F8 + 0.1744)*SQRT(Ilmanvaihtolaskelma!G8) -> 8.096 | T7: =0.3*Ilmanvaihtolaskelma!F8*SQRT(Ilmanvaihtolaskelma!G8) -> 7.2
B8: =IF(OR(Ilmanvaihtolaskelma!D8="KSO-100",Ilmanvaihtolaskelma!D8="KSO-125",Ilmanvaihtolaskelma!D8=""),"",1) -> 1 | C8: =IF(OR(Ilmanvaihtolaskelma!D8="KSO-100",Ilmanvaihtolaskelma!D8="KSO-125"),1,"") | D8: =IF(OR(Ilmanvaihtolaskelma!D8="KSO-100",Ilmanvaihtolaskelma!D8="KSO-125",Ilmanvaihtolaskelma!D8=""),"",Ilmanvaihtolaskelma!H8) -> 10.277 | E8: =IF(OR(Ilmanvaihtolaskelma!D8="KSO-100",Ilmanvaihtolaskelma!D8="KSO-125"),Ilmanvaihtolaskelma!H8,"") | F8: =IF(AND(Ilmanvaihtolaskelma!I8<>"",B8=1),1,"") -> 1 | G8: =IF(AND(Ilmanvaihtolaskelma!I8<>"",C8=1),1,"") | H8: =IF(F8=1,Ilmanvaihtolaskelma!I8,"") -> 10 | I8: =IF(AND(G8=1,C8=1),Ilmanvaihtolaskelma!I8,"") | J8: =IF(AND(Ilmanvaihtolaskelma!F8<>"",Ilmanvaihtolaskelma!G8<>""),IF(Ilmanvaihtolaskelma!D8=Laskut!$L$4,Laskut!L7,IF(Ilmanvaihtolaskelma!D8=Laskut!$M$4,Laskut!M7,IF(Ilmanvaihtolaskelma!D8=Laskut!$N$4,Laskut!N7,IF(Ilmanvaihtolaskelma!D8=Laskut!$O$4,Laskut!O7,IF(Ilmanvaihtolaskelma!D8=Laskut!$P$4,Laskut!P7,IF(Ilmanvaihtolaskelma!D8=Laskut!$Q$4,Laskut!Q7,IF(Ilmanvaihtolaskelma!D8=Laskut!$R$4,Laskut!R7,IF(Ilmanvaihtolaskelma!D8=Laskut!$S$4,Laskut!S7,IF(Ilmanvaihtolaskelma!D8=Laskut!$T$4,Laskut!T7,""))))))))),"") -> 10.277 | L8: =(0.0906*Ilmanvaihtolaskelma!F9 + 1.8782)*SQRT(Ilmanvaihtolaskelma!G9) -> 6.22 | M8: =(0.0006*Ilmanvaihtolaskelma!F9*Ilmanvaihtolaskelma!F9+0.124*Ilmanvaihtolaskelma!F9+2.6914)*SQRT(Ilmanvaihtolaskelma!G9) -> 9.264 | N8: =(0.3997*Ilmanvaihtolaskelma!F9 + 0.3421)*SQRT(Ilmanvaihtolaskelma!G9) -> -12.279 | O8: =(0.006*Ilmanvaihtolaskelma!F9^2 + 0.3161*Ilmanvaihtolaskelma!F9 + 0.8944)*SQRT(Ilmanvaihtolaskelma!G9) -> -5.1215 | P8: =( -0.004*Ilmanvaihtolaskelma!F9^2 + 0.2431*Ilmanvaihtolaskelma!F9 + 0.5081)*SQRT(Ilmanvaihtolaskelma!G9) -> -6.948 | Q8: =(-0.0058*Ilmanvaihtolaskelma!F9^2 + 0.3221*Ilmanvaihtolaskelma!F9 + 0.835)*SQRT(Ilmanvaihtolaskelma!G9) -> -8.5195 | R8: =( -0.01222*Ilmanvaihtolaskelma!F9^2 + 0.4069*Ilmanvaihtolaskelma!F9 + 0.2263)*SQRT(Ilmanvaihtolaskelma!G9) -> -16.1039 | S8: =(-0.0134*Ilmanvaihtolaskelma!F9^2 + 0.4836*Ilmanvaihtolaskelma!F9 + 0.1744)*SQRT(Ilmanvaihtolaskelma!G9) -> -19.337 | T8: =0.3*Ilmanvaihtolaskelma!F9*SQRT(Ilmanvaihtolaskelma!G9) -> -10.5
B9: =IF(OR(Ilmanvaihtolaskelma!D9="KSO-100",Ilmanvaihtolaskelma!D9="KSO-125",Ilmanvaihtolaskelma!D9=""),"",1) | C9: =IF(OR(Ilmanvaihtolaskelma!D9="KSO-100",Ilmanvaihtolaskelma!D9="KSO-125"),1,"") -> 1 | D9: =IF(OR(Ilmanvaihtolaskelma!D9="KSO-100",Ilmanvaihtolaskelma!D9="KSO-125",Ilmanvaihtolaskelma!D9=""),"",Ilmanvaihtolaskelma!H9) | E9: =IF(OR(Ilmanvaihtolaskelma!D9="KSO-100",Ilmanvaihtolaskelma!D9="KSO-125"),Ilmanvaihtolaskelma!H9,"") -> 9.264 | F9: =IF(AND(Ilmanvaihtolaskelma!I9<>"",B9=1),1,"") | G9: =IF(AND(Ilmanvaihtolaskelma!I9<>"",C9=1),1,"") -> 1 | H9: =IF(F9=1,Ilmanvaihtolaskelma!I9,"") | I9: =IF(AND(G9=1,C9=1),Ilmanvaihtolaskelma!I9,"") -> 10 | J9: =IF(AND(Ilmanvaihtolaskelma!F9<>"",Ilmanvaihtolaskelma!G9<>""),IF(Ilmanvaihtolaskelma!D9=Laskut!$L$4,Laskut!L8,IF(Ilmanvaihtolaskelma!D9=Laskut!$M$4,Laskut!M8,IF(Ilmanvaihtolaskelma!D9=Laskut!$N$4,Laskut!N8,IF(Ilmanvaihtolaskelma!D9=Laskut!$O$4,Laskut!O8,IF(Ilmanvaihtolaskelma!D9=Laskut!$P$4,Laskut!P8,IF(Ilmanvaihtolaskelma!D9=Laskut!$Q$4,Laskut!Q8,IF(Ilmanvaihtolaskelma!D9=Laskut!$R$4,Laskut!R8,IF(Ilmanvaihtolaskelma!D9=Laskut!$S$4,Laskut!S8,IF(Ilmanvaihtolaskelma!D9=Laskut!$T$4,Laskut!T8,""))))))))),"") -> 9.264 | L9: =(0.0906*Ilmanvaihtolaskelma!F10 + 1.8782)*SQRT(Ilmanvaihtolaskelma!G10) -> 6.3760218 | M9: =(0.0006*Ilmanvaihtolaskelma!F10*Ilmanvaihtolaskelma!F10+0.124*Ilmanvaihtolaskelma!F10+2.6914)*SQRT(Ilmanvaihtolaskelma!G10) -> 9.1165109 | N9: =(0.3997*Ilmanvaihtolaskelma!F10 + 0.3421)*SQRT(Ilmanvaihtolaskelma!G10) -> 8.6704588 | O9: =(0.006*Ilmanvaihtolaskelma!F10^2 + 0.3161*Ilmanvaihtolaskelma!F10 + 0.8944)*SQRT(Ilmanvaihtolaskelma!G10) -> 9.3256973 | P9: =( -0.004*Ilmanvaihtolaskelma!F10^2 + 0.2431*Ilmanvaihtolaskelma!F10 + 0.5081)*SQRT(Ilmanvaihtolaskelma!G10) -> 5.381284 | Q9: =(-0.0058*Ilmanvaihtolaskelma!F10^2 + 0.3221*Ilmanvaihtolaskelma!F10 + 0.835)*SQRT(Ilmanvaihtolaskelma!G10) -> 7.4479185 | R9: =( -0.01222*Ilmanvaihtolaskelma!F10^2 + 0.4069*Ilmanvaihtolaskelma!F10 + 0.2263)*SQRT(Ilmanvaihtolaskelma!G10) -> 6.6122016 | S9: =(-0.0134*Ilmanvaihtolaskelma!F10^2 + 0.4836*Ilmanvaihtolaskelma!F10 + 0.1744)*SQRT(Ilmanvaihtolaskelma!G10) -> 7.8030945 | T9: =0.3*Ilmanvaihtolaskelma!F10*SQRT(Ilmanvaihtolaskelma!G10) -> 5.8787754
B10: =IF(OR(Ilmanvaihtolaskelma!D10="KSO-100",Ilmanvaihtolaskelma!D10="KSO-125",Ilmanvaihtolaskelma!D10=""),"",1) -> 1 | C10: =IF(OR(Ilmanvaihtolaskelma!D10="KSO-100",Ilmanvaihtolaskelma!D10="KSO-125"),1,"") | D10: =IF(OR(Ilmanvaihtolaskelma!D10="KSO-100",Ilmanvaihtolaskelma!D10="KSO-125",Ilmanvaihtolaskelma!D10=""),"",Ilmanvaihtolaskelma!H10) -> 8.6704588 | E10: =IF(OR(Ilmanvaihtolaskelma!D10="KSO-100",Ilmanvaihtolaskelma!D10="KSO-125"),Ilmanvaihtolaskelma!H10,"") | F10: =IF(AND(Ilmanvaihtolaskelma!I10<>"",B10=1),1,"") -> 1 | G10: =IF(AND(Ilmanvaihtolaskelma!I10<>"",C10=1),1,"") | H10: =IF(F10=1,Ilmanvaihtolaskelma!I10,"") -> 8 | I10: =IF(AND(G10=1,C10=1),Ilmanvaihtolaskelma!I10,"") | J10: =IF(AND(Ilmanvaihtolaskelma!F10<>"",Ilmanvaihtolaskelma!G10<>""),IF(Ilmanvaihtolaskelma!D10=Laskut!$L$4,Laskut!L9,IF(Ilmanvaihtolaskelma!D10=Laskut!$M$4,Laskut!M9,IF(Ilmanvaihtolaskelma!D10=Laskut!$N$4,Laskut!N9,IF(Ilmanvaihtolaskelma!D10=Laskut!$O$4,Laskut!O9,IF(Ilmanvaihtolaskelma!D10=Laskut!$P$4,Laskut!P9,IF(Ilmanvaihtolaskelma!D10=Laskut!$Q$4,Laskut!Q9,IF(Ilmanvaihtolaskelma!D10=Laskut!$R$4,Laskut!R9,IF(Ilmanvaihtolaskelma!D10=Laskut!$S$4,Laskut!S9,IF(Ilmanvaihtolaskelma!D10=Laskut!$T$4,Laskut!T9,""))))))))),"") -> 8.6704588 | L10: =(0.0906*Ilmanvaihtolaskelma!F11 + 1.8782)*SQRT(Ilmanvaihtolaskelma!G11) -> 6.607219 | M10: =(0.0006*Ilmanvaihtolaskelma!F11*Ilmanvaihtolaskelma!F11+0.124*Ilmanvaihtolaskelma!F11+2.6914)*SQRT(Ilmanvaihtolaskelma!G11) -> 9.6113722 | N10: =(0.3997*Ilmanvaihtolaskelma!F11 + 0.3421)*SQRT(Ilmanvaihtolaskelma!G11) -> -5.4778283 | O10: =(0.006*Ilmanvaihtolaskelma!F11^2 + 0.3161*Ilmanvaihtolaskelma!F11 + 0.8944)*SQRT(Ilmanvaihtolaskelma!G11) -> -1.1943383 | P10: =( -0.004*Ilmanvaihtolaskelma!F11^2 + 0.2431*Ilmanvaihtolaskelma!F11 + 0.5081)*SQRT(Ilmanvaihtolaskelma!G11) -> -2.3028063 | Q10: =(-0.0058*Ilmanvaihtolaskelma!F11^2 + 0.3221*Ilmanvaihtolaskelma!F11 + 0.835)*SQRT(Ilmanvaihtolaskelma!G11) -> -2.3808306 | R10: =( -0.01222*Ilmanvaihtolaskelma!F11^2 + 0.4069*Ilmanvaihtolaskelma!F11 + 0.2263)*SQRT(Ilmanvaihtolaskelma!G11) -> -6.960377 | S10: =(-0.0134*Ilmanvaihtolaskelma!F11^2 + 0.4836*Ilmanvaihtolaskelma!F11 + 0.1744)*SQRT(Ilmanvaihtolaskelma!G11) -> -8.6062101 | T10: =0.3*Ilmanvaihtolaskelma!F11*SQRT(Ilmanvaihtolaskelma!G11) -> -5.2306787
B11: =IF(OR(Ilmanvaihtolaskelma!D11="KSO-100",Ilmanvaihtolaskelma!D11="KSO-125",Ilmanvaihtolaskelma!D11=""),"",1) | C11: =IF(OR(Ilmanvaihtolaskelma!D11="KSO-100",Ilmanvaihtolaskelma!D11="KSO-125"),1,"") -> 1 | D11: =IF(OR(Ilmanvaihtolaskelma!D11="KSO-100",Ilmanvaihtolaskelma!D11="KSO-125",Ilmanvaihtolaskelma!D11=""),"",Ilmanvaihtolaskelma!H11) | E11: =IF(OR(Ilmanvaihtolaskelma!D11="KSO-100",Ilmanvaihtolaskelma!D11="KSO-125"),Ilmanvaihtolaskelma!H11,"") -> 9.6113722 | F11: =IF(AND(Ilmanvaihtolaskelma!I11<>"",B11=1),1,"") | G11: =IF(AND(Ilmanvaihtolaskelma!I11<>"",C11=1),1,"") -> 1 | H11: =IF(F11=1,Ilmanvaihtolaskelma!I11,"") | I11: =IF(AND(G11=1,C11=1),Ilmanvaihtolaskelma!I11,"") -> 10 | J11: =IF(AND(Ilmanvaihtolaskelma!F11<>"",Ilmanvaihtolaskelma!G11<>""),IF(Ilmanvaihtolaskelma!D11=Laskut!$L$4,Laskut!L10,IF(Ilmanvaihtolaskelma!D11=Laskut!$M$4,Laskut!M10,IF(Ilmanvaihtolaskelma!D11=Laskut!$N$4,Laskut!N10,IF(Ilmanvaihtolaskelma!D11=Laskut!$O$4,Laskut!O10,IF(Ilmanvaihtolaskelma!D11=Laskut!$P$4,Laskut!P10,IF(Ilmanvaihtolaskelma!D11=Laskut!$Q$4,Laskut!Q10,IF(Ilmanvaihtolaskelma!D11=Laskut!$R$4,Laskut!R10,IF(Ilmanvaihtolaskelma!D11=Laskut!$S$4,Laskut!S10,IF(Ilmanvaihtolaskelma!D11=Laskut!$T$4,Laskut!T10,""))))))))),"") -> 9.6113722 | L11: =(0.0906*Ilmanvaihtolaskelma!F12 + 1.8782)*SQRT(Ilmanvaihtolaskelma!G12) -> 5.8204849 | M11: =(0.0006*Ilmanvaihtolaskelma!F12*Ilmanvaihtolaskelma!F12+0.124*Ilmanvaihtolaskelma!F12+2.6914)*SQRT(Ilmanvaihtolaskelma!G12) -> 8.3221978 | N11: =(0.3997*Ilmanvaihtolaskelma!F12 + 0.3421)*SQRT(Ilmanvaihtolaskelma!G12) -> 7.9150098 | O11: =(0.006*Ilmanvaihtolaskelma!F12^2 + 0.3161*Ilmanvaihtolaskelma!F12 + 0.8944)*SQRT(Ilmanvaihtolaskelma!G12) -> 8.513158 | P11: =( -0.004*Ilmanvaihtolaskelma!F12^2 + 0.2431*Ilmanvaihtolaskelma!F12 + 0.5081)*SQRT(Ilmanvaihtolaskelma!G12) -> 4.9124177 | Q11: =(-0.0058*Ilmanvaihtolaskelma!F12^2 + 0.3221*Ilmanvaihtolaskelma!F12 + 0.835)*SQRT(Ilmanvaihtolaskelma!G12) -> 6.7989883 | R11: =( -0.01222*Ilmanvaihtolaskelma!F12^2 + 0.4069*Ilmanvaihtolaskelma!F12 + 0.2263)*SQRT(Ilmanvaihtolaskelma!G12) -> 6.0360866 | S11: =(-0.0134*Ilmanvaihtolaskelma!F12^2 + 0.4836*Ilmanvaihtolaskelma!F12 + 0.1744)*SQRT(Ilmanvaihtolaskelma!G12) -> 7.1232181 | T11: =0.3*Ilmanvaihtolaskelma!F12*SQRT(Ilmanvaihtolaskelma!G12) -> 5.3665631
B12: =IF(OR(Ilmanvaihtolaskelma!D12="KSO-100",Ilmanvaihtolaskelma!D12="KSO-125",Ilmanvaihtolaskelma!D12=""),"",1) -> 1 | C12: =IF(OR(Ilmanvaihtolaskelma!D12="KSO-100",Ilmanvaihtolaskelma!D12="KSO-125"),1,"") | D12: =IF(OR(Ilmanvaihtolaskelma!D12="KSO-100",Ilmanvaihtolaskelma!D12="KSO-125",Ilmanvaihtolaskelma!D12=""),"",Ilmanvaihtolaskelma!H12) -> 7.9150098 | E12: =IF(OR(Ilmanvaihtolaskelma!D12="KSO-100",Ilmanvaihtolaskelma!D12="KSO-125"),Ilmanvaihtolaskelma!H12,"") | F12: =IF(AND(Ilmanvaihtolaskelma!I12<>"",B12=1),1,"") -> 1 | G12: =IF(AND(Ilmanvaihtolaskelma!I12<>"",C12=1),1,"") | H12: =IF(F12=1,Ilmanvaihtolaskelma!I12,"") -> 8 | I12: =IF(AND(G12=1,C12=1),Ilmanvaihtolaskelma!I12,"") | J12: =IF(AND(Ilmanvaihtolaskelma!F12<>"",Ilmanvaihtolaskelma!G12<>""),IF(Ilmanvaihtolaskelma!D12=Laskut!$L$4,Laskut!L11,IF(Ilmanvaihtolaskelma!D12=Laskut!$M$4,Laskut!M11,IF(Ilmanvaihtolaskelma!D12=Laskut!$N$4,Laskut!N11,IF(Ilmanvaihtolaskelma!D12=Laskut!$O$4,Laskut!O11,IF(Ilmanvaihtolaskelma!D12=Laskut!$P$4,Laskut!P11,IF(Ilmanvaihtolaskelma!D12=Laskut!$Q$4,Laskut!Q11,IF(Ilmanvaihtolaskelma!D12=Laskut!$R$4,Laskut!R11,IF(Ilmanvaihtolaskelma!D12=Laskut!$S$4,Laskut!S11,IF(Ilmanvaihtolaskelma!D12=Laskut!$T$4,Laskut!T11,""))))))))),"") -> 7.9150098 | L12: =(0.0906*Ilmanvaihtolaskelma!F13 + 1.8782)*SQRT(Ilmanvaihtolaskelma!G13) -> 5.8204849 | M12: =(0.0006*Ilmanvaihtolaskelma!F13*Ilmanvaihtolaskelma!F13+0.124*Ilmanvaihtolaskelma!F13+2.6914)*SQRT(Ilmanvaihtolaskelma!G13) -> 8.3221978 | N12: =(0.3997*Ilmanvaihtolaskelma!F13 + 0.3421)*SQRT(Ilmanvaihtolaskelma!G13) -> 7.9150098 | O12: =(0.006*Ilmanvaihtolaskelma!F13^2 + 0.3161*Ilmanvaihtolaskelma!F13 + 0.8944)*SQRT(Ilmanvaihtolaskelma!G13) -> 8.513158 | P12: =( -0.004*Ilmanvaihtolaskelma!F13^2 + 0.2431*Ilmanvaihtolaskelma!F13 + 0.5081)*SQRT(Ilmanvaihtolaskelma!G13) -> 4.9124177 | Q12: =(-0.0058*Ilmanvaihtolaskelma!F13^2 + 0.3221*Ilmanvaihtolaskelma!F13 + 0.835)*SQRT(Ilmanvaihtolaskelma!G13) -> 6.7989883 | R12: =( -0.01222*Ilmanvaihtolaskelma!F13^2 + 0.4069*Ilmanvaihtolaskelma!F13 + 0.2263)*SQRT(Ilmanvaihtolaskelma!G13) -> 6.0360866 | S12: =(-0.0134*Ilmanvaihtolaskelma!F13^2 + 0.4836*Ilmanvaihtolaskelma!F13 + 0.1744)*SQRT(Ilmanvaihtolaskelma!G13) -> 7.1232181 | T12: =0.3*Ilmanvaihtolaskelma!F13*SQRT(Ilmanvaihtolaskelma!G13) -> 5.3665631
B13: =IF(OR(Ilmanvaihtolaskelma!D13="KSO-100",Ilmanvaihtolaskelma!D13="KSO-125",Ilmanvaihtolaskelma!D13=""),"",1) -> 1 | C13: =IF(OR(Ilmanvaihtolaskelma!D13="KSO-100",Ilmanvaihtolaskelma!D13="KSO-125"),1,"") | D13: =IF(OR(Ilmanvaihtolaskelma!D13="KSO-100",Ilmanvaihtolaskelma!D13="KSO-125",Ilmanvaihtolaskelma!D13=""),"",Ilmanvaihtolaskelma!H13) -> 7.9150098 | E13: =IF(OR(Ilmanvaihtolaskelma!D13="KSO-100",Ilmanvaihtolaskelma!D13="KSO-125"),Ilmanvaihtolaskelma!H13,"") | F13: =IF(AND(Ilmanvaihtolaskelma!I13<>"",B13=1),1,"") -> 1 | G13: =IF(AND(Ilmanvaihtolaskelma!I13<>"",C13=1),1,"") | H13: =IF(F13=1,Ilmanvaihtolaskelma!I13,"") -> 8 | I13: =IF(AND(G13=1,C13=1),Ilmanvaihtolaskelma!I13,"") | J13: =IF(AND(Ilmanvaihtolaskelma!F13<>"",Ilmanvaihtolaskelma!G13<>""),IF(Ilmanvaihtolaskelma!D13=Laskut!$L$4,Laskut!L12,IF(Ilmanvaihtolaskelma!D13=Laskut!$M$4,Laskut!M12,IF(Ilmanvaihtolaskelma!D13=Laskut!$N$4,Laskut!N12,IF(Ilmanvaihtolaskelma!D13=Laskut!$O$4,Laskut!O12,IF(Ilmanvaihtolaskelma!D13=Laskut!$P$4,Laskut!P12,IF(Ilmanvaihtolaskelma!D13=Laskut!$Q$4,Laskut!Q12,IF(Ilmanvaihtolaskelma!D13=Laskut!$R$4,Laskut!R12,IF(Ilmanvaihtolaskelma!D13=Laskut!$S$4,Laskut!S12,IF(Ilmanvaihtolaskelma!D13=Laskut!$T$4,Laskut!T12,""))))))))),"") -> 7.9150098 | L13: =(0.0906*Ilmanvaihtolaskelma!F14 + 1.8782)*SQRT(Ilmanvaihtolaskelma!G14) -> 6.630836 | M13: =(0.0006*Ilmanvaihtolaskelma!F14*Ilmanvaihtolaskelma!F14+0.124*Ilmanvaihtolaskelma!F14+2.6914)*SQRT(Ilmanvaihtolaskelma!G14) -> 9.5386188 | N13: =(0.3997*Ilmanvaihtolaskelma!F14 + 0.3421)*SQRT(Ilmanvaihtolaskelma!G14) -> 11.490035 | O13: =(0.006*Ilmanvaihtolaskelma!F14^2 + 0.3161*Ilmanvaihtolaskelma!F14 + 0.8944)*SQRT(Ilmanvaihtolaskelma!G14) -> 12.413755 | P13: =( -0.004*Ilmanvaihtolaskelma!F14^2 + 0.2431*Ilmanvaihtolaskelma!F14 + 0.5081)*SQRT(Ilmanvaihtolaskelma!G14) -> 6.3712285 | Q13: =(-0.0058*Ilmanvaihtolaskelma!F14^2 + 0.3221*Ilmanvaihtolaskelma!F14 + 0.835)*SQRT(Ilmanvaihtolaskelma!G14) -> 8.6424027 | R13: =( -0.01222*Ilmanvaihtolaskelma!F14^2 + 0.4069*Ilmanvaihtolaskelma!F14 + 0.2263)*SQRT(Ilmanvaihtolaskelma!G14) -> 7.4895308 | S13: =(-0.0134*Ilmanvaihtolaskelma!F14^2 + 0.4836*Ilmanvaihtolaskelma!F14 + 0.1744)*SQRT(Ilmanvaihtolaskelma!G14) -> 9.0516032 | T13: =0.3*Ilmanvaihtolaskelma!F14*SQRT(Ilmanvaihtolaskelma!G14) -> 8.0498447
B14: =IF(OR(Ilmanvaihtolaskelma!D14="KSO-100",Ilmanvaihtolaskelma!D14="KSO-125",Ilmanvaihtolaskelma!D14=""),"",1) -> 1 | C14: =IF(OR(Ilmanvaihtolaskelma!D14="KSO-100",Ilmanvaihtolaskelma!D14="KSO-125"),1,"") | D14: =IF(OR(Ilmanvaihtolaskelma!D14="KSO-100",Ilmanvaihtolaskelma!D14="KSO-125",Ilmanvaihtolaskelma!D14=""),"",Ilmanvaihtolaskelma!H14) -> 11.490035 | E14: =IF(OR(Ilmanvaihtolaskelma!D14="KSO-100",Ilmanvaihtolaskelma!D14="KSO-125"),Ilmanvaihtolaskelma!H14,"") | F14: =IF(AND(Ilmanvaihtolaskelma!I14<>"",B14=1),1,"") -> 1 | G14: =IF(AND(Ilmanvaihtolaskelma!I14<>"",C14=1),1,"") | H14: =IF(F14=1,Ilmanvaihtolaskelma!I14,"") -> 12 | I14: =IF(AND(G14=1,C14=1),Ilmanvaihtolaskelma!I14,"") | J14: =IF(AND(Ilmanvaihtolaskelma!F14<>"",Ilmanvaihtolaskelma!G14<>""),IF(Ilmanvaihtolaskelma!D14=Laskut!$L$4,Laskut!L13,IF(Ilmanvaihtolaskelma!D14=Laskut!$M$4,Laskut!M13,IF(Ilmanvaihtolaskelma!D14=Laskut!$N$4,Laskut!N13,IF(Ilmanvaihtolaskelma!D14=Laskut!$O$4,Laskut!O13,IF(Ilmanvaihtolaskelma!D14=Laskut!$P$4,Laskut!P13,IF(Ilmanvaihtolaskelma!D14=Laskut!$Q$4,Laskut!Q13,IF(Ilmanvaihtolaskelma!D14=Laskut!$R$4,Laskut!R13,IF(Ilmanvaihtolaskelma!D14=Laskut!$S$4,Laskut!S13,IF(Ilmanvaihtolaskelma!D14=Laskut!$T$4,Laskut!T13,""))))))))),"") -> 11.490035 | L14: =(0.0906*Ilmanvaihtolaskelma!F15 + 1.8782)*SQRT(Ilmanvaihtolaskelma!G15) -> 8.6331743 | M14: =(0.0006*Ilmanvaihtolaskelma!F15*Ilmanvaihtolaskelma!F15+0.124*Ilmanvaihtolaskelma!F15+2.6914)*SQRT(Ilmanvaihtolaskelma!G15) -> 12.343814 | N14: =(0.3997*Ilmanvaihtolaskelma!F15 + 0.3421)*SQRT(Ilmanvaihtolaskelma!G15) -> 11.739857 | O14: =(0.006*Ilmanvaihtolaskelma!F15^2 + 0.3161*Ilmanvaihtolaskelma!F15 + 0.8944)*SQRT(Ilmanvaihtolaskelma!G15) -> 12.627054 | P14: =( -0.004*Ilmanvaihtolaskelma!F15^2 + 0.2431*Ilmanvaihtolaskelma!F15 + 0.5081)*SQRT(Ilmanvaihtolaskelma!G15) -> 7.286293 | Q14: =(-0.0058*Ilmanvaihtolaskelma!F15^2 + 0.3221*Ilmanvaihtolaskelma!F15 + 0.835)*SQRT(Ilmanvaihtolaskelma!G15) -> 10.084529 | R14: =( -0.01222*Ilmanvaihtolaskelma!F15^2 + 0.4069*Ilmanvaihtolaskelma!F15 + 0.2263)*SQRT(Ilmanvaihtolaskelma!G15) -> 8.9529633 | S14: =(-0.0134*Ilmanvaihtolaskelma!F15^2 + 0.4836*Ilmanvaihtolaskelma!F15 + 0.1744)*SQRT(Ilmanvaihtolaskelma!G15) -> 10.56544 | T14: =0.3*Ilmanvaihtolaskelma!F15*SQRT(Ilmanvaihtolaskelma!G15) -> 7.9598995
B15: =IF(OR(Ilmanvaihtolaskelma!D15="KSO-100",Ilmanvaihtolaskelma!D15="KSO-125",Ilmanvaihtolaskelma!D15=""),"",1) | C15: =IF(OR(Ilmanvaihtolaskelma!D15="KSO-100",Ilmanvaihtolaskelma!D15="KSO-125"),1,"") -> 1 | D15: =IF(OR(Ilmanvaihtolaskelma!D15="KSO-100",Ilmanvaihtolaskelma!D15="KSO-125",Ilmanvaihtolaskelma!D15=""),"",Ilmanvaihtolaskelma!H15) | E15: =IF(OR(Ilmanvaihtolaskelma!D15="KSO-100",Ilmanvaihtolaskelma!D15="KSO-125"),Ilmanvaihtolaskelma!H15,"") -> 12.343814 | F15: =IF(AND(Ilmanvaihtolaskelma!I15<>"",B15=1),1,"") | G15: =IF(AND(Ilmanvaihtolaskelma!I15<>"",C15=1),1,"") -> 1 | H15: =IF(F15=1,Ilmanvaihtolaskelma!I15,"") | I15: =IF(AND(G15=1,C15=1),Ilmanvaihtolaskelma!I15,"") -> 12 | J15: =IF(AND(Ilmanvaihtolaskelma!F15<>"",Ilmanvaihtolaskelma!G15<>""),IF(Ilmanvaihtolaskelma!D15=Laskut!$L$4,Laskut!L14,IF(Ilmanvaihtolaskelma!D15=Laskut!$M$4,Laskut!M14,IF(Ilmanvaihtolaskelma!D15=Laskut!$N$4,Laskut!N14,IF(Ilmanvaihtolaskelma!D15=Laskut!$O$4,Laskut!O14,IF(Ilmanvaihtolaskelma!D15=Laskut!$P$4,Laskut!P14,IF(Ilmanvaihtolaskelma!D15=Laskut!$Q$4,Laskut!Q14,IF(Ilmanvaihtolaskelma!D15=Laskut!$R$4,Laskut!R14,IF(Ilmanvaihtolaskelma!D15=Laskut!$S$4,Laskut!S14,IF(Ilmanvaihtolaskelma!D15=Laskut!$T$4,Laskut!T14,""))))))))),"") -> 12.343814 | L15: =(0.0906*Ilmanvaihtolaskelma!F16 + 1.8782)*SQRT(Ilmanvaihtolaskelma!G16) -> 7.7519352 | M15: =(0.0006*Ilmanvaihtolaskelma!F16*Ilmanvaihtolaskelma!F16+0.124*Ilmanvaihtolaskelma!F16+2.6914)*SQRT(Ilmanvaihtolaskelma!G16) -> 11.064716 | N15: =(0.3997*Ilmanvaihtolaskelma!F16 + 0.3421)*SQRT(Ilmanvaihtolaskelma!G16) -> 5.5568756 | O15: =(0.006*Ilmanvaihtolaskelma!F16^2 + 0.3161*Ilmanvaihtolaskelma!F16 + 0.8944)*SQRT(Ilmanvaihtolaskelma!G16) -> 6.8386491 | P15: =( -0.004*Ilmanvaihtolaskelma!F16^2 + 0.2431*Ilmanvaihtolaskelma!F16 + 0.5081)*SQRT(Ilmanvaihtolaskelma!G16) -> 4.3317093 | Q15: =(-0.0058*Ilmanvaihtolaskelma!F16^2 + 0.3221*Ilmanvaihtolaskelma!F16 + 0.835)*SQRT(Ilmanvaihtolaskelma!G16) -> 6.3064697 | R15: =( -0.01222*Ilmanvaihtolaskelma!F16^2 + 0.4069*Ilmanvaihtolaskelma!F16 + 0.2263)*SQRT(Ilmanvaihtolaskelma!G16) -> 4.8206942 | S15: =(-0.0134*Ilmanvaihtolaskelma!F16^2 + 0.4836*Ilmanvaihtolaskelma!F16 + 0.1744)*SQRT(Ilmanvaihtolaskelma!G16) -> 5.4249124 | T15: =0.3*Ilmanvaihtolaskelma!F16*SQRT(Ilmanvaihtolaskelma!G16) -> 3.2449961
B16: =IF(OR(Ilmanvaihtolaskelma!D16="KSO-100",Ilmanvaihtolaskelma!D16="KSO-125",Ilmanvaihtolaskelma!D16=""),"",1) | C16: =IF(OR(Ilmanvaihtolaskelma!D16="KSO-100",Ilmanvaihtolaskelma!D16="KSO-125"),1,"") -> 1 | D16: =IF(OR(Ilmanvaihtolaskelma!D16="KSO-100",Ilmanvaihtolaskelma!D16="KSO-125",Ilmanvaihtolaskelma!D16=""),"",Ilmanvaihtolaskelma!H16) | E16: =IF(OR(Ilmanvaihtolaskelma!D16="KSO-100",Ilmanvaihtolaskelma!D16="KSO-125"),Ilmanvaihtolaskelma!H16,"") -> 7.7519352 | F16: =IF(AND(Ilmanvaihtolaskelma!I16<>"",B16=1),1,"") | G16: =IF(AND(Ilmanvaihtolaskelma!I16<>"",C16=1),1,"") -> 1 | H16: =IF(F16=1,Ilmanvaihtolaskelma!I16,"") | I16: =IF(AND(G16=1,C16=1),Ilmanvaihtolaskelma!I16,"") -> 8 | J16: =IF(AND(Ilmanvaihtolaskelma!F16<>"",Ilmanvaihtolaskelma!G16<>""),IF(Ilmanvaihtolaskelma!D16=Laskut!$L$4,Laskut!L15,IF(Ilmanvaihtolaskelma!D16=Laskut!$M$4,Laskut!M15,IF(Ilmanvaihtolaskelma!D16=Laskut!$N$4,Laskut!N15,IF(Ilmanvaihtolaskelma!D16=Laskut!$O$4,Laskut!O15,IF(Ilmanvaihtolaskelma!D16=Laskut!$P$4,Laskut!P15,IF(Ilmanvaihtolaskelma!D16=Laskut!$Q$4,Laskut!Q15,IF(Ilmanvaihtolaskelma!D16=Laskut!$R$4,Laskut!R15,IF(Ilmanvaihtolaskelma!D16=Laskut!$S$4,Laskut!S15,IF(Ilmanvaihtolaskelma!D16=Laskut!$T$4,Laskut!T15,""))))))))),"") -> 7.7519352 | L16: =(0.0906*Ilmanvaihtolaskelma!F17 + 1.8782)*SQRT(Ilmanvaihtolaskelma!G17) -> 9.6447517 | M16: =(0.0006*Ilmanvaihtolaskelma!F17*Ilmanvaihtolaskelma!F17+0.124*Ilmanvaihtolaskelma!F17+2.6914)*SQRT(Ilmanvaihtolaskelma!G17) -> 13.826615 | N16: =(0.3997*Ilmanvaihtolaskelma!F17 + 0.3421)*SQRT(Ilmanvaihtolaskelma!G17) -> 15.031083 | O16: =(0.006*Ilmanvaihtolaskelma!F17^2 + 0.3161*Ilmanvaihtolaskelma!F17 + 0.8944)*SQRT(Ilmanvaihtolaskelma!G17) -> 16.126779 | P16: =( -0.004*Ilmanvaihtolaskelma!F17^2 + 0.2431*Ilmanvaihtolaskelma!F17 + 0.5081)*SQRT(Ilmanvaihtolaskelma!G17) -> 8.7957004 | Q16: =(-0.0058*Ilmanvaihtolaskelma!F17^2 + 0.3221*Ilmanvaihtolaskelma!F17 + 0.835)*SQRT(Ilmanvaihtolaskelma!G17) -> 12.041217 | R16: =( -0.01222*Ilmanvaihtolaskelma!F17^2 + 0.4069*Ilmanvaihtolaskelma!F17 + 0.2263)*SQRT(Ilmanvaihtolaskelma!G17) -> 10.646223 | S16: =(-0.0134*Ilmanvaihtolaskelma!F17^2 + 0.4836*Ilmanvaihtolaskelma!F17 + 0.1744)*SQRT(Ilmanvaihtolaskelma!G17) -> 12.714639 | T16: =0.3*Ilmanvaihtolaskelma!F17*SQRT(Ilmanvaihtolaskelma!G17) -> 10.392305
B17: =IF(OR(Ilmanvaihtolaskelma!D17="KSO-100",Ilmanvaihtolaskelma!D17="KSO-125",Ilmanvaihtolaskelma!D17=""),"",1) | C17: =IF(OR(Ilmanvaihtolaskelma!D17="KSO-100",Ilmanvaihtolaskelma!D17="KSO-125"),1,"") -> 1 | D17: =IF(OR(Ilmanvaihtolaskelma!D17="KSO-100",Ilmanvaihtolaskelma!D17="KSO-125",Ilmanvaihtolaskelma!D17=""),"",Ilmanvaihtolaskelma!H17) | E17: =IF(OR(Ilmanvaihtolaskelma!D17="KSO-100",Ilmanvaihtolaskelma!D17="KSO-125"),Ilmanvaihtolaskelma!H17,"") -> 13.826615 | F17: =IF(AND(Ilmanvaihtolaskelma!I17<>"",B17=1),1,"") | G17: =IF(AND(Ilmanvaihtolaskelma!I17<>"",C17=1),1,"") -> 1 | H17: =IF(F17=1,Ilmanvaihtolaskelma!I17,"") | I17: =IF(AND(G17=1,C17=1),Ilmanvaihtolaskelma!I17,"") -> 15 | J17: =IF(AND(Ilmanvaihtolaskelma!F17<>"",Ilmanvaihtolaskelma!G17<>""),IF(Ilmanvaihtolaskelma!D17=Laskut!$L$4,Laskut!L16,IF(Ilmanvaihtolaskelma!D17=Laskut!$M$4,Laskut!M16,IF(Ilmanvaihtolaskelma!D17=Laskut!$N$4,Laskut!N16,IF(Ilmanvaihtolaskelma!D17=Laskut!$O$4,Laskut!O16,IF(Ilmanvaihtolaskelma!D17=Laskut!$P$4,Laskut!P16,IF(Ilmanvaihtolaskelma!D17=Laskut!$Q$4,Laskut!Q16,IF(Ilmanvaihtolaskelma!D17=Laskut!$R$4,Laskut!R16,IF(Ilmanvaihtolaskelma!D17=Laskut!$S$4,Laskut!S16,IF(Ilmanvaihtolaskelma!D17=Laskut!$T$4,Laskut!T16,""))))))))),"") -> 13.826615 | L17: =(0.0906*Ilmanvaihtolaskelma!F18 + 1.8782)*SQRT(Ilmanvaihtolaskelma!G18) -> 5.0248 | M17: =(0.0006*Ilmanvaihtolaskelma!F18*Ilmanvaihtolaskelma!F18+0.124*Ilmanvaihtolaskelma!F18+2.6914)*SQRT(Ilmanvaihtolaskelma!G18) -> 7.1776 | N17: =(0.3997*Ilmanvaihtolaskelma!F18 + 0.3421)*SQRT(Ilmanvaihtolaskelma!G18) -> 6.28 | O17: =(0.006*Ilmanvaihtolaskelma!F18^2 + 0.3161*Ilmanvaihtolaskelma!F18 + 0.8944)*SQRT(Ilmanvaihtolaskelma!G18) -> 6.8022 | P17: =( -0.004*Ilmanvaihtolaskelma!F18^2 + 0.2431*Ilmanvaihtolaskelma!F18 + 0.5081)*SQRT(Ilmanvaihtolaskelma!G18) -> 4.0276 | Q17: =(-0.0058*Ilmanvaihtolaskelma!F18^2 + 0.3221*Ilmanvaihtolaskelma!F18 + 0.835)*SQRT(Ilmanvaihtolaskelma!G18) -> 5.611 | R17: =( -0.01222*Ilmanvaihtolaskelma!F18^2 + 0.4069*Ilmanvaihtolaskelma!F18 + 0.2263)*SQRT(Ilmanvaihtolaskelma!G18) -> 4.95164 | S17: =(-0.0134*Ilmanvaihtolaskelma!F18^2 + 0.4836*Ilmanvaihtolaskelma!F18 + 0.1744)*SQRT(Ilmanvaihtolaskelma!G18) -> 5.806 | T17: =0.3*Ilmanvaihtolaskelma!F18*SQRT(Ilmanvaihtolaskelma!G18) -> 4.2
B18: =IF(OR(Ilmanvaihtolaskelma!D18="KSO-100",Ilmanvaihtolaskelma!D18="KSO-125",Ilmanvaihtolaskelma!D18=""),"",1) -> 1 | C18: =IF(OR(Ilmanvaihtolaskelma!D18="KSO-100",Ilmanvaihtolaskelma!D18="KSO-125"),1,"") | D18: =IF(OR(Ilmanvaihtolaskelma!D18="KSO-100",Ilmanvaihtolaskelma!D18="KSO-125",Ilmanvaihtolaskelma!D18=""),"",Ilmanvaihtolaskelma!H18) -> 6.28 | E18: =IF(OR(Ilmanvaihtolaskelma!D18="KSO-100",Ilmanvaihtolaskelma!D18="KSO-125"),Ilmanvaihtolaskelma!H18,"") | F18: =IF(AND(Ilmanvaihtolaskelma!I18<>"",B18=1),1,"") -> 1 | G18: =IF(AND(Ilmanvaihtolaskelma!I18<>"",C18=1),1,"") | H18: =IF(F18=1,Ilmanvaihtolaskelma!I18,"") -> 6 | I18: =IF(AND(G18=1,C18=1),Ilmanvaihtolaskelma!I18,"") | J18: =IF(AND(Ilmanvaihtolaskelma!F18<>"",Ilmanvaihtolaskelma!G18<>""),IF(Ilmanvaihtolaskelma!D18=Laskut!$L$4,Laskut!L17,IF(Ilmanvaihtolaskelma!D18=Laskut!$M$4,Laskut!M17,IF(Ilmanvaihtolaskelma!D18=Laskut!$N$4,Laskut!N17,IF(Ilmanvaihtolaskelma!D18=Laskut!$O$4,Laskut!O17,IF(Ilmanvaihtolaskelma!D18=Laskut!$P$4,Laskut!P17,IF(Ilmanvaihtolaskelma!D18=Laskut!$Q$4,Laskut!Q17,IF(Ilmanvaihtolaskelma!D18=Laskut!$R$4,Laskut!R17,IF(Ilmanvaihtolaskelma!D18=Laskut!$S$4,Laskut!S17,IF(Ilmanvaihtolaskelma!D18=Laskut!$T$4,Laskut!T17,""))))))))),"") -> 6.28 | L18: =(0.0906*Ilmanvaihtolaskelma!F19 + 1.8782)*SQRT(Ilmanvaihtolaskelma!G19) -> 5.0444792 | M18: =(0.0006*Ilmanvaihtolaskelma!F19*Ilmanvaihtolaskelma!F19+0.124*Ilmanvaihtolaskelma!F19+2.6914)*SQRT(Ilmanvaihtolaskelma!G19) -> 7.2059089 | N18: =(0.3997*Ilmanvaihtolaskelma!F19 + 0.3421)*SQRT(Ilmanvaihtolaskelma!G19) -> 2.7960925 | O18: =(0.006*Ilmanvaihtolaskelma!F19^2 + 0.3161*Ilmanvaihtolaskelma!F19 + 0.8944)*SQRT(Ilmanvaihtolaskelma!G19) -> 3.7981788 | P18: =( -0.004*Ilmanvaihtolaskelma!F19^2 + 0.2431*Ilmanvaihtolaskelma!F19 + 0.5081)*SQRT(Ilmanvaihtolaskelma!G19) -> 2.3963358 | Q18: =(-0.0058*Ilmanvaihtolaskelma!F19^2 + 0.3221*Ilmanvaihtolaskelma!F19 + 0.835)*SQRT(Ilmanvaihtolaskelma!G19) -> 3.5664571 | R18: =( -0.01222*Ilmanvaihtolaskelma!F19^2 + 0.4069*Ilmanvaihtolaskelma!F19 + 0.2263)*SQRT(Ilmanvaihtolaskelma!G19) -> 2.4279832 | S18: =(-0.0134*Ilmanvaihtolaskelma!F19^2 + 0.4836*Ilmanvaihtolaskelma!F19 + 0.1744)*SQRT(Ilmanvaihtolaskelma!G19) -> 2.6650448 | T18: =0.3*Ilmanvaihtolaskelma!F19*SQRT(Ilmanvaihtolaskelma!G19) -> 1.4696938
... B25: =IF(OR(Ilmanvaihtolaskelma!D25="KSO-100",Ilmanvaihtolaskelma!D25="KSO-125",Ilmanvaihtolaskelma!D25=""),"",1) | C25: =IF(OR(Ilmanvaihtolaskelma!D25="KSO-100",Ilmanvaihtolaskelma!D25="KSO-125"),1,"") | D25: =IF(OR(Ilmanvaihtolaskelma!D25="KSO-100",Ilmanvaihtolaskelma!D25="KSO-125",Ilmanvaihtolaskelma!D25=""),"",Ilmanvaihtolaskelma!H25) | E25: =IF(OR(Ilmanvaihtolaskelma!D25="KSO-100",Ilmanvaihtolaskelma!D25="KSO-125"),Ilmanvaihtolaskelma!H25,"") | F25: =IF(AND(Ilmanvaihtolaskelma!I25<>"",B25=1),1,"") | G25: =IF(AND(Ilmanvaihtolaskelma!I25<>"",C25=1),1,"") | H25: =IF(F25=1,Ilmanvaihtolaskelma!I25,"") | I25: =IF(AND(G25=1,C25=1),Ilmanvaihtolaskelma!I25,"") | J25: =IF(AND(Ilmanvaihtolaskelma!F25<>"",Ilmanvaihtolaskelma!G25<>""),IF(Ilmanvaihtolaskelma!D25=Laskut!$L$4,Laskut!L24,IF(Ilmanvaihtolaskelma!D25=Laskut!$M$4,Laskut!M24,IF(Ilmanvaihtolaskelma!D25=Laskut!$N$4,Laskut!N24,IF(Ilmanvaihtolaskelma!D25=Laskut!$O$4,Laskut!O24,IF(Ilmanvaihtolaskelma!D25=Laskut!$P$4,Laskut!P24,IF(Ilmanvaihtolaskelma!D25=Laskut!$Q$4,Laskut!Q24,IF(Ilmanvaihtolaskelma!D25=Laskut!$R$4,Laskut!R24,IF(Ilmanvaihtolaskelma!D25=Laskut!$S$4,Laskut!S24,IF(Ilmanvaihtolaskelma!D25=Laskut!$T$4,Laskut!T24,""))))))))),"") | L25: =(0.0906*Ilmanvaihtolaskelma!F26 + 1.8782)*SQRT(Ilmanvaihtolaskelma!G26) -> 0 | M25: =(0.0006*Ilmanvaihtolaskelma!F26*Ilmanvaihtolaskelma!F26+0.124*Ilmanvaihtolaskelma!F26+2.6914)*SQRT(Ilmanvaihtolaskelma!G26) -> 0 | N25: =(0.3997*Ilmanvaihtolaskelma!F26 + 0.3421)*SQRT(Ilmanvaihtolaskelma!G26) -> 0 | O25: =(0.006*Ilmanvaihtolaskelma!F26^2 + 0.3161*Ilmanvaihtolaskelma!F26 + 0.8944)*SQRT(Ilmanvaihtolaskelma!G26) -> 0 | P25: =( -0.004*Ilmanvaihtolaskelma!F26^2 + 0.2431*Ilmanvaihtolaskelma!F26 + 0.5081)*SQRT(Ilmanvaihtolaskelma!G26) -> 0 | Q25: =(-0.0058*Ilmanvaihtolaskelma!F26^2 + 0.3221*Ilmanvaihtolaskelma!F26 + 0.835)*SQRT(Ilmanvaihtolaskelma!G26) -> 0 | R25: =( -0.01222*Ilmanvaihtolaskelma!F26^2 + 0.4069*Ilmanvaihtolaskelma!F26 + 0.2263)*SQRT(Ilmanvaihtolaskelma!G26) -> 0 | S25: =(-0.0134*Ilmanvaihtolaskelma!F26^2 + 0.4836*Ilmanvaihtolaskelma!F26 + 0.1744)*SQRT(Ilmanvaihtolaskelma!G26) -> 0 | T25: =0.3*Ilmanvaihtolaskelma!F26*SQRT(Ilmanvaihtolaskelma!G26) -> 0
B26: =IF(OR(Ilmanvaihtolaskelma!D26="KSO-100",Ilmanvaihtolaskelma!D26="KSO-125",Ilmanvaihtolaskelma!D26=""),"",1) | C26: =IF(OR(Ilmanvaihtolaskelma!D26="KSO-100",Ilmanvaihtolaskelma!D26="KSO-125"),1,"") | D26: =IF(OR(Ilmanvaihtolaskelma!D26="KSO-100",Ilmanvaihtolaskelma!D26="KSO-125",Ilmanvaihtolaskelma!D26=""),"",Ilmanvaihtolaskelma!H26) | E26: =IF(OR(Ilmanvaihtolaskelma!D26="KSO-100",Ilmanvaihtolaskelma!D26="KSO-125"),Ilmanvaihtolaskelma!H26,"") | F26: =IF(AND(Ilmanvaihtolaskelma!I26<>"",B26=1),1,"") | G26: =IF(AND(Ilmanvaihtolaskelma!I26<>"",C26=1),1,"") | H26: =IF(F26=1,Ilmanvaihtolaskelma!I26,"") | I26: =IF(AND(G26=1,C26=1),Ilmanvaihtolaskelma!I26,"") | J26: =IF(AND(Ilmanvaihtolaskelma!F26<>"",Ilmanvaihtolaskelma!G26<>""),IF(Ilmanvaihtolaskelma!D26=Laskut!$L$4,Laskut!L25,IF(Ilmanvaihtolaskelma!D26=Laskut!$M$4,Laskut!M25,IF(Ilmanvaihtolaskelma!D26=Laskut!$N$4,Laskut!N25,IF(Ilmanvaihtolaskelma!D26=Laskut!$O$4,Laskut!O25,IF(Ilmanvaihtolaskelma!D26=Laskut!$P$4,Laskut!P25,IF(Ilmanvaihtolaskelma!D26=Laskut!$Q$4,Laskut!Q25,IF(Ilmanvaihtolaskelma!D26=Laskut!$R$4,Laskut!R25,IF(Ilmanvaihtolaskelma!D26=Laskut!$S$4,Laskut!S25,IF(Ilmanvaihtolaskelma!D26=Laskut!$T$4,Laskut!T25,""))))))))),"")
B27: =SUM(B7:B7:B26) -> 7 | C27: =SUM(C7:C26) -> 7 | D27: =SUM(D7:D26) -> 62.824514 | E27: =SUM(E7:E26) -> 64.218238 | F27: =SUM(F7:F26) -> 7 | G27: =SUM(G7:G26) -> 7 | H27: =SUM(H7:H26) -> 62 | I27: =SUM(I7:I26) -> 65
C29: Johtopäätökset | L29: =L4 -> KSO-100 | M29: =M4 -> KSO-125 | N29: =N4 -> KTS-100 | O29: =O4 -> KTS-125 | P29: =P4 -> KTS-100 (suuntaava) | Q29: =Q4 -> KTS-125 (suuntaava) | R29: =R4 -> KTS-100 (s >06.2006) | S29: =S4 -> KTS-125 (s >06.2006) | T29: =T4 -> STQA-100/125
C30: mitattu | E30: =IF(AND(Ilmanvaihtolaskelma!H34<>"",Ilmanvaihtolaskelma!H30<>""),IF(Ilmanvaihtolaskelma!H34=Ilmanvaihtolaskelma!H30,1,IF(Ilmanvaihtolaskelma!H30<Ilmanvaihtolaskelma!H34,2,IF(Ilmanvaihtolaskelma!H30>Ilmanvaihtolaskelma!H34,3,"")))) -> 2 | F30: 1=samat | G30: 2=alip | H30: 3=ylip
E31: =ABS(Ilmanvaihtolaskelma!H30-Ilmanvaihtolaskelma!H34) -> 1.3937239 | F31: abs l/s ero | L31: =Ilmanvaihtolaskelma!$R$7/SQRT(Ilmanvaihtolaskelma!$Q$7)*11.022 - 20.705 -> 14.149624 | M31: =-0.3012*(Ilmanvaihtolaskelma!$R$7/SQRT(Ilmanvaihtolaskelma!$Q$7))^2 + 9.7134 *(Ilmanvaihtolaskelma!$R$7/SQRT(Ilmanvaihtolaskelma!$Q$7)) - 23.96 -> 3.7444678 | N31: =2.499*(Ilmanvaihtolaskelma!$R$7/SQRT(Ilmanvaihtolaskelma!$Q$7)) - 0.8471 -> 7.0554319 | O31: =-0.072*(Ilmanvaihtolaskelma!$R$7/SQRT(Ilmanvaihtolaskelma!$Q$7))^2 + 2.9879*(Ilmanvaihtolaskelma!$R$7/SQRT(Ilmanvaihtolaskelma!$Q$7)) - 2.3442 -> 6.3843694 | P31: =0.7445*(Ilmanvaihtolaskelma!$R$7/SQRT(Ilmanvaihtolaskelma!$Q$7))^2 + 2.48*(Ilmanvaihtolaskelma!$R$7/SQRT(Ilmanvaihtolaskelma!$Q$7)) - 1.0574 -> 14.230049 | Q31: =0.5833*(Ilmanvaihtolaskelma!$R$7/SQRT(Ilmanvaihtolaskelma!$Q$7))^2 + 0.9293*(Ilmanvaihtolaskelma!$R$7/SQRT(Ilmanvaihtolaskelma!$Q$7)) - 0.2609 -> 8.5108046 | R31: =0.7921*(Ilmanvaihtolaskelma!$R$7/SQRT(Ilmanvaihtolaskelma!$Q$7))^3 - 4.0196*(Ilmanvaihtolaskelma!$R$7/SQRT(Ilmanvaihtolaskelma!$Q$7))^2 + 9.5833*(Ilmanvaihtolaskelma!$R$7/SQRT(Ilmanvaihtolaskelma!$Q$7)) - 4.3404 -> 10.817057 | S31: =0.6853*(Ilmanvaihtolaskelma!$R$7/SQRT(Ilmanvaihtolaskelma!$Q$7))^3 - 5.4573*(Ilmanvaihtolaskelma!$R$7/SQRT(Ilmanvaihtolaskelma!$Q$7))^2 + 17.249*(Ilmanvaihtolaskelma!$R$7/SQRT(Ilmanvaihtolaskelma!$Q$7)) - 13.82 -> 7.8242162 | T31: =Ilmanvaihtolaskelma!R7/SQRT(Ilmanvaihtolaskelma!Q7)*3.33333333 -> 10.540926
E32: =ABS(Ilmanvaihtolaskelma!H34/Ilmanvaihtolaskelma!H30-1) -> 0.022184397 | F32: abs % ero
J33: lämpötila | L33: -30 | M33: -20 | N33: -10 | O33: 0 | P33: 10 | Q33: 20 | R33: 30
C34: suunniteltu | E34: =IF(AND(Ilmanvaihtolaskelma!I34<>"",Ilmanvaihtolaskelma!I30<>""),IF(Ilmanvaihtolaskelma!I34=Ilmanvaihtolaskelma!I30,1,IF(Ilmanvaihtolaskelma!I30<Ilmanvaihtolaskelma!I34,2,IF(Ilmanvaihtolaskelma!I30>Ilmanvaihtolaskelma!I34,3,"")))) -> 2 | F34: 1=samat | G34: 2=alip | H34: 3=ylip | J34: tiheys @RH 20% | L34: 1.4517 | M34: 1.3943 | N34: 1.3411 | O34: 1.2917 | P34: 1.2455 | Q34: 1.202 | R34: 1.1607
E35: =ABS(Ilmanvaihtolaskelma!I34-Ilmanvaihtolaskelma!I30) -> 3 | F35: abs l/s ero | L35: =0.00002*L33^2 - 0.0048*L33 + 1.2917 -> 1.4537 | M35: =0.00002*M33^2 - 0.0048*M33 + 1.2917 -> 1.3957 | N35: =0.00002*N33^2 - 0.0048*N33 + 1.2917 -> 1.3417 | O35: =0.00002*O33^2 - 0.0048*O33 + 1.2917 -> 1.2917 | P35: =0.00002*P33^2 - 0.0048*P33 + 1.2917 -> 1.2457 | Q35: =0.00002*Q33^2 - 0.0048*Q33 + 1.2917 -> 1.2037 | R35: =0.00002*R33^2 - 0.0048*R33 + 1.2917 -> 1.1657
E36: =ABS(Ilmanvaihtolaskelma!I34/Ilmanvaihtolaskelma!I30-1) -> 0.048387097 | F36: abs % ero
K37: virtaus | L37: lämpötila
K38: 9.264 | L38: -30
K39: =K38*SQRT((0.00002*20^2 - 0.0048*20 + 1.2917)/(0.00002*L38^2 - 0.0048*L38 + 1.2917)) -> 8.4298584
