Workbook

Sheet 2025
A1: SÄHKÖNKULUTUSRAPORTTI | D1: 2025
A3: Imatra omakotitalo 4H+K+S | D3: Asuinala | F3: 110 | G3: m2 | H3: Taloussähkö + LVV arvio | K3: 9.5 | L3: kWh/d
D4: Tilavuus | F4: =2.52*F3 -> 277.2 | G4: m3 | H4: Kesäkuukausien keskikulutus (ilman ILP) | K4: =(SUM(I9:K9)-SUM(I10:K10))/92 -> 10.059065 | L4: kWh/d
A6: Jakso | D6: Tammi | E6: Helmi | F6: Maalis | G6: Huhti | H6: Touko | I6: Kesä | J6: Heinä | K6: Elo | L6: Syys | M6: Loka | N6: Marras | O6: Joulu | P6: Yhteensä
D7: 31 | E7: 28 | F7: 31 | G7: 30 | H7: 31 | I7: 30 | J7: 31 | K7: 31 | L7: 30 | M7: 31 | N7: 30 | O7: 31 | P7: =SUM(D7:O7) -> 365
A8: 2025 | B8: Keskilämpötila | C8: oC | D8: -3.2 | E8: -4.7 | F8: 0.8 | G8: 4.6 | H8: 9.3 | I8: 14.3 | J8: 20.4 | K8: 15.3 | L8: 13.3 | M8: 5.9 | N8: 2.1 | O8: -0.4 | P8: =AVERAGE(D8:O8) -> 6.475
A9: 2025 | B9: Sähkö yhteensä | C9: kWh | D9: 958.97 | E9: 927.375 | F9: 797.732 | G9: 593.716 | H9: 501.628 | I9: 345.005 | J9: 318.679 | K9: 346.75 | L9: 392.885 | M9: 586.081 | N9: 780.391 | O9: 928.145 | P9: =SUM(D9:O9) -> 7477.357 | T9: Panan kuluttama sähkö yhteensä NZ25YKE
A10: 2025 | B10: Ilmalämpöpumppu, arvio | C10: kWh | D10: 296 | E10: 277 | F10: 186 | G10: 132 | H10: 81 | I10: 27 | J10: 31 | K10: 27 | L10: 52 | M10: 145 | N10: 176 | O10: 168 | P10: =SUM(D10:O10) -> 1598 | T10: =SUM(D10:O10)+'2024'!P10 -> 3484
A11: 2025 | B11: Lämmitystarveluku toteutunut | C11: Cd | D11: 625 | E11: 609 | F11: 501 | G11: 340 | H11: 174 | I11: 0 | J11: 0 | K11: 0 | L11: 79 | M11: 344 | N11: 447 | O11: 539 | P11: =SUM(D11:O11) -> 3658
A12: 2025 | B12: Lämmitystarveluku normivuosi | C12: Cd | D12: 759 | E12: 699 | F12: 621 | G12: 403 | H12: 165 | I12: 22 | J12: 5 | K12: 28 | L12: 184 | M12: 386 | N12: 546 | O12: 692 | P12: 4510
A13: 2025 | B13: Taloussähkö (arvio) | C13: kWh | D13: =$K$3*D7 -> 294.5 | E13: =$K$3*E7 -> 266 | F13: =$K$3*F7 -> 294.5 | G13: =$K$3*G7 -> 285 | H13: =$K$3*H7 -> 294.5 | I13: =$K$3*I7 -> 285 | J13: =$K$3*J7 -> 294.5 | K13: =$K$3*K7 -> 294.5 | ... O13: =$K$3*O7 -> 294.5 | P13: =SUM(D13:O13) -> 3467.5 | T13: =P12-P11 -> 852
A14: 2025 | B14: Lämmitys, sähköpatterit (arvio) | C14: kWh | D14: =D9-D13-D10 -> 368.47 | E14: =E9-E13-E10 -> 384.375 | F14: =F9-F13-F10 -> 317.232 | G14: =G9-G13-G10 -> 176.716 | H14: =H10 -> 81 | I14: =I10 -> 27 | J14: 0 | K14: 0 | L14: =L10 -> 52 | M14: =M10 -> 145 | N14: =N9-N13-N10 -> 319.391 | O14: =O9-O13-O10 -> 465.645 | P14: =SUM(D14:O14) -> 2336.829
A15: 2025 | B15: Sääkorjattu lämmityssähkö | C15: kWh | D15: =IF(D11=0,0,((D12/D11))*(D10+D14)) -> 806.93237 | E15: =IF(E11=0,0,((E12/E11))*(E10+E14)) -> 759.11515 | F15: =IF(F11=0,0,((F12/F11))*(F10+F14)) -> 623.76661 | G15: =IF(G11=0,0,((G12/G11))*(G10+G14)) -> 365.91926 | H15: =IF(H11=0,0,((H12/H11))*(H10+H14)) -> 153.62069 | I15: =I14 -> 27 | J15: =J14 -> 0 | K15: =K14 -> 0 | L15: =IF(L11=0,0,((L12/L11))*(L10+L14)) -> 242.22785 | M15: =IF(M11=0,0,((M12/M11))*(M10+M14)) -> 325.40698 | N15: =IF(N11=0,0,((N12/N11))*(N10+N14)) -> 605.10847 | O15: =IF(O11=0,0,((O12/O11))*(O10+O14)) -> 813.51083 | P15: =SUM(D15:O15) -> 4722.6082 | T15: =T13/P12 -> 0.18891353
A18: Kulutus päivässä | C18: kWh/d | D18: =D9/D7 -> 30.934516 | E18: =E9/E7 -> 33.120536 | F18: =F9/F7 -> 25.73329 | G18: =G9/G7 -> 19.790533 | H18: =H9/H7 -> 16.181548 | I18: =I9/I7 -> 11.500167 | J18: =J9/J7 -> 10.279968 | K18: =K9/K7 -> 11.185484 | ... O18: =O9/O7 -> 29.940161
B19: Kumulatiivinen kulutus | C19: kWh | D19: =SUM(D9) -> 958.97 | E19: =SUM($D$9:E9) -> 1886.345 | F19: =SUM($D$9:F9) -> 2684.077 | G19: =SUM($D$9:G9) -> 3277.793 | H19: =SUM($D$9:H9) -> 3779.421 | I19: =SUM($D$9:I9) -> 4124.426 | J19: =SUM($D$9:J9) -> 4443.105 | K19: =SUM($D$9:K9) -> 4789.855 | L19: =SUM($D$9:L9) -> 5182.74 | ... O19: =SUM($D$9:O9) -> 7477.357
B20: Kumulatiivinen kulutus ILP | C20: kWh | D20: =SUM(D10) -> 296 | E20: =SUM($D$10:E10) -> 573 | F20: =SUM($D$10:F10) -> 759 | G20: =SUM($D$10:G10) -> 891 | H20: =SUM($D$10:H10) -> 972 | I20: =SUM($D$10:I10) -> 999 | J20: =SUM($D$10:J10) -> 1030 | K20: =SUM($D$10:K10) -> 1057 | L20: =SUM($D$10:L10) -> 1109 | ... O20: =SUM($D$10:O10) -> 1598
B21: Kumulatiivinen kulutus lämmitys | C21: kWh | D21: =SUM(D14) -> 368.47 | E21: =SUM($D$14:E14) -> 752.845 | F21: =SUM($D$14:F14) -> 1070.077 | G21: =SUM($D$14:G14) -> 1246.793 | H21: =SUM($D$14:H14) -> 1327.793 | I21: =SUM($D$14:I14) -> 1354.793 | J21: =SUM($D$14:J14) -> 1354.793 | K21: =SUM($D$14:K14) -> 1354.793 | L21: =SUM($D$14:L14) -> 1406.793 | ... O21: =SUM($D$14:O14) -> 2336.829
A23: Lämmitys
B24: Lämmityksen osuus kulutuksesta | D24: =D14/D9 -> 0.38423517 | E24: =E14/E9 -> 0.41447634 | F24: =F14/F9 -> 0.39766739 | G24: =G14/G9 -> 0.29764399 | H24: =H14/H9 -> 0.16147424 | I24: =I14/I9 -> 0.078259735 | J24: =J14/J9 -> 0 | K24: =K14/K9 -> 0 | ... P24: =P14/P9 -> 0.31252072
B25: Sähkönkulutus lämmitykseen | C25: kWh/oCd | D25: =D14/D11 -> 0.589552 | E25: =E14/E11 -> 0.63115764 | F25: =F14/F11 -> 0.6331976 | G25: =G14/G11 -> 0.51975294 | H25: =H14/H11 -> 0.46551724 | I25: 0 | J25: 0 | K25: 0 | L25: =L14/L11 -> 0.65822785 | M25: =M14/M11 -> 0.42151163 | N25: =N14/N11 -> 0.71452125 | O25: =O14/O11 -> 0.86390538 | P25: =P14/P11 -> 0.63882695
B26: Sähkönkulutus lämmitykseen | C26: kWh/d | D26: =(D10+D14)/D7 -> 21.434516 | E26: =(E10+E14)/E7 -> 23.620536 | F26: =(F10+F14)/F7 -> 16.23329 | G26: =(G10+G14)/G7 -> 10.290533 | H26: =(H10+H14)/H7 -> 5.2258065 | I26: 0 | J26: 0 | K26: 0 | L26: =(L10+L14)/L7 -> 3.4666667 | M26: =(M10+M14)/M7 -> 9.3548387 | N26: =(N10+N14)/N7 -> 16.513033 | O26: =(O10+O14)/O7 -> 20.440161 | P26: =(P10+P14)/P7 -> 10.780353
B27: Norm sähkö lämmitykseen | C27: kWh/d | D27: =D15/D7 -> 26.030076 | E27: =E15/E7 -> 27.111255 | F27: =F15/F7 -> 20.121504 | G27: =G15/G7 -> 12.197309 | H27: =H15/H7 -> 4.9555061 | I27: 0 | J27: 0 | K27: 0 | L27: =L15/L7 -> 8.0742616 | M27: =M15/M7 -> 10.496999 | N27: =N15/N7 -> 20.170282 | O27: =O15/O7 -> 26.242285 | P27: =P15/P7 -> 12.938653
B28: Ominaislämmönkulutus | C28: kWh/m3 | D28: =(D10+D14)/$F$4 -> 2.3970779 | E28: =(E10+E14)/$F$4 -> 2.3859127 | F28: =(F10+F14)/$F$4 -> 1.8154113 | G28: =(G10+G14)/$F$4 -> 1.1136941 | H28: =(H10+H14)/$F$4 -> 0.58441558 | I28: 0 | J28: 0 | K28: 0 | L28: =(L10+L14)/$F$4 -> 0.37518038 | M28: =(M10+M14)/$F$4 -> 1.046176 | N28: =(N10+N14)/$F$4 -> 1.7871248 | O28: =(O10+O14)/$F$4 -> 2.2858766 | P28: =P14/$F$4 -> 8.430119
B29: Ominaislämmönkulutus | C29: kWh/m2 | D29: =(D10+D14)/$F$3 -> 6.0406364 | E29: =(E10+E14)/$F$3 -> 6.0125 | F29: =(F10+F14)/$F$3 -> 4.5748364 | G29: =(G10+G14)/$F$3 -> 2.8065091 | H29: =(H10+H14)/$F$3 -> 1.4727273 | I29: 0 | J29: 0 | K29: 0 | L29: =(L10+L14)/$F$3 -> 0.94545455 | M29: =(M10+M14)/$F$3 -> 2.6363636 | N29: =(N10+N14)/$F$3 -> 4.5035545 | O29: =(O10+O14)/$F$3 -> 5.7604091 | P29: =(P10+P14)/$F$3 -> 35.771173
B30: Norm lämmönkulutus | C30: kWh/m3 | D30: =D15/$F$4 -> 2.9110114 | E30: =E15/$F$4 -> 2.7385106 | F30: =F15/$F$4 -> 2.2502403 | G30: =G15/$F$4 -> 1.320055 | H30: =H15/$F$4 -> 0.55418719 | I30: 0 | J30: 0 | K30: 0 | L30: =L15/$F$4 -> 0.87383784 | M30: =M15/$F$4 -> 1.1739068 | N30: =N15/$F$4 -> 2.182931 | O30: =O15/$F$4 -> 2.9347433 | P30: =P15/$F$4 -> 17.036826
B31: Norm lämmönkulutus | C31: kWh/m2 | D31: =D15/$F$3 -> 7.3357488 | E31: =E15/$F$3 -> 6.9010468 | F31: =F15/$F$3 -> 5.6706056 | G31: =G15/$F$3 -> 3.3265387 | H31: =H15/$F$3 -> 1.3965517 | I31: 0 | J31: 0 | K31: 0 | L31: =L15/$F$3 -> 2.2020713 | M31: =M15/$F$3 -> 2.9582452 | N31: =N15/$F$3 -> 5.5009861 | O31: =O15/$F$3 -> 7.395553 | P31: =P15/$F$3 -> 42.932802
B32: Ominaislämmönkulutus | C32: Wh/m3/oCd | D32: =1000*D28/D11 -> 3.8353247 | E32: =1000*E28/E11 -> 3.9177548 | F32: =1000*F28/F11 -> 3.6235754 | G32: =1000*G28/G11 -> 3.2755708 | H32: =1000*H28/H11 -> 3.3587103 | I32: 0 | J32: 0 | K32: 0 | L32: =1000*L28/L11 -> 4.7491187 | M32: =1000*M28/M11 -> 3.0412094 | N32: =1000*N28/N11 -> 3.9980421 | O32: =1000*O28/O11 -> 4.2409585 | P32: =1000*P28/P11 -> 2.3045705
A34: Vuosikulutusarvio
B36: Lämmityssähkö ILPillä | D36: =4500*1.1 -> 4950 | E36: kWh | F36: =D36/$D$38 -> 0.58806059 | G36: Arvio lämmityssähkö ilman ILP | K36: ='2007'!D34 -> 8566 | L36: kWh | M36: Vuosikulutusarvio ilma ILP
B37: Taloussähkö | D37: =K3*365 -> 3467.5 | E37: kWh | F37: =D37/$D$38 -> 0.41193941 | G37: Arvio ILPin säästämästä sähköstä | K37: =K36-D36 -> 3616 | L37: kWh | N37: ='2007'!I36 -> 14540 | O37: kWh
B38: Yhteensä | D38: =SUM(D36:D37) -> 8417.5 | E38: kWh | G38: Säästöarvio lämmityssähkönkulutuksesta | K38: =K37/K36 -> 0.42213402
G39: Säästöarvio kokonaissähkönkulutuksesta | K39: =K37/(SUM(D37)+K36) -> 0.30049445
A49: ILP | D49: lukema | E49: päivät | F49: kulutus | G49: astepäivät
B50: 41633 | D50: 495.16
B51: 41645 | D51: 584.7 | E51: =DAYS360(B50,B51) -> 11 | F51: =(D51-D50)/E51 -> 8.14 | G51: 195 | H51: =(D51-D50)/G51 -> 0.45917949
B52: 41692 | D52: 1079.44 | E52: =DAYS360(B51,B52) -> 46 | F52: =(D52-D51)/E52 -> 10.755217 | G52: 1116 | H52: =(D52-D51)/G52 -> 0.44331541
B53: 41720 | D53: 1376.73 | E53: =DAYS360(B52,B53) -> 30 | F53: =(D53-D52)/E53 -> 9.9096667 | G53: 459 | H53: =(D53-D52)/G53 -> 0.64769063
B54: 41734 | D54: 1545.36 | E54: =DAYS360(B53,B54) -> 13 | F54: =(D54-D53)/E54 -> 12.971538 | G54: 173 | H54: =(D54-D53)/G54 -> 0.97473988 | N54: jäähdytys
B55: 41791 | D55: 2153 | E55: =DAYS360(B54,B55) -> 56 | F55: =(D55-D54)/E55 -> 10.850714 | G55: 537 | H55: =(D55-D54)/G55 -> 1.1315456 | L55: 41851 | N55: 2274.96 | O55: =N55-D57 -> 13.27
B56: 41814 | D56: 2233.47 | E56: =DAYS360(B55,B56) -> 23 | F56: =(D56-D55)/E56 -> 3.4986957 | G56: 78.2 | H56: =(D56-D55)/G56 -> 1.0290281
...

Sheet Sähkönkulutus

Sheet Norm.Lämmityssähkö

Sheet Ominaislämmönkulutus

Sheet Astepäiväkuvaaja

Sheet 2024
A1: SÄHKÖNKULUTUSRAPORTTI | D1: 2024
A3: Imatra omakotitalo 4H+K+S | D3: Asuinala | F3: 110 | G3: m2 | H3: Taloussähkö + LVV arvio | K3: 9.5 | L3: kWh/d
D4: Tilavuus | F4: =2.52*F3 -> 277.2 | G4: m3 | H4: Kesäkuukausien keskikulutus (ilman ILP) | K4: =(SUM(I9:K9)-SUM(I10:K10))/92 -> 9.0668152 | L4: kWh/d
A6: Jakso | D6: Tammi | E6: Helmi | F6: Maalis | G6: Huhti | H6: Touko | I6: Kesä | J6: Heinä | K6: Elo | L6: Syys | M6: Loka | N6: Marras | O6: Joulu | P6: Yhteensä
D7: 31 | E7: 29 | F7: 31 | G7: 30 | H7: 31 | I7: 30 | J7: 31 | K7: 31 | L7: 30 | M7: 31 | N7: 30 | O7: 31 | P7: =SUM(D7:O7) -> 366
A8: 2024 | B8: Keskilämpötila | C8: oC | D8: -10.1 | E8: -5.8 | F8: 0.2 | G8: 2.9 | H8: 13.2 | I8: 17.3 | J8: 18.9 | K8: 17 | L8: 14.7 | M8: 6.6 | N8: 1.2 | O8: -2.5 | P8: =AVERAGE(D8:O8) -> 6.1333333
A9: 2024 | B9: Sähkö yhteensä | C9: kWh | D9: 1213.469 | E9: 988.653 | F9: 762.225 | G9: 644.744 | H9: 409.399 | I9: 326.536 | J9: 287.843 | K9: 267.768 | L9: 313.996 | M9: 490.015 | N9: 723.791 | O9: 1011.066 | P9: =SUM(D9:O9) -> 7439.505 | T9: Panan kuluttama sähkö yhteensä NZ25YKE
A10: 2024 | B10: Ilmalämpöpumppu, arvio | C10: kWh | D10: 518 | E10: 317 | F10: 190 | G10: 141 | H10: 65 | I10: 23 | J10: 16 | K10: 9 | L10: 34 | M10: 144 | N10: 200 | O10: 229 | P10: =SUM(D10:O10) -> 1886 | T10: =SUM(D10:O10)+'2023'!O10 -> 2286
A11: 2024 | B11: Lämmitystarveluku toteutunut | C11: Cd | D11: 841 | E11: 660 | F11: 522 | G11: 414 | H11: 122 | I11: 0 | J11: 0 | K11: 0 | L11: 52 | M11: 318 | N11: 473 | O11: 604 | P11: =SUM(D11:O11) -> 4006
A12: 2024 | B12: Lämmitystarveluku normivuosi | C12: Cd | D12: 759 | E12: 699 | F12: 621 | G12: 403 | H12: 165 | I12: 22 | J12: 5 | K12: 28 | L12: 184 | M12: 386 | N12: 546 | O12: 692 | P12: 4510
A13: 2024 | B13: Taloussähkö (arvio) | C13: kWh | D13: =$K$3*D7 -> 294.5 | E13: =$K$3*E7 -> 275.5 | F13: =$K$3*F7 -> 294.5 | G13: =$K$3*G7 -> 285 | H13: =$K$3*H7 -> 294.5 | I13: =$K$3*I7 -> 285 | J13: =$K$3*J7 -> 294.5 | K13: =$K$3*K7 -> 294.5 | ... O13: =$K$3*O7 -> 294.5 | P13: =SUM(D13:O13) -> 3477 | T13: =P12-P11 -> 504
A14: 2024 | B14: Lämmitys, sähköpatterit (arvio) | C14: kWh | D14: =D9-D13-D10 -> 400.969 | E14: =E9-E13-E10 -> 396.153 | F14: =F9-F13-F10 -> 277.725 | G14: =G9-G13-G10 -> 218.744 | H14: =H10 -> 65 | I14: 0 | J14: 0 | K14: 0 | L14: =L10 -> 34 | M14: =M10 -> 144 | N14: =N9-N13-N10 -> 238.791 | O14: =O9-O13-O10 -> 487.566 | P14: =SUM(D14:O14) -> 2262.948
A15: 2024 | B15: Sääkorjattu lämmityssähkö | C15: kWh | D15: =IF(D11=0,0,((D12/D11))*(D10+D14)) -> 829.36679 | E15: =IF(E11=0,0,((E12/E11))*(E10+E14)) -> 755.29386 | F15: =IF(F11=0,0,((F12/F11))*(F10+F14)) -> 556.43147 | G15: =IF(G11=0,0,((G12/G11))*(G10+G14)) -> 350.18558 | H15: =IF(H11=0,0,((H12/H11))*(H10+H14)) -> 175.81967 | I15: =I14 -> 0 | J15: =J14 -> 0 | K15: =K14 -> 0 | L15: =IF(L11=0,0,((L12/L11))*(L10+L14)) -> 240.61538 | M15: =IF(M11=0,0,((M12/M11))*(M10+M14)) -> 349.58491 | N15: =IF(N11=0,0,((N12/N11))*(N10+N14)) -> 506.51139 | O15: =IF(O11=0,0,((O12/O11))*(O10+O14)) -> 820.96634 | P15: =SUM(D15:O15) -> 4584.7754 | T15: =T13/P12 -> 0.11175166
A18: Kulutus päivässä | C18: kWh/d | D18: =D9/D7 -> 39.144161 | E18: =E9/E7 -> 34.091483 | F18: =F9/F7 -> 24.587903 | G18: =G9/G7 -> 21.491467 | H18: =H9/H7 -> 13.206419 | I18: =I9/I7 -> 10.884533 | J18: =J9/J7 -> 9.2852581 | K18: =K9/K7 -> 8.6376774 | ... O18: =O9/O7 -> 32.615032
B19: Kumulatiivinen kulutus | C19: kWh | D19: =SUM(D9) -> 1213.469 | E19: =SUM($D$9:E9) -> 2202.122 | F19: =SUM($D$9:F9) -> 2964.347 | G19: =SUM($D$9:G9) -> 3609.091 | H19: =SUM($D$9:H9) -> 4018.49 | I19: =SUM($D$9:I9) -> 4345.026 | J19: =SUM($D$9:J9) -> 4632.869 | K19: =SUM($D$9:K9) -> 4900.637 | L19: =SUM($D$9:L9) -> 5214.633 | ... O19: =SUM($D$9:O9) -> 7439.505
B20: Kumulatiivinen kulutus ILP | C20: kWh | D20: =SUM(D10) -> 518 | E20: =SUM($D$10:E10) -> 835 | F20: =SUM($D$10:F10) -> 1025 | G20: =SUM($D$10:G10) -> 1166 | H20: =SUM($D$10:H10) -> 1231 | I20: =SUM($D$10:I10) -> 1254 | J20: =SUM($D$10:J10) -> 1270 | K20: =SUM($D$10:K10) -> 1279 | L20: =SUM($D$10:L10) -> 1313 | ... O20: =SUM($D$10:O10) -> 1886
B21: Kumulatiivinen kulutus lämmitys | C21: kWh | D21: =SUM(D14) -> 400.969 | E21: =SUM($D$14:E14) -> 797.122 | F21: =SUM($D$14:F14) -> 1074.847 | G21: =SUM($D$14:G14) -> 1293.591 | H21: =SUM($D$14:H14) -> 1358.591 | I21: =SUM($D$14:I14) -> 1358.591 | J21: =SUM($D$14:J14) -> 1358.591 | K21: =SUM($D$14:K14) -> 1358.591 | L21: =SUM($D$14:L14) -> 1392.591 | ... O21: =SUM($D$14:O14) -> 2262.948
A23: Lämmitys
B24: Lämmityksen osuus kulutuksesta | D24: =D14/D9 -> 0.33043201 | E24: =E14/E9 -> 0.40069974 | F24: =F14/F9 -> 0.36436092 | G24: =G14/G9 -> 0.33927264 | H24: =H14/H9 -> 0.15876932 | I24: =I14/I9 -> 0 | J24: =J14/J9 -> 0 | K24: =K14/K9 -> 0 | ... P24: =P14/P9 -> 0.30417992
B25: Sähkönkulutus lämmitykseen | C25: kWh/oCd | D25: =D14/D11 -> 0.47677646 | E25: =E14/E11 -> 0.60023182 | F25: =F14/F11 -> 0.53204023 | G25: =G14/G11 -> 0.52836715 | H25: =H14/H11 -> 0.53278689 | I25: 0 | J25: 0 | K25: 0 | L25: =L14/L11 -> 0.65384615 | M25: =M14/M11 -> 0.45283019 | N25: =N14/N11 -> 0.50484355 | O25: =O14/O11 -> 0.80722848 | P25: =P14/P11 -> 0.56488967
B26: Sähkönkulutus lämmitykseen | C26: kWh/d | D26: =(D10+D14)/D7 -> 29.644161 | E26: =(E10+E14)/E7 -> 24.591483 | F26: =(F10+F14)/F7 -> 15.087903 | G26: =(G10+G14)/G7 -> 11.991467 | H26: =(H10+H14)/H7 -> 4.1935484 | I26: 0 | J26: 0 | K26: 0 | L26: =(L10+L14)/L7 -> 2.2666667 | M26: =(M10+M14)/M7 -> 9.2903226 | N26: =(N10+N14)/N7 -> 14.626367 | O26: =(O10+O14)/O7 -> 23.115032 | P26: =(P10+P14)/P7 -> 11.335923
B27: Norm sähkö lämmitykseen | C27: kWh/d | D27: =D15/D7 -> 26.753767 | E27: =E15/E7 -> 26.044616 | F27: =F15/F7 -> 17.949402 | G27: =G15/G7 -> 11.672853 | H27: =H15/H7 -> 5.6716023 | I27: 0 | J27: 0 | K27: 0 | L27: =L15/L7 -> 8.0205128 | M27: =M15/M7 -> 11.276932 | N27: =N15/N7 -> 16.883713 | O27: =O15/O7 -> 26.482785 | P27: =P15/P7 -> 12.526709
B28: Ominaislämmönkulutus | C28: kWh/m3 | D28: =(D10+D14)/$F$4 -> 3.315184 | E28: =(E10+E14)/$F$4 -> 2.572702 | F28: =(F10+F14)/$F$4 -> 1.6873196 | G28: =(G10+G14)/$F$4 -> 1.2977778 | H28: =(H10+H14)/$F$4 -> 0.46897547 | I28: 0 | J28: 0 | K28: 0 | L28: =(L10+L14)/$F$4 -> 0.24531025 | M28: =(M10+M14)/$F$4 -> 1.038961 | N28: =(N10+N14)/$F$4 -> 1.5829401 | O28: =(O10+O14)/$F$4 -> 2.5850144 | P28: =P14/$F$4 -> 8.1635931
B29: Ominaislämmönkulutus | C29: kWh/m2 | D29: =(D10+D14)/$F$3 -> 8.3542636 | E29: =(E10+E14)/$F$3 -> 6.4832091 | F29: =(F10+F14)/$F$3 -> 4.2520455 | G29: =(G10+G14)/$F$3 -> 3.2704 | H29: =(H10+H14)/$F$3 -> 1.1818182 | I29: 0 | J29: 0 | K29: 0 | L29: =(L10+L14)/$F$3 -> 0.61818182 | M29: =(M10+M14)/$F$3 -> 2.6181818 | N29: =(N10+N14)/$F$3 -> 3.9890091 | O29: =(O10+O14)/$F$3 -> 6.5142364 | P29: =(P10+P14)/$F$3 -> 37.717709
B30: Norm lämmönkulutus | C30: kWh/m3 | D30: =D15/$F$4 -> 2.9919437 | E30: =E15/$F$4 -> 2.7247253 | F30: =F15/$F$4 -> 2.0073285 | G30: =G15/$F$4 -> 1.2632958 | H30: =H15/$F$4 -> 0.6342701 | I30: 0 | J30: 0 | K30: 0 | L30: =L15/$F$4 -> 0.86802087 | M30: =M15/$F$4 -> 1.2611288 | N30: =N15/$F$4 -> 1.8272417 | O30: =O15/$F$4 -> 2.961639 | P30: =P15/$F$4 -> 16.539594
B31: Norm lämmönkulutus | C31: kWh/m2 | D31: =D15/$F$3 -> 7.5396981 | E31: =E15/$F$3 -> 6.8663078 | F31: =F15/$F$3 -> 5.0584679 | G31: =G15/$F$3 -> 3.1835053 | H31: =H15/$F$3 -> 1.5983607 | I31: 0 | J31: 0 | K31: 0 | L31: =L15/$F$3 -> 2.1874126 | M31: =M15/$F$3 -> 3.1780446 | N31: =N15/$F$3 -> 4.604649 | O31: =O15/$F$3 -> 7.4633304 | P31: =P15/$F$3 -> 41.679776
B32: Ominaislämmönkulutus | C32: Wh/m3/oCd | D32: =1000*D28/D11 -> 3.9419548 | E32: =1000*E28/E11 -> 3.8980334 | F32: =1000*F28/F11 -> 3.2324131 | G32: =1000*G28/G11 -> 3.1347289 | H32: =1000*H28/H11 -> 3.8440612 | I32: 0 | J32: 0 | K32: 0 | L32: =1000*L28/L11 -> 4.7175047 | M32: =1000*M28/M11 -> 3.2671731 | N32: =1000*N28/N11 -> 3.3465964 | O32: =1000*O28/O11 -> 4.2798252 | P32: =1000*P28/P11 -> 2.0378415
A34: Vuosikulutusarvio
B36: Lämmityssähkö ILPillä | D36: =4500*1.1 -> 4950 | E36: kWh | F36: =D36/$D$38 -> 0.58806059 | G36: Arvio lämmityssähkö ilman ILP | K36: ='2007'!D34 -> 8566 | L36: kWh | M36: Vuosikulutusarvio ilma ILP
B37: Taloussähkö | D37: =K3*365 -> 3467.5 | E37: kWh | F37: =D37/$D$38 -> 0.41193941 | G37: Arvio ILPin säästämästä sähköstä | K37: =K36-D36 -> 3616 | L37: kWh | N37: ='2007'!I36 -> 14540 | O37: kWh
B38: Yhteensä | D38: =SUM(D36:D37) -> 8417.5 | E38: kWh | G38: Säästöarvio lämmityssähkönkulutuksesta | K38: =K37/K36 -> 0.42213402
G39: Säästöarvio kokonaissähkönkulutuksesta | K39: =K37/(SUM(D37)+K36) -> 0.30049445
A49: ILP | D49: lukema | E49: päivät | F49: kulutus | G49: astepäivät
B50: 41633 | D50: 495.16
B51: 41645 | D51: 584.7 | E51: =DAYS360(B50,B51) -> 11 | F51: =(D51-D50)/E51 -> 8.14 | G51: 195 | H51: =(D51-D50)/G51 -> 0.45917949
B52: 41692 | D52: 1079.44 | E52: =DAYS360(B51,B52) -> 46 | F52: =(D52-D51)/E52 -> 10.755217 | G52: 1116 | H52: =(D52-D51)/G52 -> 0.44331541
B53: 41720 | D53: 1376.73 | E53: =DAYS360(B52,B53) -> 30 | F53: =(D53-D52)/E53 -> 9.9096667 | G53: 459 | H53: =(D53-D52)/G53 -> 0.64769063
B54: 41734 | D54: 1545.36 | E54: =DAYS360(B53,B54) -> 13 | F54: =(D54-D53)/E54 -> 12.971538 | G54: 173 | H54: =(D54-D53)/G54 -> 0.97473988 | N54: jäähdytys
B55: 41791 | D55: 2153 | E55: =DAYS360(B54,B55) -> 56 | F55: =(D55-D54)/E55 -> 10.850714 | G55: 537 | H55: =(D55-D54)/G55 -> 1.1315456 | L55: 41851 | N55: 2274.96 | O55: =N55-D57 -> 13.27
B56: 41814 | D56: 2233.47 | E56: =DAYS360(B55,B56) -> 23 | F56: =(D56-D55)/E56 -> 3.4986957 | G56: 78.2 | H56: =(D56-D55)/G56 -> 1.0290281
...

Sheet 2023
A1: SÄHKÖNKULUTUSRAPORTTI | D1: 2023
A3: Imatra omakotitalo 4H+K+S | D3: Asuinala | F3: 110 | G3: m2 | H3: Taloussähkö arvio | K3: 11 | L3: kWh/d
D4: Tilavuus | F4: =2.52*F3 -> 277.2 | G4: m3 | H4: Kesäkuukausien keskikulutus (ilman ILP) | K4: =(SUM(I9:K9)-SUM(I10:K10))/92 -> 9.1568478 | L4: kWh/d
A6: Jakso | D6: Tammi | E6: Helmi | F6: Maalis | G6: Huhti | H6: Touko | I6: Kesä | J6: Heinä | K6: Elo | L6: Syys | M6: Loka | N6: Marras | O6: Joulu | P6: Yhteensä
D7: 31 | E7: 28 | F7: 31 | G7: 30 | H7: 31 | I7: 30 | J7: 31 | K7: 31 | L7: 30 | M7: 31 | N7: 30 | O7: 31 | P7: =SUM(D7:O7) -> 365
A8: 2023 | B8: Keskilämpötila | C8: oC | D8: -3.4 | E8: -4.4 | F8: -3 | G8: 4.8 | H8: 10.8 | I8: 16.1 | J8: 16.6 | K8: 17.4 | L8: 14.1 | M8: 3.1 | N8: -1.9 | O8: -7 | P8: =AVERAGE(D8:O8) -> 5.2666667
A9: 2023 | B9: Sähkö yhteensä | C9: kWh | D9: 1244 | E9: 1133 | F9: 1091 | G9: 654.28 | H9: 445.77 | I9: 324.36 | J9: 310.77 | K9: 296.3 | L9: 347.28 | M9: 675.47 | N9: 1044.23 | O9: 1130.68 | P9: =SUM(D9:O9) -> 8697.14 | R9: =SUM(N9:O9)+SUM('2022'!D9:M9) -> 9126.95 | T9: Panan kuluttama sähkö yhteensä E9DKEW
A10: 2023 | B10: Ilmalämpöpumppu, arvio | C10: kWh | D10: 250 | E10: 220 | F10: 280 | G10: 100 | H10: 102 | I10: 29 | J10: 30 | K10: 30 | L10: 50 | M10: 200 | N10: 150 | O10: 400 | P10: =SUM(D10:O10) -> 1841 | R10: =SUM(N10:O10)+SUM('2022'!D10:M10) -> 1875 | T10: =SUM(D10:N10)+'2022'!T10 -> 29591.231
A11: 2023 | B11: Lämmitystarveluku toteutunut | C11: Cd | D11: 632 | E11: 600 | F11: 619 | G11: 346 | H11: 122 | I11: 29 | J11: 0 | K11: 0 | L11: 32 | M11: 431 | N11: 566 | O11: 743 | P11: =SUM(D11:O11) -> 4120 | R11: =SUM(N11:O11)+SUM('2022'!D11:M11) -> 4324
A12: 2023 | B12: Lämmitystarveluku normivuosi | C12: Cd | D12: 759 | E12: 699 | F12: 621 | G12: 403 | H12: 165 | I12: 22 | J12: 5 | K12: 28 | L12: 184 | M12: 386 | N12: 546 | O12: 692 | P12: 4510
A13: 2023 | B13: Taloussähkö (arvio) | C13: kWh | D13: =$K$3*D7 -> 341 | E13: =$K$3*E7 -> 308 | F13: =$K$3*F7 -> 341 | G13: =$K$3*G7 -> 330 | H13: =$K$3*H7 -> 341 | I13: =$K$3*I7 -> 330 | J13: =$K$3*J7 -> 341 | K13: =$K$3*K7 -> 341 | ... O13: =$K$3*O7 -> 341 | P13: =SUM(D13:O13) -> 4015 | T13: =P12-P11 -> 390
A14: 2023 | B14: Lämmityssähkö (arvio) | C14: kWh | D14: =D9-D13 -> 903 | E14: =E9-E13 -> 825 | F14: =F9-F13 -> 750 | G14: =G9-G13 -> 324.28 | H14: =H9-H13 -> 104.77 | I14: 0 | J14: =J10 -> 30 | K14: =K10 -> 30 | L14: =L9-L13 -> 17.28 | M14: =M9-M13 -> 334.47 | N14: =N9-N13 -> 714.23 | O14: =O9-O13 -> 789.68 | P14: =SUM(D14:O14) -> 4822.71
A15: 2023 | B15: Sääkorjattu lämmityssähkö | C15: kWh | D15: =IF(D14<0,0,((D12/D11))*D14) -> 1084.4573 | E15: =IF(E14<0,0,((E12/E11))*E14) -> 961.125 | F15: =IF(F14<0,0,((F12/F11))*F14) -> 752.42326 | G15: =IF(G14<0,0,((G12/G11))*G14) -> 377.70185 | H15: =IF(H14<0,0,((H12/H11))*H14) -> 141.69713 | I15: =I14 -> 0 | J15: =J14 -> 30 | K15: =K14 -> 30 | L15: =IF(L14<0,0,((L12/L11))*L14) -> 99.36 | M15: =IF(M14<0,0,((M12/M11))*M14) -> 299.54854 | N15: =IF(N14<0,0,((N12/N11))*N14) -> 688.99219 | O15: =IF(O14<0,0,((O12/O11))*O14) -> 735.47585 | P15: =SUM(D15:O15) -> 5200.7811 | R15: =SUM(N15:O15)+SUM('2022'!D15:M15) -> 5449.8605 | T15: =T13/P12 -> 0.086474501
A18: Kulutus päivässä | C18: kWh/d | D18: =D9/D7 -> 40.129032 | E18: =E9/E7 -> 40.464286 | F18: =F9/F7 -> 35.193548 | G18: =G9/G7 -> 21.809333 | H18: =H9/H7 -> 14.379677 | I18: =I9/I7 -> 10.812 | J18: =J9/J7 -> 10.024839 | K18: =K9/K7 -> 9.5580645 | ... O18: =O9/O7 -> 36.473548
B19: Kumulatiivinen kulutus | C19: kWh | D19: =SUM(D9) -> 1244 | E19: =SUM($D$9:E9) -> 2377 | F19: =SUM($D$9:F9) -> 3468 | G19: =SUM($D$9:G9) -> 4122.28 | H19: =SUM($D$9:H9) -> 4568.05 | I19: =SUM($D$9:I9) -> 4892.41 | J19: =SUM($D$9:J9) -> 5203.18 | K19: =SUM($D$9:K9) -> 5499.48 | L19: =SUM($D$9:L9) -> 5846.76 | ... O19: =SUM($D$9:O9) -> 8697.14
B20: Kumulatiivinen kulutus ILP | C20: kWh | D20: =SUM(D10) -> 250 | E20: =SUM($D$10:E10) -> 470 | F20: =SUM($D$10:F10) -> 750 | G20: =SUM($D$10:G10) -> 850 | H20: =SUM($D$10:H10) -> 952 | I20: =SUM($D$10:I10) -> 981 | J20: =SUM($D$10:J10) -> 1011 | K20: =SUM($D$10:K10) -> 1041 | L20: =SUM($D$10:L10) -> 1091 | ... O20: =SUM($D$10:O10) -> 1841
B21: Kumulatiivinen kulutus lämmitys | C21: kWh | D21: =SUM(D14) -> 903 | E21: =SUM($D$14:E14) -> 1728 | F21: =SUM($D$14:F14) -> 2478 | G21: =SUM($D$14:G14) -> 2802.28 | H21: =SUM($D$14:H14) -> 2907.05 | I21: =SUM($D$14:I14) -> 2907.05 | J21: =SUM($D$14:J14) -> 2937.05 | K21: =SUM($D$14:K14) -> 2967.05 | L21: =SUM($D$14:L14) -> 2984.33 | ... O21: =SUM($D$14:O14) -> 4822.71
A23: Lämmitys
B24: Lämmityksen osuus kulutuksesta | D24: =D14/D9 -> 0.72588424 | E24: =E14/E9 -> 0.72815534 | F24: =F14/F9 -> 0.68744271 | G24: =G14/G9 -> 0.49562878 | H24: =H14/H9 -> 0.23503152 | I24: =I14/I9 -> 0 | J24: =J14/J9 -> 0.096534415 | K24: =K14/K9 -> 0.10124873 | ... P24: =P14/P9 -> 0.55451677
B25: Sähkönkulutus lämmitykseen | C25: kWh/oCd | D25: =D14/D11 -> 1.4287975 | E25: =E14/E11 -> 1.375 | F25: =F14/F11 -> 1.2116317 | G25: =G14/G11 -> 0.93722543 | H25: =H14/H11 -> 0.85877049 | I25: =I14/I11 -> 0 | J25: =J14/J11 -> #DIV/0! | K25: =K14/K11 -> #DIV/0! | ... P25: =P14/P11 -> 1.1705607
B26: Sähkönkulutus lämmitykseen | C26: kWh/d | D26: =D14/D7 -> 29.129032 | E26: =E14/E7 -> 29.464286 | F26: =F14/F7 -> 24.193548 | G26: =G14/G7 -> 10.809333 | H26: =H14/H7 -> 3.3796774 | I26: =I14/I7 -> 0 | J26: =J14/J7 -> 0.96774194 | K26: =K14/K7 -> 0.96774194 | ... P26: =P14/P7 -> 13.212904
B27: Norm sähkö lämmitykseen | C27: kWh/d | D27: =D15/D7 -> 34.982493 | E27: =E15/E7 -> 34.325893 | F27: =F15/F7 -> 24.271718 | G27: =G15/G7 -> 12.590062 | H27: =H15/H7 -> 4.5708752 | I27: =I15/I7 -> 0 | J27: =J15/J7 -> 0.96774194 | K27: =K15/K7 -> 0.96774194 | ... P27: =P15/P7 -> 14.248715
B28: Ominaislämmönkulutus | C28: kWh/m3 | D28: =D14/$F$4 -> 3.2575758 | E28: =E14/$F$4 -> 2.9761905 | F28: =F14/$F$4 -> 2.7056277 | G28: =G14/$F$4 -> 1.1698413 | H28: =H14/$F$4 -> 0.37795815 | I28: =I14/$F$4 -> 0 | J28: =J14/$F$4 -> 0.10822511 | K28: =K14/$F$4 -> 0.10822511 | ... P28: =P14/$F$4 -> 17.397944
B29: Ominaislämmönkulutus | C29: kWh/m2 | D29: =D14/$F$3 -> 8.2090909 | E29: =E14/$F$3 -> 7.5 | F29: =F14/$F$3 -> 6.8181818 | G29: =G14/$F$3 -> 2.948 | H29: =H14/$F$3 -> 0.95245455 | I29: =I14/$F$3 -> 0 | J29: =J14/$F$3 -> 0.27272727 | K29: =K14/$F$3 -> 0.27272727 | ... P29: =P14/$F$3 -> 43.842818
B30: Norm lämmönkulutus | C30: kWh/m3 | D30: =D15/$F$4 -> 3.9121835 | E30: =E15/$F$4 -> 3.4672619 | F30: =F15/$F$4 -> 2.7143696 | G30: =G15/$F$4 -> 1.3625608 | H30: =H15/$F$4 -> 0.51117291 | I30: =I15/$F$4 -> 0 | J30: =J15/$F$4 -> 0.10822511 | K30: =K15/$F$4 -> 0.10822511 | ... P30: =P15/$F$4 -> 18.761837
B31: Norm lämmönkulutus | C31: kWh/m2 | D31: =D15/$F$3 -> 9.8587025 | E31: =E15/$F$3 -> 8.7375 | F31: =F15/$F$3 -> 6.8402115 | G31: =G15/$F$3 -> 3.4336532 | H31: =H15/$F$3 -> 1.2881557 | I31: =I15/$F$3 -> 0 | J31: =J15/$F$3 -> 0.27272727 | K31: =K15/$F$3 -> 0.27272727 | ... P31: =P15/$F$3 -> 47.279828
B32: Ominaislämmönkulutus | C32: Wh/m3/oCd | D32: =1000*D28/D11 -> 5.154392 | E32: =1000*E28/E11 -> 4.9603175 | F32: =1000*F28/F11 -> 4.3709656 | G32: =1000*G28/G11 -> 3.3810441 | H32: =1000*H28/H11 -> 3.0980176 | I32: =1000*I28/I11 -> 0 | J32: =1000*J28/J11 -> #DIV/0! | K32: =1000*K28/K11 -> #DIV/0! | ... P32: =1000*P28/P11 -> 4.2228019
A34: Vuosikulutusarvio
B36: Lämmityssähkö ILPillä | D36: =4500*1.3 -> 5850 | E36: kWh | F36: =D36/$D$38 -> 0.59300558 | G36: Arvio lämmityssähkö ilman ILP | K36: ='2007'!D34 -> 8566 | L36: kWh | M36: Vuosikulutusarvio ilma ILP
B37: Taloussähkö | D37: =K3*365 -> 4015 | E37: kWh | F37: =D37/$D$38 -> 0.40699442 | G37: Arvio ILPin säästämästä sähköstä | K37: =K36-D36 -> 2716 | L37: kWh | N37: ='2007'!I36 -> 14540 | O37: kWh
B38: Yhteensä | D38: =SUM(D36:D37) -> 9865 | E38: kWh | G38: Säästöarvio lämmityssähkönkulutuksesta | K38: =K37/K36 -> 0.31706748
G39: Säästöarvio kokonaissähkönkulutuksesta | K39: =K37/(SUM(D37)+K36) -> 0.21588109
A49: ILP | D49: lukema | E49: päivät | F49: kulutus | G49: astepäivät
B50: 41633 | D50: 495.16
B51: 41645 | D51: 584.7 | E51: =DAYS360(B50,B51) -> 11 | F51: =(D51-D50)/E51 -> 8.14 | G51: 195 | H51: =(D51-D50)/G51 -> 0.45917949
B52: 41692 | D52: 1079.44 | E52: =DAYS360(B51,B52) -> 46 | F52: =(D52-D51)/E52 -> 10.755217 | G52: 1116 | H52: =(D52-D51)/G52 -> 0.44331541
B53: 41720 | D53: 1376.73 | E53: =DAYS360(B52,B53) -> 30 | F53: =(D53-D52)/E53 -> 9.9096667 | G53: 459 | H53: =(D53-D52)/G53 -> 0.64769063
B54: 41734 | D54: 1545.36 | E54: =DAYS360(B53,B54) -> 13 | F54: =(D54-D53)/E54 -> 12.971538 | G54: 173 | H54: =(D54-D53)/G54 -> 0.97473988 | N54: jäähdytys
B55: 41791 | D55: 2153 | E55: =DAYS360(B54,B55) -> 56 | F55: =(D55-D54)/E55 -> 10.850714 | G55: 537 | H55: =(D55-D54)/G55 -> 1.1315456 | L55: 41851 | N55: 2274.96 | O55: =N55-D57 -> 13.27
B56: 41814 | D56: 2233.47 | E56: =DAYS360(B55,B56) -> 23 | F56: =(D56-D55)/E56 -> 3.4986957 | G56: 78.2 | H56: =(D56-D55)/G56 -> 1.0290281
...

Sheet 2022
A1: SÄHKÖNKULUTUSRAPORTTI | D1: 2022
A3: Imatra omakotitalo 4H+K+S | D3: Asuinala | F3: 110 | G3: m2 | H3: Taloussähkö arvio | K3: 11 | L3: kWh/d
D4: Tilavuus | F4: =2.52*F3 -> 277.2 | G4: m3 | H4: Kesäkuukausien keskikulutus (ilman ILP) | K4: =(SUM(I9:K9)-SUM(I10:K10))/92 -> 9.6173913 | L4: kWh/d
A6: Jakso | D6: Tammi | E6: Helmi | F6: Maalis | G6: Huhti | H6: Touko | I6: Kesä | J6: Heinä | K6: Elo | L6: Syys | M6: Loka | N6: Marras | O6: Joulu | P6: Yhteensä
D7: 31 | E7: 28 | F7: 31 | G7: 30 | H7: 31 | I7: 30 | J7: 31 | K7: 31 | L7: 30 | M7: 31 | N7: 30 | O7: 31 | P7: =SUM(D7:O7) -> 365
A8: 2022 | B8: Keskilämpötila | C8: oC | D8: -5.6 | E8: -3.6 | F8: -1.2 | G8: 2.6 | H8: 9.1 | I8: 16.3 | J8: 18.1 | K8: 18.6 | L8: 9.1 | M8: 6.3 | N8: 0.5 | O8: -4.2 | P8: =AVERAGE(D8:O8) -> 5.5
A9: 2022 | B9: Sähkö yhteensä | C9: kWh | D9: 1460.36 | E9: 1107.88 | F9: 1084.04 | G9: 757.78 | H9: 490.43 | I9: 346.44 | J9: 332.2 | K9: 281.16 | L9: 478.08 | M9: 613.67 | N9: 863.13 | O9: 1289.09 | P9: =SUM(D9:O9) -> 9104.26
A10: 2022 | B10: Ilmalämpöpumppu, arvio | C10: kWh | D10: 160 | E10: 200 | F10: 310 | G10: 160 | H10: 80 | I10: 30 | J10: 20 | K10: 25 | L10: 140 | M10: 200 | N10: 250 | O10: 200 | P10: =SUM(D10:O10) -> 1775 | T10: =P10+'2021'!T10 -> 28150.231
A11: 2022 | B11: Lämmitystarveluku toteutunut | C11: oCd | D11: 700 | E11: 576 | F11: 565 | G11: 431 | H11: 169 | I11: 0 | J11: 0 | K11: 7 | L11: 236 | M11: 331 | N11: 495 | O11: 635 | P11: =SUM(D11:O11) -> 4145
A12: 2022 | B12: Lämmitystarveluku normivuosi | C12: oCd | D12: 759 | E12: 699 | F12: 621 | G12: 403 | H12: 165 | I12: 22 | J12: 5 | K12: 28 | L12: 184 | M12: 386 | N12: 546 | O12: 692 | P12: 4510
A13: 2022 | B13: Taloussähkö (arvio) | C13: kWh | D13: =$K$3*D7 -> 341 | E13: =$K$3*E7 -> 308 | F13: =$K$3*F7 -> 341 | G13: =$K$3*G7 -> 330 | H13: =$K$3*H7 -> 341 | I13: =$K$3*I7 -> 330 | J13: =$K$3*J7 -> 341 | K13: =$K$3*K7 -> 341 | ... O13: =$K$3*O7 -> 341 | P13: =SUM(D13:O13) -> 4015 | T13: =P12-P11 -> 365
A14: 2022 | B14: Lämmityssähkö (arvio) | C14: kWh | D14: =D9-D13 -> 1119.36 | E14: =E9-E13 -> 799.88 | F14: =F9-F13 -> 743.04 | G14: =G9-G13 -> 427.78 | H14: =H9-H13 -> 149.43 | I14: 0 | J14: =J10 -> 20 | K14: =K10 -> 25 | L14: =L9-L13 -> 148.08 | M14: =M9-M13 -> 272.67 | N14: =N9-N13 -> 533.13 | O14: =O9-O13 -> 948.09 | P14: =SUM(D14:O14) -> 5186.46
A15: 2022 | B15: Sääkorjattu lämmityssähkö | C15: kWh | D15: =IF(D14<0,0,((D12/D11))*D14) -> 1213.7061 | E15: =IF(E14<0,0,((E12/E11))*E14) -> 970.68771 | F15: =IF(F14<0,0,((F12/F11))*F14) -> 816.68644 | G15: =IF(G14<0,0,((G12/G11))*G14) -> 399.98919 | H15: =IF(H14<0,0,((H12/H11))*H14) -> 145.8932 | I15: =I14 -> 0 | J15: =J14 -> 20 | K15: =K14 -> 25 | L15: =IF(L14<0,0,((L12/L11))*L14) -> 115.4522 | M15: =IF(M14<0,0,((M12/M11))*M14) -> 317.9777 | N15: =IF(N14<0,0,((N12/N11))*N14) -> 588.05855 | O15: =IF(O14<0,0,((O12/O11))*O14) -> 1033.1941 | P15: =SUM(D15:O15) -> 5646.6452 | R15: =P14-P10 -> 3411.46 | T15: =T13/P12 -> 0.080931264
A18: Kulutus päivässä | C18: kWh/d | D18: =D9/D7 -> 47.108387 | E18: =E9/E7 -> 39.567143 | F18: =F9/F7 -> 34.969032 | G18: =G9/G7 -> 25.259333 | H18: =H9/H7 -> 15.820323 | I18: =I9/I7 -> 11.548 | J18: =J9/J7 -> 10.716129 | K18: =K9/K7 -> 9.0696774 | ... O18: =O9/O7 -> 41.583548
B19: Kumulatiivinen kulutus | C19: kWh | D19: =SUM(D9) -> 1460.36 | E19: =SUM($D$9:E9) -> 2568.24 | F19: =SUM($D$9:F9) -> 3652.28 | G19: =SUM($D$9:G9) -> 4410.06 | H19: =SUM($D$9:H9) -> 4900.49 | I19: =SUM($D$9:I9) -> 5246.93 | J19: =SUM($D$9:J9) -> 5579.13 | K19: =SUM($D$9:K9) -> 5860.29 | L19: =SUM($D$9:L9) -> 6338.37 | ... O19: =SUM($D$9:O9) -> 9104.26
B20: Kumulatiivinen kulutus ILP | C20: kWh | D20: =SUM(D10) -> 160 | E20: =SUM($D$10:E10) -> 360 | F20: =SUM($D$10:F10) -> 670 | G20: =SUM($D$10:G10) -> 830 | H20: =SUM($D$10:H10) -> 910 | I20: =SUM($D$10:I10) -> 940 | J20: =SUM($D$10:J10) -> 960 | K20: =SUM($D$10:K10) -> 985 | L20: =SUM($D$10:L10) -> 1125 | ... O20: =SUM($D$10:O10) -> 1775
B21: Kumulatiivinen kulutus lämmitys | C21: kWh | D21: =SUM(D14) -> 1119.36 | E21: =SUM($D$14:E14) -> 1919.24 | F21: =SUM($D$14:F14) -> 2662.28 | G21: =SUM($D$14:G14) -> 3090.06 | H21: =SUM($D$14:H14) -> 3239.49 | I21: =SUM($D$14:I14) -> 3239.49 | J21: =SUM($D$14:J14) -> 3259.49 | K21: =SUM($D$14:K14) -> 3284.49 | L21: =SUM($D$14:L14) -> 3432.57 | ... O21: =SUM($D$14:O14) -> 5186.46
A23: Lämmitys
B24: Lämmityksen osuus kulutuksesta | D24: =D14/D9 -> 0.76649593 | E24: =E14/E9 -> 0.72199155 | F24: =F14/F9 -> 0.68543596 | G24: =G14/G9 -> 0.56451741 | H24: =H14/H9 -> 0.3046918 | I24: =I14/I9 -> 0 | J24: =J14/J9 -> 0.060204696 | K24: =K14/K9 -> 0.088917342 | ... P24: =P14/P9 -> 0.56967398
B25: Sähkönkulutus lämmitykseen | C25: kWh/oCd | D25: =D14/D11 -> 1.5990857 | E25: =E14/E11 -> 1.3886806 | F25: =F14/F11 -> 1.315115 | G25: =G14/G11 -> 0.992529 | H25: =H14/H11 -> 0.88420118 | I25: =I14/I11 -> #DIV/0! | J25: =J14/J11 -> #DIV/0! | K25: =K14/K11 -> 3.5714286 | ... P25: =P14/P11 -> 1.2512569
B26: Sähkönkulutus lämmitykseen | C26: kWh/d | D26: =D14/D7 -> 36.108387 | E26: =E14/E7 -> 28.567143 | F26: =F14/F7 -> 23.969032 | G26: =G14/G7 -> 14.259333 | H26: =H14/H7 -> 4.8203226 | I26: =I14/I7 -> 0 | J26: =J14/J7 -> 0.64516129 | K26: =K14/K7 -> 0.80645161 | ... P26: =P14/P7 -> 14.209479
B27: Norm sähkö lämmitykseen | C27: kWh/d | D27: =D15/D7 -> 39.151808 | E27: =E15/E7 -> 34.667418 | F27: =F15/F7 -> 26.344724 | G27: =G15/G7 -> 13.332973 | H27: =H15/H7 -> 4.7062321 | I27: =I15/I7 -> 0 | J27: =J15/J7 -> 0.64516129 | K27: =K15/K7 -> 0.80645161 | ... P27: =P15/P7 -> 15.470261
B28: Ominaislämmönkulutus | C28: kWh/m3 | D28: =D14/$F$4 -> 4.0380952 | E28: =E14/$F$4 -> 2.88557 | F28: =F14/$F$4 -> 2.6805195 | G28: =G14/$F$4 -> 1.5432179 | H28: =H14/$F$4 -> 0.53906926 | I28: =I14/$F$4 -> 0 | J28: =J14/$F$4 -> 0.072150072 | K28: =K14/$F$4 -> 0.09018759 | ... P28: =P14/$F$4 -> 18.710173
B29: Ominaislämmönkulutus | C29: kWh/m2 | D29: =D14/$F$3 -> 10.176 | E29: =E14/$F$3 -> 7.2716364 | F29: =F14/$F$3 -> 6.7549091 | G29: =G14/$F$3 -> 3.8889091 | H29: =H14/$F$3 -> 1.3584545 | I29: =I14/$F$3 -> 0 | J29: =J14/$F$3 -> 0.18181818 | K29: =K14/$F$3 -> 0.22727273 | ... P29: =P14/$F$3 -> 47.149636
B30: Norm lämmönkulutus | C30: kWh/m3 | D30: =D15/$F$4 -> 4.378449 | E30: =E15/$F$4 -> 3.5017594 | F30: =F15/$F$4 -> 2.9461993 | G30: =G15/$F$4 -> 1.4429624 | H30: =H15/$F$4 -> 0.52631023 | I30: =I15/$F$4 -> 0 | J30: =J15/$F$4 -> 0.072150072 | K30: =K15/$F$4 -> 0.09018759 | ... P30: =P15/$F$4 -> 20.370293
B31: Norm lämmönkulutus | C31: kWh/m2 | D31: =D15/$F$3 -> 11.033691 | E31: =E15/$F$3 -> 8.8244337 | F31: =F15/$F$3 -> 7.4244222 | G31: =G15/$F$3 -> 3.6362653 | H31: =H15/$F$3 -> 1.3263018 | I31: =I15/$F$3 -> 0 | J31: =J15/$F$3 -> 0.18181818 | K31: =K15/$F$3 -> 0.22727273 | ... P31: =P15/$F$3 -> 51.333138
B32: Ominaislämmönkulutus | C32: Wh/m3/oCd | D32: =1000*D28/D11 -> 5.7687075 | E32: =1000*E28/E11 -> 5.0096701 | F32: =1000*F28/F11 -> 4.7442823 | G32: =1000*G28/G11 -> 3.580552 | H32: =1000*H28/H11 -> 3.189759 | I32: =1000*I28/I11 -> #DIV/0! | J32: =1000*J28/J11 -> #DIV/0! | K32: =1000*K28/K11 -> 12.883941 | ... P32: =1000*P28/P11 -> 4.5139139
A34: Vuosikulutusarvio
B36: Lämmityssähkö ILPillä | D36: =4500*1.3 -> 5850 | E36: kWh | F36: =D36/$D$38 -> 0.59300558 | G36: Arvio lämmityssähkö ilman ILP | K36: ='2007'!D34 -> 8566 | L36: kWh | M36: Vuosikulutusarvio ilma ILP
B37: Taloussähkö | D37: =K3*365 -> 4015 | E37: kWh | F37: =D37/$D$38 -> 0.40699442 | G37: Arvio ILPin säästämästä sähköstä | K37: =K36-D36 -> 2716 | L37: kWh | N37: ='2007'!I36 -> 14540 | O37: kWh
B38: Yhteensä | D38: =SUM(D36:D37) -> 9865 | E38: kWh | G38: Säästöarvio lämmityssähkönkulutuksesta | K38: =K37/K36 -> 0.31706748
G39: Säästöarvio kokonaissähkönkulutuksesta | K39: =K37/(SUM(D37)+K36) -> 0.21588109
A49: ILP | D49: lukema | E49: päivät | F49: kulutus | G49: astepäivät
B50: 41633 | D50: 495.16
B51: 41645 | D51: 584.7 | E51: =DAYS360(B50,B51) -> 11 | F51: =(D51-D50)/E51 -> 8.14 | G51: 195 | H51: =(D51-D50)/G51 -> 0.45917949
B52: 41692 | D52: 1079.44 | E52: =DAYS360(B51,B52) -> 46 | F52: =(D52-D51)/E52 -> 10.755217 | G52: 1116 | H52: =(D52-D51)/G52 -> 0.44331541
B53: 41720 | D53: 1376.73 | E53: =DAYS360(B52,B53) -> 30 | F53: =(D53-D52)/E53 -> 9.9096667 | G53: 459 | H53: =(D53-D52)/G53 -> 0.64769063
B54: 41734 | D54: 1545.36 | E54: =DAYS360(B53,B54) -> 13 | F54: =(D54-D53)/E54 -> 12.971538 | G54: 173 | H54: =(D54-D53)/G54 -> 0.97473988 | N54: jäähdytys
B55: 41791 | D55: 2153 | E55: =DAYS360(B54,B55) -> 56 | F55: =(D55-D54)/E55 -> 10.850714 | G55: 537 | H55: =(D55-D54)/G55 -> 1.1315456 | L55: 41851 | N55: 2274.96 | O55: =N55-D57 -> 13.27
B56: 41814 | D56: 2233.47 | E56: =DAYS360(B55,B56) -> 23 | F56: =(D56-D55)/E56 -> 3.4986957 | G56: 78.2 | H56: =(D56-D55)/G56 -> 1.0290281
...

Sheet 2021
A1: SÄHKÖNKULUTUSRAPORTTI | D1: 2021
A3: Imatra omakotitalo 4H+K+S | D3: Asuinala | F3: 110 | G3: m2 | H3: Taloussähkö arvio | K3: 11.4 | L3: kWh/d
D4: Tilavuus | F4: =2.52*F3 -> 277.2 | G4: m3 | H4: Kesäkuukausien keskikulutus (ilman ILP) | K4: =(SUM(I9:K9)-SUM(I10:K10))/92 -> 11.412283 | L4: kWh/d
A6: Jakso | D6: Tammi | E6: Helmi | F6: Maalis | G6: Huhti | H6: Touko | I6: Kesä | J6: Heinä | K6: Elo | L6: Syys | M6: Loka | N6: Marras | O6: Joulu | P6: Yhteensä
D7: 31 | E7: 28 | F7: 31 | G7: 30 | H7: 31 | I7: 30 | J7: 31 | K7: 31 | L7: 30 | M7: 31 | N7: 30 | O7: 31 | P7: =SUM(D7:O7) -> 365
A8: 2021 | B8: Keskilämpötila | C8: oC | D8: -5.9 | E8: -10.3 | F8: -2.6 | G8: 3.8 | H8: 10.1 | I8: 19.8 | J8: 21.2 | K8: 14.9 | L8: 8.5 | M8: 6.9 | N8: 0.6 | O8: -8.8 | P8: =AVERAGE(D8:O8) -> 4.85
A9: 2021 | B9: Sähkö yhteensä | C9: kWh | D9: 1371.52 | E9: 1595.42 | F9: 1179.06 | G9: 840.93 | H9: 591.4 | I9: 505.73 | J9: 338.91 | K9: 331.29 | L9: 486.31 | M9: 597.4 | N9: 881.95 | O9: 1723.54 | P9: =SUM(D9:O9) -> 10443.46 | R9: =SUM(D9:O9)+SUM('2020'!M9:O9) -> 13142.99
A10: 2021 | B10: Ilmalämpöpumppu, arvio | C10: kWh | D10: 130 | E10: 80 | F10: 280 | G10: 160 | H10: 110 | I10: 52 | J10: 44 | K10: 30 | L10: 140 | M10: 170 | N10: 180 | O10: 90 | P10: =SUM(D10:O10) -> 1466 | R10: =SUM(D10:O10)+SUM('2020'!N10:O10) -> 2066 | T10: =P10+'2020'!T10 -> 26375.231
A11: 2021 | B11: Lämmitystarveluku toteutunut | C11: oCd | D11: 709 | E11: 764 | F11: 606 | G11: 397 | H11: 216 | I11: 0 | J11: 0 | K11: 20 | L11: 244 | M11: 314 | N11: 492 | O11: 801 | P11: =SUM(D11:O11) -> 4563
A12: 2021 | B12: Lämmitystarveluku normivuosi | C12: oCd | D12: 759 | E12: 699 | F12: 621 | G12: 403 | H12: 165 | I12: 22 | J12: 5 | K12: 28 | L12: 184 | M12: 386 | N12: 546 | O12: 692 | P12: 4510
A13: 2021 | B13: Taloussähkö (arvio) | C13: kWh | D13: =$K$3*D7 -> 353.4 | E13: =$K$3*E7 -> 319.2 | F13: =$K$3*F7 -> 353.4 | G13: =$K$3*G7 -> 342 | H13: =$K$3*H7 -> 353.4 | I13: =$K$3*I7 -> 342 | J13: =$K$3*J7 -> 353.4 | K13: =$K$3*K7 -> 353.4 | ... O13: =$K$3*O7 -> 353.4 | P13: =SUM(D13:O13) -> 4161
A14: 2021 | B14: Lämmityssähkö (arvio) | C14: kWh | D14: =D9-D13 -> 1018.12 | E14: =E9-E13 -> 1276.22 | F14: =F9-F13 -> 825.66 | G14: =G9-G13 -> 498.93 | H14: =H9-H13 -> 238 | I14: 0 | J14: =J10 -> 44 | K14: =K10 -> 30 | L14: =L9-L13 -> 144.31 | M14: =M9-M13 -> 244 | N14: =N9-N13 -> 539.95 | O14: =O9-O13 -> 1370.14 | P14: =SUM(D14:O14) -> 6229.33
A15: 2021 | B15: Sääkorjattu lämmityssähkö | C15: kWh | D15: =IF(D14<0,0,((D12/D11))*D14) -> 1089.9197 | E15: =IF(E14<0,0,((E12/E11))*E14) -> 1167.6411 | F15: =IF(F14<0,0,((F12/F11))*F14) -> 846.09713 | G15: =IF(G14<0,0,((G12/G11))*G14) -> 506.4705 | H15: =IF(H14<0,0,((H12/H11))*H14) -> 181.80556 | I15: =I14 -> 0 | J15: =J14 -> 44 | K15: =K14 -> 30 | L15: =IF(L14<0,0,((L12/L11))*L14) -> 108.82393 | M15: =IF(M14<0,0,((M12/M11))*M14) -> 299.94904 | N15: =IF(N14<0,0,((N12/N11))*N14) -> 599.2128 | O15: =IF(O14<0,0,((O12/O11))*O14) -> 1183.6915 | P15: =SUM(D15:O15) -> 6057.6112 | R15: =P14-P10 -> 4763.33
A18: Kulutus päivässä | C18: kWh/d | D18: =D9/D7 -> 44.242581 | E18: =E9/E7 -> 56.979286 | F18: =F9/F7 -> 38.034194 | G18: =G9/G7 -> 28.031 | H18: =H9/H7 -> 19.077419 | I18: =I9/I7 -> 16.857667 | J18: =J9/J7 -> 10.932581 | K18: =K9/K7 -> 10.686774 | ... O18: =O9/O7 -> 55.598065
B19: Kumulatiivinen kulutus | C19: kWh | D19: =SUM(D9) -> 1371.52 | E19: =SUM($D$9:E9) -> 2966.94 | F19: =SUM($D$9:F9) -> 4146 | G19: =SUM($D$9:G9) -> 4986.93 | H19: =SUM($D$9:H9) -> 5578.33 | I19: =SUM($D$9:I9) -> 6084.06 | J19: =SUM($D$9:J9) -> 6422.97 | K19: =SUM($D$9:K9) -> 6754.26 | L19: =SUM($D$9:L9) -> 7240.57 | ... O19: =SUM($D$9:O9) -> 10443.46
B20: Kumulatiivinen kulutus ILP | C20: kWh | D20: =SUM(D10) -> 130 | E20: =SUM($D$10:E10) -> 210 | F20: =SUM($D$10:F10) -> 490 | G20: =SUM($D$10:G10) -> 650 | H20: =SUM($D$10:H10) -> 760 | I20: =SUM($D$10:I10) -> 812 | J20: =SUM($D$10:J10) -> 856 | K20: =SUM($D$10:K10) -> 886 | L20: =SUM($D$10:L10) -> 1026 | ... O20: =SUM($D$10:O10) -> 1466
B21: Kumulatiivinen kulutus lämmitys | C21: kWh | D21: =SUM(D14) -> 1018.12 | E21: =SUM($D$14:E14) -> 2294.34 | F21: =SUM($D$14:F14) -> 3120 | G21: =SUM($D$14:G14) -> 3618.93 | H21: =SUM($D$14:H14) -> 3856.93 | I21: =SUM($D$14:I14) -> 3856.93 | J21: =SUM($D$14:J14) -> 3900.93 | K21: =SUM($D$14:K14) -> 3930.93 | L21: =SUM($D$14:L14) -> 4075.24 | ... O21: =SUM($D$14:O14) -> 6229.33
A23: Lämmitys
B24: Lämmityksen osuus kulutuksesta | D24: =D14/D9 -> 0.74232968 | E24: =E14/E9 -> 0.79992729 | F24: =F14/F9 -> 0.70026971 | G24: =G14/G9 -> 0.59330741 | H24: =H14/H9 -> 0.4024349 | I24: =I14/I9 -> 0 | J24: =J14/J9 -> 0.12982798 | K24: =K14/K9 -> 0.090555103 | ... P24: =P14/P9 -> 0.59648143
B25: Sähkönkulutus lämmitykseen | C25: kWh/oCd | D25: =D14/D11 -> 1.4359944 | E25: =E14/E11 -> 1.670445 | F25: =F14/F11 -> 1.3624752 | G25: =G14/G11 -> 1.2567506 | H25: =H14/H11 -> 1.1018519 | I25: =I14/I11 -> #DIV/0! | J25: =J14/J11 -> #DIV/0! | K25: =K14/K11 -> 1.5 | ... P25: =P14/P11 -> 1.365183
B26: Sähkönkulutus lämmitykseen | C26: kWh/d | D26: =D14/D7 -> 32.842581 | E26: =E14/E7 -> 45.579286 | F26: =F14/F7 -> 26.634194 | G26: =G14/G7 -> 16.631 | H26: =H14/H7 -> 7.6774194 | I26: =I14/I7 -> 0 | J26: =J14/J7 -> 1.4193548 | K26: =K14/K7 -> 0.96774194 | ... P26: =P14/P7 -> 17.066658
B27: Norm sähkö lämmitykseen | C27: kWh/d | D27: =D15/D7 -> 35.158701 | E27: =E15/E7 -> 41.701467 | F27: =F15/F7 -> 27.293456 | G27: =G15/G7 -> 16.88235 | H27: =H15/H7 -> 5.8646953 | I27: =I15/I7 -> 0 | J27: =J15/J7 -> 1.4193548 | K27: =K15/K7 -> 0.96774194 | ... P27: =P15/P7 -> 16.596195
B28: Ominaislämmönkulutus | C28: kWh/m3 | D28: =D14/$F$4 -> 3.6728716 | E28: =E14/$F$4 -> 4.6039683 | F28: =F14/$F$4 -> 2.9785714 | G28: =G14/$F$4 -> 1.7998918 | H28: =H14/$F$4 -> 0.85858586 | I28: =I14/$F$4 -> 0 | J28: =J14/$F$4 -> 0.15873016 | K28: =K14/$F$4 -> 0.10822511 | ... P28: =P14/$F$4 -> 22.47233
B29: Ominaislämmönkulutus | C29: kWh/m2 | D29: =D14/$F$3 -> 9.2556364 | E29: =E14/$F$3 -> 11.602 | F29: =F14/$F$3 -> 7.506 | G29: =G14/$F$3 -> 4.5357273 | H29: =H14/$F$3 -> 2.1636364 | I29: =I14/$F$3 -> 0 | J29: =J14/$F$3 -> 0.4 | K29: =K14/$F$3 -> 0.27272727 | ... P29: =P14/$F$3 -> 56.630273
B30: Norm lämmönkulutus | C30: kWh/m3 | D30: =D15/$F$4 -> 3.9318893 | E30: =E15/$F$4 -> 4.2122694 | F30: =F15/$F$4 -> 3.0522984 | G30: =G15/$F$4 -> 1.8270942 | H30: =H15/$F$4 -> 0.6558642 | I30: =I15/$F$4 -> 0 | J30: =J15/$F$4 -> 0.15873016 | K30: =K15/$F$4 -> 0.10822511 | ... P30: =P15/$F$4 -> 21.852854
B31: Norm lämmönkulutus | C31: kWh/m2 | D31: =D15/$F$3 -> 9.9083611 | E31: =E15/$F$3 -> 10.614919 | F31: =F15/$F$3 -> 7.6917921 | G31: =G15/$F$3 -> 4.6042773 | H31: =H15/$F$3 -> 1.6527778 | I31: =I15/$F$3 -> 0 | J31: =J15/$F$3 -> 0.4 | K31: =K15/$F$3 -> 0.27272727 | ... P31: =P15/$F$3 -> 55.069193
B32: Ominaislämmönkulutus | C32: Wh/m3/oCd | D32: =1000*D28/D11 -> 5.1803548 | E32: =1000*E28/E11 -> 6.0261365 | F32: =1000*F28/F11 -> 4.9151344 | G32: =1000*G28/G11 -> 4.5337324 | H32: =1000*H28/H11 -> 3.9749345 | I32: =1000*I28/I11 -> #DIV/0! | J32: =1000*J28/J11 -> #DIV/0! | K32: =1000*K28/K11 -> 5.4112554 | ... P32: =1000*P28/P11 -> 4.9249026
A34: Vuosikulutusarvio
B36: Lämmityssähkö ILPillä | D36: =4400*1.3 -> 5720 | E36: kWh | F36: =D36/$D$38 -> 0.57888878 | G36: Arvio lämmityssähkö ilman ILP | K36: ='2007'!D34 -> 8566 | L36: kWh | M36: Vuosikulutusarvio ilma ILP
B37: Taloussähkö | D37: =K3*365 -> 4161 | E37: kWh | F37: =D37/$D$38 -> 0.42111122 | G37: Arvio ILPin säästämästä sähköstä | K37: =K36-D36 -> 2846 | L37: kWh | N37: ='2007'!I36 -> 14540 | O37: kWh
B38: Yhteensä | D38: =SUM(D36:D37) -> 9881 | E38: kWh | G38: Säästöarvio lämmityssähkönkulutuksesta | K38: =K37/K36 -> 0.33224375
G39: Säästöarvio kokonaissähkönkulutuksesta | K39: =K37/(SUM(D37)+K36) -> 0.22361908
A49: ILP | D49: lukema | E49: päivät | F49: kulutus | G49: astepäivät
B50: 41633 | D50: 495.16
B51: 41645 | D51: 584.7 | E51: =DAYS360(B50,B51) -> 11 | F51: =(D51-D50)/E51 -> 8.14 | G51: 195 | H51: =(D51-D50)/G51 -> 0.45917949
B52: 41692 | D52: 1079.44 | E52: =DAYS360(B51,B52) -> 46 | F52: =(D52-D51)/E52 -> 10.755217 | G52: 1116 | H52: =(D52-D51)/G52 -> 0.44331541
B53: 41720 | D53: 1376.73 | E53: =DAYS360(B52,B53) -> 30 | F53: =(D53-D52)/E53 -> 9.9096667 | G53: 459 | H53: =(D53-D52)/G53 -> 0.64769063
B54: 41734 | D54: 1545.36 | E54: =DAYS360(B53,B54) -> 13 | F54: =(D54-D53)/E54 -> 12.971538 | G54: 173 | H54: =(D54-D53)/G54 -> 0.97473988 | N54: jäähdytys
B55: 41791 | D55: 2153 | E55: =DAYS360(B54,B55) -> 56 | F55: =(D55-D54)/E55 -> 10.850714 | G55: 537 | H55: =(D55-D54)/G55 -> 1.1315456 | L55: 41851 | N55: 2274.96 | O55: =N55-D57 -> 13.27
B56: 41814 | D56: 2233.47 | E56: =DAYS360(B55,B56) -> 23 | F56: =(D56-D55)/E56 -> 3.4986957 | G56: 78.2 | H56: =(D56-D55)/G56 -> 1.0290281
...

Sheet 2020
A1: SÄHKÖNKULUTUSRAPORTTI | D1: 2020
A3: Imatra omakotitalo 4H+K+S | D3: Asuinala | F3: 110 | G3: m2 | H3: Taloussähkö arvio | K3: 11 | L3: kWh/d
D4: Tilavuus | F4: =2.52*F3 -> 277.2 | G4: m3 | H4: Kesäkuukausien keskikulutus (ilman ILP) | K4: =SUM(I9:K9)/92 -> 11.002283 | L4: kWh/d
A6: Jakso | D6: Tammi | E6: Helmi | F6: Maalis | G6: Huhti | H6: Touko | I6: Kesä | J6: Heinä | K6: Elo | L6: Syys | M6: Loka | N6: Marras | O6: Joulu | P6: Yhteensä
D7: 31 | E7: 29 | F7: 31 | G7: 30 | H7: 31 | I7: 30 | J7: 31 | K7: 31 | L7: 30 | M7: 31 | N7: 30 | O7: 31 | P7: =SUM(D7:O7) -> 366
A8: 2020 | B8: Keskilämpötila | C8: oC | D8: 0 | E8: -1.2 | F8: 0.6 | G8: 3 | H8: 9.1 | I8: 17.7 | J8: 16 | K8: 15.8 | L8: 12 | M8: 7.1 | N8: 2.6 | O8: -1.5 | P8: =AVERAGE(D8:O8) -> 6.7666667
A9: 2020 | B9: Sähkö yhteensä | C9: kWh | D9: 1019.05 | E9: 1074 | F9: 904 | G9: 682 | H9: 511.62 | I9: 353.88 | J9: 301.51 | K9: 356.82 | L9: 489.96 | M9: 655.96 | N9: 820.81 | O9: 1222.76 | P9: =SUM(D9:O9) -> 8392.37 | R9: =SUM(D9:M9)+SUM('2019'!N9:O9) -> 8108.19
A10: 2020 | B10: Ilmalämpöpumppu, arvio | C10: kWh | D10: =31*9.65 -> 299.15 | E10: 250 | F10: 250 | G10: 150 | H10: =4.5*31 -> 139.5 | I10: 40 | J10: 60 | K10: 30 | L10: 62 | M10: 150 | N10: 250 | O10: 350 | P10: =SUM(D10:O10) -> 2030.65 | R10: =SUM(D10:N10)+SUM('2019'!O10) -> 1973.6 | T10: =P10+'2019'!T10 -> 24909.231
A11: 2020 | B11: Lämmitystarveluku toteutunut | C11: oCd | D11: 526 | E11: 528 | F11: 510 | G11: 422 | H11: 211 | I11: 0 | J11: 0 | K11: 5 | L11: 98 | M11: 293 | N11: 433 | O11: 573 | P11: =SUM(D11:O11) -> 3599
A12: 2020 | B12: Lämmitystarveluku normivuosi | C12: oCd | D12: 759 | E12: 699 | F12: 621 | G12: 403 | H12: 165 | I12: 22 | J12: 5 | K12: 28 | L12: 184 | M12: 386 | N12: 546 | O12: 692 | P12: 4510
A13: 2020 | B13: Taloussähkö (arvio) | C13: kWh | D13: =$K$3*D7 -> 341 | E13: =$K$3*E7 -> 319 | F13: =$K$3*F7 -> 341 | G13: =$K$3*G7 -> 330 | H13: =$K$3*H7 -> 341 | I13: =$K$3*I7 -> 330 | J13: =$K$3*J7 -> 341 | K13: =$K$3*K7 -> 341 | ... O13: =$K$3*O7 -> 341 | P13: =SUM(D13:O13) -> 4026
A14: 2020 | B14: Lämmityssähkö (arvio) | C14: kWh | D14: =D9-D13 -> 678.05 | E14: =E9-E13 -> 755 | F14: =F9-F13 -> 563 | G14: =G9-G13 -> 352 | H14: =H9-H13 -> 170.62 | I14: =I10 -> 40 | J14: =J10 -> 60 | K14: =K10 -> 30 | L14: =L9-L13 -> 159.96 | M14: =M9-M13 -> 314.96 | N14: =N9-N13 -> 490.81 | O14: =O9-O13 -> 881.76 | P14: =SUM(D14:O14) -> 4496.16
A15: 2020 | B15: Sääkorjattu lämmityssähkö | C15: kWh | D15: =IF(D14<0,0,((D12/D11))*D14) -> 978.40295 | E15: =IF(E14<0,0,((E12/E11))*E14) -> 999.51705 | F15: =IF(F14<0,0,((F12/F11))*F14) -> 685.53529 | G15: =IF(G14<0,0,((G12/G11))*G14) -> 336.15166 | H15: =IF(H14<0,0,((H12/H11))*H14) -> 133.42322 | I15: =I14 -> 40 | J15: =J14 -> 60 | K15: =K14 -> 30 | L15: =IF(L14<0,0,((L12/L11))*L14) -> 300.33306 | M15: =IF(M14<0,0,((M12/M11))*M14) -> 414.93024 | N15: =IF(N14<0,0,((N12/N11))*N14) -> 618.89667 | O15: =IF(O14<0,0,((O12/O11))*O14) -> 1064.8829 | P15: =SUM(D15:O15) -> 5662.0731 | R15: =P14-P10 -> 2465.51
A18: Kulutus päivässä | C18: kWh/d | D18: =D9/D7 -> 32.872581 | E18: =E9/E7 -> 37.034483 | F18: =F9/F7 -> 29.16129 | G18: =G9/G7 -> 22.733333 | H18: =H9/H7 -> 16.503871 | I18: =I9/I7 -> 11.796 | J18: =J9/J7 -> 9.726129 | K18: =K9/K7 -> 11.510323 | ... O18: =O9/O7 -> 39.443871
B19: Kumulatiivinen kulutus | C19: kWh | D19: =SUM(D9) -> 1019.05 | E19: =SUM($D$9:E9) -> 2093.05 | F19: =SUM($D$9:F9) -> 2997.05 | G19: =SUM($D$9:G9) -> 3679.05 | H19: =SUM($D$9:H9) -> 4190.67 | I19: =SUM($D$9:I9) -> 4544.55 | J19: =SUM($D$9:J9) -> 4846.06 | K19: =SUM($D$9:K9) -> 5202.88 | L19: =SUM($D$9:L9) -> 5692.84 | ... O19: =SUM($D$9:O9) -> 8392.37
B20: Kumulatiivinen kulutus ILP | C20: kWh | D20: =SUM(D10) -> 299.15 | E20: =SUM($D$10:E10) -> 549.15 | F20: =SUM($D$10:F10) -> 799.15 | G20: =SUM($D$10:G10) -> 949.15 | H20: =SUM($D$10:H10) -> 1088.65 | I20: =SUM($D$10:I10) -> 1128.65 | J20: =SUM($D$10:J10) -> 1188.65 | K20: =SUM($D$10:K10) -> 1218.65 | L20: =SUM($D$10:L10) -> 1280.65 | ... O20: =SUM($D$10:O10) -> 2030.65
B21: Kumulatiivinen kulutus lämmitys | C21: kWh | D21: =SUM(D14) -> 678.05 | E21: =SUM($D$14:E14) -> 1433.05 | F21: =SUM($D$14:F14) -> 1996.05 | G21: =SUM($D$14:G14) -> 2348.05 | H21: =SUM($D$14:H14) -> 2518.67 | I21: =SUM($D$14:I14) -> 2558.67 | J21: =SUM($D$14:J14) -> 2618.67 | K21: =SUM($D$14:K14) -> 2648.67 | L21: =SUM($D$14:L14) -> 2808.63 | ... O21: =SUM($D$14:O14) -> 4496.16
A23: Lämmitys
B24: Lämmityksen osuus kulutuksesta | D24: =D14/D9 -> 0.66537461 | E24: =E14/E9 -> 0.70297952 | F24: =F14/F9 -> 0.62278761 | G24: =G14/G9 -> 0.51612903 | H24: =H14/H9 -> 0.3334897 | I24: =I14/I9 -> 0.11303267 | J24: =J14/J9 -> 0.19899837 | K24: =K14/K9 -> 0.084076005 | ... P24: =P14/P9 -> 0.53574378
B25: Sähkönkulutus lämmitykseen | C25: kWh/oCd | D25: =D14/D11 -> 1.2890684 | E25: =E14/E11 -> 1.4299242 | F25: =F14/F11 -> 1.1039216 | G25: =G14/G11 -> 0.83412322 | H25: =H14/H11 -> 0.80862559 | I25: =I14/I11 -> #DIV/0! | J25: =J14/J11 -> #DIV/0! | K25: =K14/K11 -> 6 | ... P25: =P14/P11 -> 1.2492804
B26: Sähkönkulutus lämmitykseen | C26: kWh/d | D26: =D14/D7 -> 21.872581 | E26: =E14/E7 -> 26.034483 | F26: =F14/F7 -> 18.16129 | G26: =G14/G7 -> 11.733333 | H26: =H14/H7 -> 5.503871 | I26: =I14/I7 -> 1.3333333 | J26: =J14/J7 -> 1.9354839 | K26: =K14/K7 -> 0.96774194 | ... P26: =P14/P7 -> 12.28459
B27: Norm sähkö lämmitykseen | C27: kWh/d | D27: =D15/D7 -> 31.561385 | E27: =E15/E7 -> 34.466105 | F27: =F15/F7 -> 22.114042 | G27: =G15/G7 -> 11.205055 | H27: =H15/H7 -> 4.3039749 | I27: =I15/I7 -> 1.3333333 | J27: =J15/J7 -> 1.9354839 | K27: =K15/K7 -> 0.96774194 | ... P27: =P15/P7 -> 15.470145
B28: Ominaislämmönkulutus | C28: kWh/m3 | D28: =D14/$F$4 -> 2.4460678 | E28: =E14/$F$4 -> 2.7236652 | F28: =F14/$F$4 -> 2.0310245 | G28: =G14/$F$4 -> 1.2698413 | H28: =H14/$F$4 -> 0.61551227 | I28: =I14/$F$4 -> 0.14430014 | J28: =J14/$F$4 -> 0.21645022 | K28: =K14/$F$4 -> 0.10822511 | ... P28: =P14/$F$4 -> 16.219913
B29: Ominaislämmönkulutus | C29: kWh/m2 | D29: =D14/$F$3 -> 6.1640909 | E29: =E14/$F$3 -> 6.8636364 | F29: =F14/$F$3 -> 5.1181818 | G29: =G14/$F$3 -> 3.2 | H29: =H14/$F$3 -> 1.5510909 | I29: =I14/$F$3 -> 0.36363636 | J29: =J14/$F$3 -> 0.54545455 | K29: =K14/$F$3 -> 0.27272727 | ... P29: =P14/$F$3 -> 40.874182
B30: Norm lämmönkulutus | C30: kWh/m3 | D30: =D15/$F$4 -> 3.5295922 | E30: =E15/$F$4 -> 3.6057613 | F30: =F15/$F$4 -> 2.473071 | G30: =G15/$F$4 -> 1.2126683 | H30: =H15/$F$4 -> 0.48132476 | I30: =I15/$F$4 -> 0.14430014 | J30: =J15/$F$4 -> 0.21645022 | K30: =K15/$F$4 -> 0.10822511 | ... P30: =P15/$F$4 -> 20.425949
B31: Norm lämmönkulutus | C31: kWh/m2 | D31: =D15/$F$3 -> 8.8945722 | E31: =E15/$F$3 -> 9.0865186 | F31: =F15/$F$3 -> 6.232139 | G31: =G15/$F$3 -> 3.0559242 | H31: =H15/$F$3 -> 1.2129384 | I31: =I15/$F$3 -> 0.36363636 | J31: =J15/$F$3 -> 0.54545455 | K31: =K15/$F$3 -> 0.27272727 | ... P31: =P15/$F$3 -> 51.473392
B32: Ominaislämmönkulutus | C32: Wh/m3/oCd | D32: =1000*D28/D11 -> 4.6503191 | E32: =1000*E28/E11 -> 5.1584569 | F32: =1000*F28/F11 -> 3.982401 | G32: =1000*G28/G11 -> 3.0091025 | H32: =1000*H28/H11 -> 2.9171197 | I32: =1000*I28/I11 -> #DIV/0! | J32: =1000*J28/J11 -> #DIV/0! | K32: =1000*K28/K11 -> 21.645022 | ... P32: =1000*P28/P11 -> 4.5067834
A34: Vuosikulutusarvio
B36: Lämmityssähkö ILPillä | D36: =4400*1.3 -> 5720 | E36: kWh | F36: =D36/$D$38 -> 0.58757062 | G36: Arvio lämmityssähkö ilman ILP | K36: ='2007'!D34 -> 8566 | L36: kWh | M36: Vuosikulutusarvio ilma ILP
B37: Taloussähkö | D37: =K3*365 -> 4015 | E37: kWh | F37: =D37/$D$38 -> 0.41242938 | G37: Arvio ILPin säästämästä sähköstä | K37: =K36-D36 -> 2846 | L37: kWh | N37: ='2007'!I36 -> 14540 | O37: kWh
B38: Yhteensä | D38: =SUM(D36:D37) -> 9735 | E38: kWh | G38: Säästöarvio lämmityssähkönkulutuksesta | K38: =K37/K36 -> 0.33224375
G39: Säästöarvio kokonaissähkönkulutuksesta | K39: =K37/(SUM(D37)+K36) -> 0.22621413
A49: ILP | D49: lukema | E49: päivät | F49: kulutus | G49: astepäivät
B50: 41633 | D50: 495.16
B51: 41645 | D51: 584.7 | E51: =DAYS360(B50,B51) -> 11 | F51: =(D51-D50)/E51 -> 8.14 | G51: 195 | H51: =(D51-D50)/G51 -> 0.45917949
B52: 41692 | D52: 1079.44 | E52: =DAYS360(B51,B52) -> 46 | F52: =(D52-D51)/E52 -> 10.755217 | G52: 1116 | H52: =(D52-D51)/G52 -> 0.44331541
B53: 41720 | D53: 1376.73 | E53: =DAYS360(B52,B53) -> 30 | F53: =(D53-D52)/E53 -> 9.9096667 | G53: 459 | H53: =(D53-D52)/G53 -> 0.64769063
B54: 41734 | D54: 1545.36 | E54: =DAYS360(B53,B54) -> 13 | F54: =(D54-D53)/E54 -> 12.971538 | G54: 173 | H54: =(D54-D53)/G54 -> 0.97473988 | N54: jäähdytys
B55: 41791 | D55: 2153 | E55: =DAYS360(B54,B55) -> 56 | F55: =(D55-D54)/E55 -> 10.850714 | G55: 537 | H55: =(D55-D54)/G55 -> 1.1315456 | L55: 41851 | N55: 2274.96 | O55: =N55-D57 -> 13.27
B56: 41814 | D56: 2233.47 | E56: =DAYS360(B55,B56) -> 23 | F56: =(D56-D55)/E56 -> 3.4986957 | G56: 78.2 | H56: =(D56-D55)/G56 -> 1.0290281
...

Sheet 2019
A1: SÄHKÖNKULUTUSRAPORTTI | D1: 2019
A3: Imatra omakotitalo 4H+K+S | D3: Asuinala | F3: 110 | G3: m2 | H3: Taloussähkö arvio | K3: 11 | L3: kWh/d
D4: Tilavuus | F4: =2.52*F3 -> 277.2 | G4: m3 | H4: Kesäkuukausien keskikulutus (ilman ILP) | K4: =SUM(I9:K9)/92 -> 10.879783 | L4: kWh/d
A6: Jakso | D6: Tammi | E6: Helmi | F6: Maalis | G6: Huhti | H6: Touko | I6: Kesä | J6: Heinä | K6: Elo | L6: Syys | M6: Loka | N6: Marras | O6: Joulu | P6: Yhteensä
D7: 31 | E7: 28 | F7: 31 | G7: 30 | H7: 31 | I7: 30 | J7: 31 | K7: 31 | L7: 30 | M7: 31 | N7: 30 | O7: 31 | P7: =SUM(D7:O7) -> 365
A8: 2019 | B8: Keskilämpötila | C8: oC | D8: -8.5 | E8: -2 | F8: -1.6 | G8: 5.5 | H8: 9.8 | I8: 17.4 | J8: 15.8 | K8: 15.5 | L8: 10.3 | M8: 3.7 | N8: 0.3 | O8: -0.1 | P8: =AVERAGE(D8:O8) -> 5.5083333
A9: 2019 | B9: Sähkö yhteensä | C9: kWh | D9: 1679.28 | E9: 1103.17 | F9: 979.68 | G9: 624.48 | H9: 504.01 | I9: 347.01 | J9: 340.28 | K9: 313.65 | L9: 432.32 | M9: 679.98 | N9: 822.78 | O9: 936.61 | P9: =SUM(D9:O9) -> 8763.25 | R9: =SUM(D9:O9)+SUM('2018'!O9) -> 9963.99
A10: 2019 | B10: Ilmalämpöpumppu, arvio | C10: kWh | D10: 35 | E10: 63 | F10: 300 | G10: 196.6 | H10: 143 | I10: 40 | J10: 45 | K10: 40 | L10: 122 | M10: 220 | N10: 320 | O10: =9.45*31 -> 292.95 | P10: =SUM(D10:O10) -> 1817.55 | R10: =SUM(D10:O10)+SUM('2018'!O10) -> 2143.05 | T10: =P10+'2018'!P10+'2017'!P10+'2016'!P12+'2015'!P12+'2014'!P12+'2013'!P12+'2012'!P12+'2011'!P12+'2010'!P12+'2009'!P12+'2008'!P12 -> 22878.581
A11: 2019 | B11: Lämmitystarveluku toteutunut | C11: oCd | D11: 791 | E11: 532 | F11: 576 | G11: 325 | H11: 174 | I11: 0 | J11: 23 | K11: 11 | L11: 176 | M11: 411 | N11: 502 | O11: 530 | P11: =SUM(D11:O11) -> 4051
A12: 2019 | B12: Lämmitystarveluku normivuosi | C12: oCd | D12: 759 | E12: 699 | F12: 621 | G12: 403 | H12: 165 | I12: 22 | J12: 5 | K12: 28 | L12: 184 | M12: 386 | N12: 546 | O12: 692 | P12: 4510
A13: 2019 | B13: Taloussähkö (arvio) | C13: kWh | D13: =$K$3*D7 -> 341 | E13: =$K$3*E7 -> 308 | F13: =$K$3*F7 -> 341 | G13: =$K$3*G7 -> 330 | H13: =$K$3*H7 -> 341 | I13: =$K$3*I7 -> 330 | J13: =$K$3*J7 -> 341 | K13: =$K$3*K7 -> 341 | ... O13: =$K$3*O7 -> 341 | P13: =SUM(D13:O13) -> 4015
A14: 2019 | B14: Lämmityssähkö (arvio) | C14: kWh | D14: =D9-D13 -> 1338.28 | E14: =E9-E13 -> 795.17 | F14: =F9-F13 -> 638.68 | G14: =G9-G13 -> 294.48 | H14: =H9-H13 -> 163.01 | I14: =I10 -> 40 | J14: =J10 -> 45 | K14: =K10 -> 40 | L14: =L9-L13 -> 102.32 | M14: =M9-M13 -> 338.98 | N14: =N9-N13 -> 492.78 | O14: =O9-O13 -> 595.61 | P14: =SUM(D14:O14) -> 4884.31
A15: 2019 | B15: Sääkorjattu lämmityssähkö | C15: kWh | D15: =IF(D14<0,0,((D12/D11))*D14) -> 1284.1397 | E15: =IF(E14<0,0,((E12/E11))*E14) -> 1044.7816 | F15: =IF(F14<0,0,((F12/F11))*F14) -> 688.57687 | G15: =IF(G14<0,0,((G12/G11))*G14) -> 365.1552 | H15: =IF(H14<0,0,((H12/H11))*H14) -> 154.57845 | I15: =I14 -> 40 | J15: =J14 -> 45 | K15: =K14 -> 40 | L15: =IF(L14<0,0,((L12/L11))*L14) -> 106.97091 | M15: =IF(M14<0,0,((M12/M11))*M14) -> 318.36078 | N15: =IF(N14<0,0,((N12/N11))*N14) -> 535.97187 | O15: =IF(O14<0,0,((O12/O11))*O14) -> 777.66438 | P15: =SUM(D15:O15) -> 5401.1998 | R15: =P14-P10 -> 3066.76
A18: Kulutus päivässä | C18: kWh/d | D18: =D9/D7 -> 54.170323 | E18: =E9/E7 -> 39.398929 | F18: =F9/F7 -> 31.602581 | G18: =G9/G7 -> 20.816 | H18: =H9/H7 -> 16.258387 | I18: =I9/I7 -> 11.567 | J18: =J9/J7 -> 10.976774 | K18: =K9/K7 -> 10.117742 | ... O18: =O9/O7 -> 30.213226
B19: Kumulatiivinen kulutus | C19: kWh | D19: =SUM(D9) -> 1679.28 | E19: =SUM($D$9:E9) -> 2782.45 | F19: =SUM($D$9:F9) -> 3762.13 | G19: =SUM($D$9:G9) -> 4386.61 | H19: =SUM($D$9:H9) -> 4890.62 | I19: =SUM($D$9:I9) -> 5237.63 | J19: =SUM($D$9:J9) -> 5577.91 | K19: =SUM($D$9:K9) -> 5891.56 | L19: =SUM($D$9:L9) -> 6323.88 | ... O19: =SUM($D$9:O9) -> 8763.25
B20: Kumulatiivinen kulutus ILP | C20: kWh | D20: =SUM(D10) -> 35 | E20: =SUM($D$10:E10) -> 98 | F20: =SUM($D$10:F10) -> 398 | G20: =SUM($D$10:G10) -> 594.6 | H20: =SUM($D$10:H10) -> 737.6 | I20: =SUM($D$10:I10) -> 777.6 | J20: =SUM($D$10:J10) -> 822.6 | K20: =SUM($D$10:K10) -> 862.6 | L20: =SUM($D$10:L10) -> 984.6 | ... O20: =SUM($D$10:O10) -> 1817.55
B21: Kumulatiivinen kulutus lämmitys | C21: kWh | D21: =SUM(D14) -> 1338.28 | E21: =SUM($D$14:E14) -> 2133.45 | F21: =SUM($D$14:F14) -> 2772.13 | G21: =SUM($D$14:G14) -> 3066.61 | H21: =SUM($D$14:H14) -> 3229.62 | I21: =SUM($D$14:I14) -> 3269.62 | J21: =SUM($D$14:J14) -> 3314.62 | K21: =SUM($D$14:K14) -> 3354.62 | L21: =SUM($D$14:L14) -> 3456.94 | ... O21: =SUM($D$14:O14) -> 4884.31
A23: Lämmitys
B24: Lämmityksen osuus kulutuksesta | D24: =D14/D9 -> 0.79693678 | E24: =E14/E9 -> 0.72080459 | F24: =F14/F9 -> 0.65192716 | G24: =G14/G9 -> 0.47156034 | H24: =H14/H9 -> 0.32342612 | I24: =I14/I9 -> 0.11527045 | J24: =J14/J9 -> 0.13224403 | K24: =K14/K9 -> 0.12753069 | ... P24: =P14/P9 -> 0.55736285
B25: Sähkönkulutus lämmitykseen | C25: kWh/oCd | D25: =D14/D11 -> 1.6918837 | E25: =E14/E11 -> 1.4946805 | F25: =F14/F11 -> 1.1088194 | G25: =G14/G11 -> 0.90609231 | H25: =H14/H11 -> 0.93683908 | I25: =I14/I11 -> #DIV/0! | J25: =J14/J11 -> 1.9565217 | K25: =K14/K11 -> 3.6363636 | ... P25: =P14/P11 -> 1.2057048
B26: Sähkönkulutus lämmitykseen | C26: kWh/d | D26: =D14/D7 -> 43.170323 | E26: =E14/E7 -> 28.398929 | F26: =F14/F7 -> 20.602581 | G26: =G14/G7 -> 9.816 | H26: =H14/H7 -> 5.2583871 | I26: =I14/I7 -> 1.3333333 | J26: =J14/J7 -> 1.4516129 | K26: =K14/K7 -> 1.2903226 | ... P26: =P14/P7 -> 13.381671
