Workbook

Sheet 2025
A1: SÄHKÖNKULUTUSRAPORTTI | D1: 2025
A3: Imatra omakotitalo 4H+K+S | D3: Asuinala | F3: 110 | G3: m2 | H3: Taloussähkö + LVV arvio | K3: 9.5 | L3: kWh/d
D4: Tilavuus | F4: =2.52*F3 -> 277.2 | G4: m3 | H4: Kesäkuukausien keskikulutus (ilman ILP) | K4: =(SUM(I9:K9)-SUM(I10:K10))/92 -> 10.059065 | L4: kWh/d
A6: Jakso | D6: Tammi | E6: Helmi | F6: Maalis | G6: Huhti | H6: Touko | I6: Kesä | J6: Heinä | K6: Elo | L6: Syys | M6: Loka | N6: Marras | O6: Joulu | P6: Yhteensä
D7: 31 | E7: 28 | F7: 31 | G7: 30 | H7: 31 | I7: 30 | J7: 31 | K7: 31 | L7: 30 | M7: 31 | N7: 30 | O7: 31 | P7: =SUM(D7:O7) -> 365
A8: 2025 | B8: Keskilämpötila | C8: oC | D8: -3.2 | E8: -4.7 | F8: 0.8 | G8: 4.6 | H8: 9.3 | I8: 14.3 | J8: 20.4 | K8: 15.3 | L8: 13.3 | M8: 5.9 | N8: 2.1 | O8: -0.4 | P8: =AVERAGE(D8:O8) -> 6.475
A9: 2025 | B9: Sähkö yhteensä | C9: kWh | D9: 958.97 | E9: 927.375 | F9: 797.732 | G9: 593.716 | H9: 501.628 | I9: 345.005 | J9: 318.679 | K9: 346.75 | L9: 392.885 | M9: 586.081 | N9: 780.391 | O9: 928.145 | P9: =SUM(D9:O9) -> 7477.357 | T9: Panan kuluttama sähkö yhteensä NZ25YKE
A10: 2025 | B10: Ilmalämpöpumppu, arvio | C10: kWh | D10: 296 | E10: 277 | F10: 186 | G10: 132 | H10: 81 | I10: 27 | J10: 31 | K10: 27 | L10: 52 | M10: 145 | N10: 176 | O10: 168 | P10: =SUM(D10:O10) -> 1598 | T10: =SUM(D10:O10)+'2024'!P10 -> 3484
A11: 2025 | B11: Lämmitystarveluku toteutunut | C11: Cd | D11: 625 | E11: 609 | F11: 501 | G11: 340 | H11: 174 | I11: 0 | J11: 0 | K11: 0 | L11: 79 | M11: 344 | N11: 447 | O11: 539 | P11: =SUM(D11:O11) -> 3658
A12: 2025 | B12: Lämmitystarveluku normivuosi | C12: Cd | D12: 759 | E12: 699 | F12: 621 | G12: 403 | H12: 165 | I12: 22 | J12: 5 | K12: 28 | L12: 184 | M12: 386 | N12: 546 | O12: 692 | P12: 4510
A13: 2025 | B13: Taloussähkö (arvio) | C13: kWh | D13: =$K$3*D7 -> 294.5 | E13: =$K$3*E7 -> 266 | F13: =$K$3*F7 -> 294.5 | G13: =$K$3*G7 -> 285 | H13: =$K$3*H7 -> 294.5 | I13: =$K$3*I7 -> 285 | J13: =$K$3*J7 -> 294.5 | K13: =$K$3*K7 -> 294.5 | ... O13: =$K$3*O7 -> 294.5 | P13: =SUM(D13:O13) -> 3467.5 | T13: =P12-P11 -> 852
A14: 2025 | B14: Lämmitys, sähköpatterit (arvio) | C14: kWh | D14: =D9-D13-D10 -> 368.47 | E14: =E9-E13-E10 -> 384.375 | F14: =F9-F13-F10 -> 317.232 | G14: =G9-G13-G10 -> 176.716 | H14: =H10 -> 81 | I14: =I10 -> 27 | J14: 0 | K14: 0 | L14: =L10 -> 52 | M14: =M10 -> 145 | N14: =N9-N13-N10 -> 319.391 | O14: =O9-O13-O10 -> 465.645 | P14: =SUM(D14:O14) -> 2336.829
A15: 2025 | B15: Sääkorjattu lämmityssähkö | C15: kWh | D15: =IF(D11=0,0,((D12/D11))*(D10+D14)) -> 806.93237 | E15: =IF(E11=0,0,((E12/E11))*(E10+E14)) -> 759.11515 | F15: =IF(F11=0,0,((F12/F11))*(F10+F14)) -> 623.76661 | G15: =IF(G11=0,0,((G12/G11))*(G10+G14)) -> 365.91926 | H15: =IF(H11=0,0,((H12/H11))*(H10+H14)) -> 153.62069 | I15: =I14 -> 27 | J15: =J14 -> 0 | K15: =K14 -> 0 | L15: =IF(L11=0,0,((L12/L11))*(L10+L14)) -> 242.22785 | M15: =IF(M11=0,0,((M12/M11))*(M10+M14)) -> 325.40698 | N15: =IF(N11=0,0,((N12/N11))*(N10+N14)) -> 605.10847 | O15: =IF(O11=0,0,((O12/O11))*(O10+O14)) -> 813.51083 | P15: =SUM(D15:O15) -> 4722.6082 | T15: =T13/P12 -> 0.18891353
A18: Kulutus päivässä | C18: kWh/d | D18: =D9/D7 -> 30.934516 | E18: =E9/E7 -> 33.120536 | F18: =F9/F7 -> 25.73329 | G18: =G9/G7 -> 19.790533 | H18: =H9/H7 -> 16.181548 | I18: =I9/I7 -> 11.500167 | J18: =J9/J7 -> 10.279968 | K18: =K9/K7 -> 11.185484 | ... O18: =O9/O7 -> 29.940161
B19: Kumulatiivinen kulutus | C19: kWh | D19: =SUM(D9) -> 958.97 | E19: =SUM($D$9:E9) -> 1886.345 | F19: =SUM($D$9:F9) -> 2684.077 | G19: =SUM($D$9:G9) -> 3277.793 | H19: =SUM($D$9:H9) -> 3779.421 | I19: =SUM($D$9:I9) -> 4124.426 | J19: =SUM($D$9:J9) -> 4443.105 | K19: =SUM($D$9:K9) -> 4789.855 | L19: =SUM($D$9:L9) -> 5182.74 | ... O19: =SUM($D$9:O9) -> 7477.357
B20: Kumulatiivinen kulutus ILP | C20: kWh | D20: =SUM(D10) -> 296 | E20: =SUM($D$10:E10) -> 573 | F20: =SUM($D$10:F10) -> 759 | G20: =SUM($D$10:G10) -> 891 | H20: =SUM($D$10:H10) -> 972 | I20: =SUM($D$10:I10) -> 999 | J20: =SUM($D$10:J10) -> 1030 | K20: =SUM($D$10:K10) -> 1057 | L20: =SUM($D$10:L10) -> 1109 | ... O20: =SUM($D$10:O10) -> 1598
B21: Kumulatiivinen kulutus lämmitys | C21: kWh | D21: =SUM(D14) -> 368.47 | E21: =SUM($D$14:E14) -> 752.845 | F21: =SUM($D$14:F14) -> 1070.077 | G21: =SUM($D$14:G14) -> 1246.793 | H21: =SUM($D$14:H14) -> 1327.793 | I21: =SUM($D$14:I14) -> 1354.793 | J21: =SUM($D$14:J14) -> 1354.793 | K21: =SUM($D$14:K14) -> 1354.793 | L21: =SUM($D$14:L14) -> 1406.793 | ... O21: =SUM($D$14:O14) -> 2336.829
A23: Lämmitys
B24: Lämmityksen osuus kulutuksesta | D24: =D14/D9 -> 0.38423517 | E24: =E14/E9 -> 0.41447634 | F24: =F14/F9 -> 0.39766739 | G24: =G14/G9 -> 0.29764399 | H24: =H14/H9 -> 0.16147424 | I24: =I14/I9 -> 0.078259735 | J24: =J14/J9 -> 0 | K24: =K14/K9 -> 0 | ... P24: =P14/P9 -> 0.31252072
B25: Sähkönkulutus lämmitykseen | C25: kWh/oCd | D25: =D14/D11 -> 0.589552 | E25: =E14/E11 -> 0.63115764 | F25: =F14/F11 -> 0.6331976 | G25: =G14/G11 -> 0.51975294 | H25: =H14/H11 -> 0.46551724 | I25: 0 | J25: 0 | K25: 0 | L25: =L14/L11 -> 0.65822785 | M25: =M14/M11 -> 0.42151163 | N25: =N14/N11 -> 0.71452125 | O25: =O14/O11 -> 0.86390538 | P25: =P14/P11 -> 0.63882695
B26: Sähkönkulutus lämmitykseen | C26: kWh/d | D26: =(D10+D14)/D7 -> 21.434516 | E26: =(E10+E14)/E7 -> 23.620536 | F26: =(F10+F14)/F7 -> 16.23329 | G26: =(G10+G14)/G7 -> 10.290533 | H26: =(H10+H14)/H7 -> 5.2258065 | I26: 0 | J26: 0 | K26: 0 | L26: =(L10+L14)/L7 -> 3.4666667 | M26: =(M10+M14)/M7 -> 9.3548387 | N26: =(N10+N14)/N7 -> 16.513033 | O26: =(O10+O14)/O7 -> 20.440161 | P26: =(P10+P14)/P7 -> 10.780353
B27: Norm sähkö lämmitykseen | C27: kWh/d | D27: =D15/D7 -> 26.030076 | E27: =E15/E7 -> 27.111255 | F27: =F15/F7 -> 20.121504 | G27: =G15/G7 -> 12.197309 | H27: =H15/H7 -> 4.9555061 | I27: 0 | J27: 0 | K27: 0 | L27: =L15/L7 -> 8.0742616 | M27: =M15/M7 -> 10.496999 | N27: =N15/N7 -> 20.170282 | O27: =O15/O7 -> 26.242285 | P27: =P15/P7 -> 12.938653
B28: Ominaislämmönkulutus | C28: kWh/m3 | D28: =(D10+D14)/$F$4 -> 2.3970779 | E28: =(E10+E14)/$F$4 -> 2.3859127 | F28: =(F10+F14)/$F$4 -> 1.8154113 | G28: =(G10+G14)/$F$4 -> 1.1136941 | H28: =(H10+H14)/$F$4 -> 0.58441558 | I28: 0 | J28: 0 | K28: 0 | L28: =(L10+L14)/$F$4 -> 0.37518038 | M28: =(M10+M14)/$F$4 -> 1.046176 | N28: =(N10+N14)/$F$4 -> 1.7871248 | O28: =(O10+O14)/$F$4 -> 2.2858766 | P28: =P14/$F$4 -> 8.430119
B29: Ominaislämmönkulutus | C29: kWh/m2 | D29: =(D10+D14)/$F$3 -> 6.0406364 | E29: =(E10+E14)/$F$3 -> 6.0125 | F29: =(F10+F14)/$F$3 -> 4.5748364 | G29: =(G10+G14)/$F$3 -> 2.8065091 | H29: =(H10+H14)/$F$3 -> 1.4727273 | I29: 0 | J29: 0 | K29: 0 | L29: =(L10+L14)/$F$3 -> 0.94545455 | M29: =(M10+M14)/$F$3 -> 2.6363636 | N29: =(N10+N14)/$F$3 -> 4.5035545 | O29: =(O10+O14)/$F$3 -> 5.7604091 | P29: =(P10+P14)/$F$3 -> 35.771173
B30: Norm lämmönkulutus | C30: kWh/m3 | D30: =D15/$F$4 -> 2.9110114 | E30: =E15/$F$4 -> 2.7385106 | F30: =F15/$F$4 -> 2.2502403 | G30: =G15/$F$4 -> 1.320055 | H30: =H15/$F$4 -> 0.55418719 | I30: 0 | J30: 0 | K30: 0 | L30: =L15/$F$4 -> 0.87383784 | M30: =M15/$F$4 -> 1.1739068 | N30: =N15/$F$4 -> 2.182931 | O30: =O15/$F$4 -> 2.9347433 | P30: =P15/$F$4 -> 17.036826
B31: Norm lämmönkulutus | C31: kWh/m2 | D31: =D15/$F$3 -> 7.3357488 | E31: =E15/$F$3 -> 6.9010468 | F31: =F15/$F$3 -> 5.6706056 | G31: =G15/$F$3 -> 3.3265387 | H31: =H15/$F$3 -> 1.3965517 | I31: 0 | J31: 0 | K31: 0 | L31: =L15/$F$3 -> 2.2020713 | M31: =M15/$F$3 -> 2.9582452 | N31: =N15/$F$3 -> 5.5009861 | O31: =O15/$F$3 -> 7.395553 | P31: =P15/$F$3 -> 42.932802
B32: Ominaislämmönkulutus | C32: Wh/m3/oCd | D32: =1000*D28/D11 -> 3.8353247 | E32: =1000*E28/E11 -> 3.9177548 | F32: =1000*F28/F11 -> 3.6235754 | G32: =1000*G28/G11 -> 3.2755708 | H32: =1000*H28/H11 -> 3.3587103 | I32: 0 | J32: 0 | K32: 0 | L32: =1000*L28/L11 -> 4.7491187 | M32: =1000*M28/M11 -> 3.0412094 | N32: =1000*N28/N11 -> 3.9980421 | O32: =1000*O28/O11 -> 4.2409585 | P32: =1000*P28/P11 -> 2.3045705
A34: Vuosikulutusarvio
B36: Lämmityssähkö ILPillä | D36: =4500*1.1 -> 4950 | E36: kWh | F36: =D36/$D$38 -> 0.58806059 | G36: Arvio lämmityssähkö ilman ILP | K36: ='2007'!D34 -> 8566 | L36: kWh | M36: Vuosikulutusarvio ilma ILP
B37: Taloussähkö | D37: =K3*365 -> 3467.5 | E37: kWh | F37: =D37/$D$38 -> 0.41193941 | G37: Arvio ILPin säästämästä sähköstä | K37: =K36-D36 -> 3616 | L37: kWh | N37: ='2007'!I36 -> 14540 | O37: kWh
B38: Yhteensä | D38: =SUM(D36:D37) -> 8417.5 | E38: kWh | G38: Säästöarvio lämmityssähkönkulutuksesta | K38: =K37/K36 -> 0.42213402
G39: Säästöarvio kokonaissähkönkulutuksesta | K39: =K37/(SUM(D37)+K36) -> 0.30049445
A49: ILP | D49: lukema | E49: päivät | F49: kulutus | G49: astepäivät
B50: 41633 | D50: 495.16
B51: 41645 | D51: 584.7 | E51: =DAYS360(B50,B51) -> 11 | F51: =(D51-D50)/E51 -> 8.14 | G51: 195 | H51: =(D51-D50)/G51 -> 0.45917949
B52: 41692 | D52: 1079.44 | E52: =DAYS360(B51,B52) -> 46 | F52: =(D52-D51)/E52 -> 10.755217 | G52: 1116 | H52: =(D52-D51)/G52 -> 0.44331541
B53: 41720 | D53: 1376.73 | E53: =DAYS360(B52,B53) -> 30 | F53: =(D53-D52)/E53 -> 9.9096667 | G53: 459 | H53: =(D53-D52)/G53 -> 0.64769063
B54: 41734 | D54: 1545.36 | E54: =DAYS360(B53,B54) -> 13 | F54: =(D54-D53)/E54 -> 12.971538 | G54: 173 | H54: =(D54-D53)/G54 -> 0.97473988 | N54: jäähdytys
B55: 41791 | D55: 2153 | E55: =DAYS360(B54,B55) -> 56 | F55: =(D55-D54)/E55 -> 10.850714 | G55: 537 | H55: =(D55-D54)/G55 -> 1.1315456 | L55: 41851 | N55: 2274.96 | O55: =N55-D57 -> 13.27
B56: 41814 | D56: 2233.47 | E56: =DAYS360(B55,B56) -> 23 | F56: =(D56-D55)/E56 -> 3.4986957 | G56: 78.2 | H56: =(D56-D55)/G56 -> 1.0290281
B57: 41825 | D57: 2261.69 | E57: =DAYS360(B56,B57) -> 11 | F57: =(D57-D56)/E57 -> 2.5654545
B58: 41852 | D58: 2274.96 | E58: =DAYS360(B57,B58) -> 26 | F58: =(D58-D57)/E58 -> 0.51038462
B59: 41882 | D59: 2314.32 | E59: =DAYS360(B58,B59) -> 30 | F59: =(D59-D58)/E59 -> 1.312 | G59: 13 | I59: =D59-D58 -> 39.36
B60: 41889 | D60: 2330.23 | E60: =DAYS360(B59,B60) -> 7 | F60: =(D60-D59)/E60 -> 2.2728571 | G60: =3.8*7 -> 26.6 | H60: =(D60-D59)/G60 -> 0.5981203
B61: 41929 | D61: 2507 | E61: =DAYS360(B60,B61) -> 40 | F61: =(D61-D60)/E61 -> 4.41925 | G61: =7*40 -> 280 | H61: =(D61-D60)/G61 -> 0.63132143
B62: 41951 | D62: 2695.68 | E62: =DAYS360(B61,B62) -> 21 | F62: =(D62-D61)/E62 -> 8.9847619 | G62: =21*12.5 -> 262.5 | H62: =(D62-D61)/G62 -> 0.71878095
B63: 42035 | D63: 3422.93 | E63: =DAYS360(B62,B63) -> 83 | F63: =(D63-D62)/E63 -> 8.7620482 | G63: 1643 | H63: =(D63-D62)/G63 -> 0.44263542 | L63: =D63-D50 -> 2927.77 | N63: =B63-B50 -> 402 | P63: =L63/N63*365 -> 2658.2986
B64: 42099 | D64: 3996.35 | E64: =DAYS360(B63,B64) -> 65 | F64: =(D64-D63)/E64 -> 8.8218462 | G64: =524+505+80 -> 1109 | H64: =(D64-D63)/G64 -> 0.51706041 | L64: =D64-D63 -> 573.42
B65: 42127 | D65: 4186.01 | E65: =DAYS360(B64,B65) -> 28 | F65: =(D65-D64)/E65 -> 6.7735714 | G65: 372 | H65: =(D65-D64)/G65 -> 0.50983871 | L65: =D65-D64 -> 189.66
B66: 42148 | D66: 4288.13 | E66: =DAYS360(B65,B66) -> 21 | F66: =(D66-D65)/E66 -> 4.8628571 | G66: 125 | H66: =(D66-D65)/G66 -> 0.81696 | L66: =D66-D65 -> 102.12
B67: 42180 | D67: 4366.53 | E67: =DAYS360(B66,B67) -> 31 | F67: =(D67-D66)/E67 -> 2.5290323 | G67: 8 | H67: =(D67-D66)/G67 -> 9.8 | L67: =D67-D66 -> 78.4
B68: 42233 | D68: 4444.18 | E68: =DAYS360(B67,B68) -> 52 | F68: =(D68-D67)/E68 -> 1.4932692 | G68: 5 | H68: =(D68-D67)/G68 -> 15.53
B69: 42295 | D69: 4652.76 | E69: =DAYS360(B68,B69) -> 61 | F69: =(D69-D68)/E69 -> 3.4193443 | G69: =70+18*(17-4) -> 304 | H69: =(D69-D68)/G69 -> 0.68611842 | L69: =D69-D61 -> 2145.76
B70: 42346 | D70: 5072.02 | E70: =DAYS360(B69,B70) -> 50 | F70: =(D70-D69)/E70 -> 8.3852 | G70: =13.5*50 -> 675 | H70: =(D70-D69)/G70 -> 0.62112593
B71: 42361 | D71: 5193.02 | E71: =DAYS360(B70,B71) -> 15 | F71: =(D71-D70)/E71 -> 8.0666667 | G71: =14*15 -> 210 | H71: =(D71-D70)/G71 -> 0.57619048
B72: 42442 | D72: 5511 | E72: =DAYS360(B71,B72) -> 80 | F72: =(D72-D71)/E72 -> 3.97475 | G72: =552+969 -> 1521 | H72: =(D72-D71)/G72 -> 0.20905983
B73: 42489 | D73: 5826.24 | E73: =DAYS360(B72,B73) -> 46 | F73: =(D73-D72)/E73 -> 6.8530435 | G73: =561+376 -> 937 | H73: =(D73-D72)/G73 -> 0.33643543
B74: 42519 | D74: 5907.41 | E74: =DAYS360(B73,B74) -> 30 | F74: =(D74-D73)/E74 -> 2.7056667 | G74: 23 | H74: =(D74-D73)/G74 -> 3.5291304
B75: 42552 | D75: 5970.92 | E75: =DAYS360(B74,B75) -> 32 | F75: =(D75-D74)/E75 -> 1.9846875 | G75: 37 | H75: =(D75-D74)/G75 -> 1.7164865
B76: 42579 | D76: 6019 | E76: =DAYS360(B75,B76) -> 27 | F76: =(D76-D75)/E76 -> 1.7807407 | G76: 0 | H76: =(D76-D75)/G76 -> #DIV/0!
B77: 42594 | D77: 6034.41 | E77: =DAYS360(B76,B77) -> 14 | F77: =(D77-D76)/E77 -> 1.1007143
B78: 42617 | D78: 6072.33 | E78: =DAYS360(B77,B78) -> 22 | F78: =(D78-D77)/E78 -> 1.7236364 | L78: =D78-D76 -> 53.33 | M78: =L78/SUM(E77:E78)*31 -> 45.923056
B79: 42665 | D79: 6276.93 | E79: =DAYS360(B78,B79) -> 48 | F79: =(D79-D78)/E79 -> 4.2625 | G79: =125+234 -> 359 | H79: =(D79-D78)/G79 -> 0.56991643
B80: 42735 | D80: 6822.39 | E80: =DAYS360(B79,B80) -> 69 | F80: =(D80-D79)/E80 -> 7.9052174 | G80: 1172 | H80: =(D80-D79)/G80 -> 0.46540956
B81: 42749 | D81: 6850.12 | E81: =DAYS360(B80,B81) -> 14 | F81: =(D81-D80)/E81 -> 1.9807143 | G81: 363 | H81: =(D81-D80)/G81 -> 0.076391185
B82: 42764 | D82: 6936.34 | E82: =DAYS360(B81,B82) -> 15 | F82: =(D82-D81)/E82 -> 5.748 | G82: 310 | H82: =(D82-D81)/G82 -> 0.27812903
B83: 42792 | D83: 7116.25 | E83: =DAYS360(B82,B83) -> 27 | F83: =(D83-D82)/E83 -> 6.6633333 | G83: 600 | H83: =(D83-D82)/G83 -> 0.29985
B84: 42841 | D84: 7549.7 | E84: =DAYS360(B83,B84) -> 50 | F84: =(D84-D83)/E84 -> 8.669 | G84: 840 | H84: =(D84-D83)/G84 -> 0.5160119
B85: 42862 | D85: 7682.85 | E85: =DAYS360(B84,B85) -> 21 | F85: =(D85-D84)/E85 -> 6.3404762 | G85: 230 | H85: =(D85-D84)/G85 -> 0.57891304
B86: 42897 | D86: 7810.93 | E86: =DAYS360(B85,B86) -> 34 | F86: =(D86-D85)/E86 -> 3.7670588
B87: 42908 | D87: 7824.01 | E87: =DAYS360(B86,B87) -> 11 | F87: =(D87-D86)/E87 -> 1.1890909
B88: 42917 | D88: 7835.31 | E88: =DAYS360(B87,B88) -> 9 | F88: =(D88-D87)/E88 -> 1.2555556 | J88: =D88-D75 -> 1864.39
B89: 42952 | D89: 7871.11 | E89: =DAYS360(B88,B89) -> 34 | F89: =(D89-D88)/E89 -> 1.0529412 | J89: =D89-D88 -> 35.8
B90: 42993 | D90: 7950 | E90: =DAYS360(B89,B90) -> 40 | F90: =(D90-D89)/E90 -> 1.97225
B91: 43015 | D91: 8045.28 | E91: =DAYS360(B90,B91) -> 22 | F91: =(D91-D90)/E91 -> 4.3309091 | G91: 160 | H91: =(D91-D90)/G91 -> 0.5955
B92: 43043 | D92: 8297.17 | E92: =DAYS360(B91,B92) -> 27 | F92: =(D92-D91)/E92 -> 9.3292593 | G92: 396 | H92: =(D92-D91)/G92 -> 0.63608586 | K92: =D92-D91 -> 251.89
B93: 43100 | D93: 8857.63 | E93: =DAYS360(B92,B93) -> 57 | F93: =(D93-D92)/E93 -> 9.8326316 | G93: 1050 | H93: =(D93-D92)/G93 -> 0.53377143 | K93: =D93-D92 -> 560.46 | N93: =D93-D80 -> 2035.24
B94: 43155 | D94: 9122.02 | E94: =DAYS360(B93,B94) -> 54 | F94: =(D94-D93)/E94 -> 4.8961111 | G94: 1320 | H94: =(D94-D93)/G94 -> 0.20029545 | N94: =D94-D93 -> 264.39
B95: 43184 | D95: 9294.37 | E95: =DAYS360(B94,B95) -> 31 | F95: =(D95-D94)/E95 -> 5.5596774 | G95: 723 | H95: =(D95-D94)/G95 -> 0.23838174 | N95: =D95-D94 -> 172.35 | P95: =D94-D83 -> 2005.77
B96: 43217 | D96: 9530.9 | E96: =DAYS360(B95,B96) -> 32 | F96: =(D96-D95)/E96 -> 7.3915625 | N96: =D96-D95 -> 236.53
B97: 43241 | D97: 9598.8 | E97: =DAYS360(B96,B97) -> 24 | F97: =(D97-D96)/E97 -> 2.8291667 | N97: =D97-D96 -> 67.9
B98: 43269 | D98: 9628.28 | E98: =DAYS360(B97,B98) -> 27 | F98: =(D98-D97)/E98 -> 1.0918519 | N98: =D98-D97 -> 29.48 | P98: =D98-D87 -> 1804.27
B99: 43285 | D99: 9644.29 | E99: =DAYS360(B98,B99) -> 16 | F99: =(D99-D98)/E99 -> 1.000625
B100: 43298 | D100: 9661.08 | E100: =DAYS360(B99,B100) -> 13 | F100: =(D100-D99)/E100 -> 1.2915385 | N100: =D100-D99 -> 16.79
B101: 43317 | D101: 9702.4 | E101: =DAYS360(B100,B101) -> 18 | F101: =(D101-D100)/E101 -> 2.2955556 | N101: =D101-D99 -> 58.11 | P101: =D101-D89 -> 1831.29
B102: 43364 | D102: 9762.31 | E102: =DAYS360(B101,B102) -> 46 | F102: =(D102-D101)/E102 -> 1.3023913 | N102: =D102-D101 -> 59.91 | P102: =D102-D90 -> 1812.31
B103: 43401 | D103: 9930.78 | E103: =DAYS360(B102,B103) -> 37 | F103: =(D103-D102)/E103 -> 4.5532432 | N103: =D103-D101 -> 228.38
B104: 43442 | D104: 10300.53 | E104: =DAYS360(B103,B104) -> 40 | F104: =(D104-D103)/E104 -> 9.24375 | G104: =SUM(M11:N11) -> 791 | H104: =(D104-D103)/G104 -> 0.46744627 | N104: =D104-D103 -> 369.75
B105: 43464 | D105: 531.5 | E105: =DAYS360(B104,B105) -> 22 | F105: =(D105-D104+10000)/E105 -> 10.498636 | N105: =D105-D104+10000 -> 230.97 | P105: =D105-D93+10000 -> 1673.87
B106: 43547 | D106: 994.26 | E106: =DAYS360(B105,B106) -> 83 | F106: =(D106-D105)/E106 -> 5.5754217 | N106: =D106-D105 -> 462.76 | P106: =D106-D95+10000 -> 1699.89
B107: 43582 | D107: 1190.87 | E107: =DAYS360(B106,B107) -> 34 | F107: =(D107-D106)/E107 -> 5.7826471 | N107: =D107-D106 -> 196.61 | P107: =D107-D96+10000 -> 1659.97
B108: 43622 | D108: 1333.82 | E108: =DAYS360(B107,B108) -> 39 | F108: =(D108-D107)/E108 -> 3.6653846 | N108: =D108-D107 -> 142.95 | P108: =D108-D98+10000 -> 1705.54
B109: 43670 | D109: 1398.19 | E109: =DAYS360(B108,B109) -> 48 | F109: =(D109-D108)/E109 -> 1.3410417 | N109: =D109-D108 -> 64.37
B110: 43681 | D110: 1419.41 | E110: =DAYS360(B109,B110) -> 10 | F110: =(D110-D109)/E110 -> 2.122 | N110: =D110-D109 -> 21.22 | P110: =D110-D101+10000 -> 1717.01
B111: 43744 | D111: 1581.94 | E111: =DAYS360(B110,B111) -> 62 | F111: =(D111-D110)/E111 -> 2.6214516 | N111: =D111-D110 -> 162.53
B112: 43806 | D112: 2125.79 | E112: =DAYS360(B111,B112) -> 61 | F112: =(D112-D111)/E112 -> 8.9155738 | N112: =D112-D111 -> 543.85 | P112: =D112-D104+10000 -> 1825.26
B113: 43827 | D113: 2323.56 | E113: =DAYS360(B112,B113) -> 21 | F113: =(D113-D112)/E113 -> 9.417619 | N113: =D113-D112 -> 197.77 | P113: =D113-D105 -> 1792.06
B114: 43876 | D114: 2777.25 | E114: =DAYS360(B113,B114) -> 47 | F114: =(D114-D113)/E114 -> 9.6529787 | N114: =D114-D113 -> 453.69
B115: 43953 | D115: 3386.03 | E115: =DAYS360(B114,B115) -> 77 | F115: =(D115-D114)/E115 -> 7.9062338 | N115: =D115-D114 -> 608.78 | P115: =D115-D107 -> 2195.16
B116: 43972 | D116: 3469.97 | E116: =DAYS360(B115,B116) -> 19 | F116: =(D116-D115)/E116 -> 4.4178947 | N116: =D116-D115 -> 83.94
...

Sheet Sähkönkulutus

Sheet Norm.Lämmityssähkö

Sheet Ominaislämmönkulutus

Sheet Astepäiväkuvaaja

Sheet 2024
A1: SÄHKÖNKULUTUSRAPORTTI | D1: 2024
A3: Imatra omakotitalo 4H+K+S | D3: Asuinala | F3: 110 | G3: m2 | H3: Taloussähkö + LVV arvio | K3: 9.5 | L3: kWh/d
D4: Tilavuus | F4: =2.52*F3 -> 277.2 | G4: m3 | H4: Kesäkuukausien keskikulutus (ilman ILP) | K4: =(SUM(I9:K9)-SUM(I10:K10))/92 -> 9.0668152 | L4: kWh/d
A6: Jakso | D6: Tammi | E6: Helmi | F6: Maalis | G6: Huhti | H6: Touko | I6: Kesä | J6: Heinä | K6: Elo | L6: Syys | M6: Loka | N6: Marras | O6: Joulu | P6: Yhteensä
D7: 31 | E7: 29 | F7: 31 | G7: 30 | H7: 31 | I7: 30 | J7: 31 | K7: 31 | L7: 30 | M7: 31 | N7: 30 | O7: 31 | P7: =SUM(D7:O7) -> 366
A8: 2024 | B8: Keskilämpötila | C8: oC | D8: -10.1 | E8: -5.8 | F8: 0.2 | G8: 2.9 | H8: 13.2 | I8: 17.3 | J8: 18.9 | K8: 17 | L8: 14.7 | M8: 6.6 | N8: 1.2 | O8: -2.5 | P8: =AVERAGE(D8:O8) -> 6.1333333
A9: 2024 | B9: Sähkö yhteensä | C9: kWh | D9: 1213.469 | E9: 988.653 | F9: 762.225 | G9: 644.744 | H9: 409.399 | I9: 326.536 | J9: 287.843 | K9: 267.768 | L9: 313.996 | M9: 490.015 | N9: 723.791 | O9: 1011.066 | P9: =SUM(D9:O9) -> 7439.505 | T9: Panan kuluttama sähkö yhteensä NZ25YKE
A10: 2024 | B10: Ilmalämpöpumppu, arvio | C10: kWh | D10: 518 | E10: 317 | F10: 190 | G10: 141 | H10: 65 | I10: 23 | J10: 16 | K10: 9 | L10: 34 | M10: 144 | N10: 200 | O10: 229 | P10: =SUM(D10:O10) -> 1886 | T10: =SUM(D10:O10)+'2023'!O10 -> 2286
A11: 2024 | B11: Lämmitystarveluku toteutunut | C11: Cd | D11: 841 | E11: 660 | F11: 522 | G11: 414 | H11: 122 | I11: 0 | J11: 0 | K11: 0 | L11: 52 | M11: 318 | N11: 473 | O11: 604 | P11: =SUM(D11:O11) -> 4006
A12: 2024 | B12: Lämmitystarveluku normivuosi | C12: Cd | D12: 759 | E12: 699 | F12: 621 | G12: 403 | H12: 165 | I12: 22 | J12: 5 | K12: 28 | L12: 184 | M12: 386 | N12: 546 | O12: 692 | P12: 4510
A13: 2024 | B13: Taloussähkö (arvio) | C13: kWh | D13: =$K$3*D7 -> 294.5 | E13: =$K$3*E7 -> 275.5 | F13: =$K$3*F7 -> 294.5 | G13: =$K$3*G7 -> 285 | H13: =$K$3*H7 -> 294.5 | I13: =$K$3*I7 -> 285 | J13: =$K$3*J7 -> 294.5 | K13: =$K$3*K7 -> 294.5 | ... O13: =$K$3*O7 -> 294.5 | P13: =SUM(D13:O13) -> 3477 | T13: =P12-P11 -> 504
A14: 2024 | B14: Lämmitys, sähköpatterit (arvio) | C14: kWh | D14: =D9-D13-D10 -> 400.969 | E14: =E9-E13-E10 -> 396.153 | F14: =F9-F13-F10 -> 277.725 | G14: =G9-G13-G10 -> 218.744 | H14: =H10 -> 65 | I14: 0 | J14: 0 | K14: 0 | L14: =L10 -> 34 | M14: =M10 -> 144 | N14: =N9-N13-N10 -> 238.791 | O14: =O9-O13-O10 -> 487.566 | P14: =SUM(D14:O14) -> 2262.948
A15: 2024 | B15: Sääkorjattu lämmityssähkö | C15: kWh | D15: =IF(D11=0,0,((D12/D11))*(D10+D14)) -> 829.36679 | E15: =IF(E11=0,0,((E12/E11))*(E10+E14)) -> 755.29386 | F15: =IF(F11=0,0,((F12/F11))*(F10+F14)) -> 556.43147 | G15: =IF(G11=0,0,((G12/G11))*(G10+G14)) -> 350.18558 | H15: =IF(H11=0,0,((H12/H11))*(H10+H14)) -> 175.81967 | I15: =I14 -> 0 | J15: =J14 -> 0 | K15: =K14 -> 0 | L15: =IF(L11=0,0,((L12/L11))*(L10+L14)) -> 240.61538 | M15: =IF(M11=0,0,((M12/M11))*(M10+M14)) -> 349.58491 | N15: =IF(N11=0,0,((N12/N11))*(N10+N14)) -> 506.51139 | O15: =IF(O11=0,0,((O12/O11))*(O10+O14)) -> 820.96634 | P15: =SUM(D15:O15) -> 4584.7754 | T15: =T13/P12 -> 0.11175166
A18: Kulutus päivässä | C18: kWh/d | D18: =D9/D7 -> 39.144161 | E18: =E9/E7 -> 34.091483 | F18: =F9/F7 -> 24.587903 | G18: =G9/G7 -> 21.491467 | H18: =H9/H7 -> 13.206419 | I18: =I9/I7 -> 10.884533 | J18: =J9/J7 -> 9.2852581 | K18: =K9/K7 -> 8.6376774 | ... O18: =O9/O7 -> 32.615032
B19: Kumulatiivinen kulutus | C19: kWh | D19: =SUM(D9) -> 1213.469 | E19: =SUM($D$9:E9) -> 2202.122 | F19: =SUM($D$9:F9) -> 2964.347 | G19: =SUM($D$9:G9) -> 3609.091 | H19: =SUM($D$9:H9) -> 4018.49 | I19: =SUM($D$9:I9) -> 4345.026 | J19: =SUM($D$9:J9) -> 4632.869 | K19: =SUM($D$9:K9) -> 4900.637 | L19: =SUM($D$9:L9) -> 5214.633 | ... O19: =SUM($D$9:O9) -> 7439.505
B20: Kumulatiivinen kulutus ILP | C20: kWh | D20: =SUM(D10) -> 518 | E20: =SUM($D$10:E10) -> 835 | F20: =SUM($D$10:F10) -> 1025 | G20: =SUM($D$10:G10) -> 1166 | H20: =SUM($D$10:H10) -> 1231 | I20: =SUM($D$10:I10) -> 1254 | J20: =SUM($D$10:J10) -> 1270 | K20: =SUM($D$10:K10) -> 1279 | L20: =SUM($D$10:L10) -> 1313 | ... O20: =SUM($D$10:O10) -> 1886
B21: Kumulatiivinen kulutus lämmitys | C21: kWh | D21: =SUM(D14) -> 400.969 | E21: =SUM($D$14:E14) -> 797.122 | F21: =SUM($D$14:F14) -> 1074.847 | G21: =SUM($D$14:G14) -> 1293.591 | H21: =SUM($D$14:H14) -> 1358.591 | I21: =SUM($D$14:I14) -> 1358.591 | J21: =SUM($D$14:J14) -> 1358.591 | K21: =SUM($D$14:K14) -> 1358.591 | L21: =SUM($D$14:L14) -> 1392.591 | ... O21: =SUM($D$14:O14) -> 2262.948
A23: Lämmitys
B24: Lämmityksen osuus kulutuksesta | D24: =D14/D9 -> 0.33043201 | E24: =E14/E9 -> 0.40069974 | F24: =F14/F9 -> 0.36436092 | G24: =G14/G9 -> 0.33927264 | H24: =H14/H9 -> 0.15876932 | I24: =I14/I9 -> 0 | J24: =J14/J9 -> 0 | K24: =K14/K9 -> 0 | ... P24: =P14/P9 -> 0.30417992
B25: Sähkönkulutus lämmitykseen | C25: kWh/oCd | D25: =D14/D11 -> 0.47677646 | E25: =E14/E11 -> 0.60023182 | F25: =F14/F11 -> 0.53204023 | G25: =G14/G11 -> 0.52836715 | H25: =H14/H11 -> 0.53278689 | I25: 0 | J25: 0 | K25: 0 | L25: =L14/L11 -> 0.65384615 | M25: =M14/M11 -> 0.45283019 | N25: =N14/N11 -> 0.50484355 | O25: =O14/O11 -> 0.80722848 | P25: =P14/P11 -> 0.56488967
B26: Sähkönkulutus lämmitykseen | C26: kWh/d | D26: =(D10+D14)/D7 -> 29.644161 | E26: =(E10+E14)/E7 -> 24.591483 | F26: =(F10+F14)/F7 -> 15.087903 | G26: =(G10+G14)/G7 -> 11.991467 | H26: =(H10+H14)/H7 -> 4.1935484 | I26: 0 | J26: 0 | K26: 0 | L26: =(L10+L14)/L7 -> 2.2666667 | M26: =(M10+M14)/M7 -> 9.2903226 | N26: =(N10+N14)/N7 -> 14.626367 | O26: =(O10+O14)/O7 -> 23.115032 | P26: =(P10+P14)/P7 -> 11.335923
B27: Norm sähkö lämmitykseen | C27: kWh/d | D27: =D15/D7 -> 26.753767 | E27: =E15/E7 -> 26.044616 | F27: =F15/F7 -> 17.949402 | G27: =G15/G7 -> 11.672853 | H27: =H15/H7 -> 5.6716023 | I27: 0 | J27: 0 | K27: 0 | L27: =L15/L7 -> 8.0205128 | M27: =M15/M7 -> 11.276932 | N27: =N15/N7 -> 16.883713 | O27: =O15/O7 -> 26.482785 | P27: =P15/P7 -> 12.526709
B28: Ominaislämmönkulutus | C28: kWh/m3 | D28: =(D10+D14)/$F$4 -> 3.315184 | E28: =(E10+E14)/$F$4 -> 2.572702 | F28: =(F10+F14)/$F$4 -> 1.6873196 | G28: =(G10+G14)/$F$4 -> 1.2977778 | H28: =(H10+H14)/$F$4 -> 0.46897547 | I28: 0 | J28: 0 | K28: 0 | L28: =(L10+L14)/$F$4 -> 0.24531025 | M28: =(M10+M14)/$F$4 -> 1.038961 | N28: =(N10+N14)/$F$4 -> 1.5829401 | O28: =(O10+O14)/$F$4 -> 2.5850144 | P28: =P14/$F$4 -> 8.1635931
B29: Ominaislämmönkulutus | C29: kWh/m2 | D29: =(D10+D14)/$F$3 -> 8.3542636 | E29: =(E10+E14)/$F$3 -> 6.4832091 | F29: =(F10+F14)/$F$3 -> 4.2520455 | G29: =(G10+G14)/$F$3 -> 3.2704 | H29: =(H10+H14)/$F$3 -> 1.1818182 | I29: 0 | J29: 0 | K29: 0 | L29: =(L10+L14)/$F$3 -> 0.61818182 | M29: =(M10+M14)/$F$3 -> 2.6181818 | N29: =(N10+N14)/$F$3 -> 3.9890091 | O29: =(O10+O14)/$F$3 -> 6.5142364 | P29: =(P10+P14)/$F$3 -> 37.717709
B30: Norm lämmönkulutus | C30: kWh/m3 | D30: =D15/$F$4 -> 2.9919437 | E30: =E15/$F$4 -> 2.7247253 | F30: =F15/$F$4 -> 2.0073285 | G30: =G15/$F$4 -> 1.2632958 | H30: =H15/$F$4 -> 0.6342701 | I30: 0 | J30: 0 | K30: 0 | L30: =L15/$F$4 -> 0.86802087 | M30: =M15/$F$4 -> 1.2611288 | N30: =N15/$F$4 -> 1.8272417 | O30: =O15/$F$4 -> 2.961639 | P30: =P15/$F$4 -> 16.539594
B31: Norm lämmönkulutus | C31: kWh/m2 | D31: =D15/$F$3 -> 7.5396981 | E31: =E15/$F$3 -> 6.8663078 | F31: =F15/$F$3 -> 5.0584679 | G31: =G15/$F$3 -> 3.1835053 | H31: =H15/$F$3 -> 1.5983607 | I31: 0 | J31: 0 | K31: 0 | L31: =L15/$F$3 -> 2.1874126 | M31: =M15/$F$3 -> 3.1780446 | N31: =N15/$F$3 -> 4.604649 | O31: =O15/$F$3 -> 7.4633304 | P31: =P15/$F$3 -> 41.679776
B32: Ominaislämmönkulutus | C32: Wh/m3/oCd | D32: =1000*D28/D11 -> 3.9419548 | E32: =1000*E28/E11 -> 3.8980334 | F32: =1000*F28/F11 -> 3.2324131 | G32: =1000*G28/G11 -> 3.1347289 | H32: =1000*H28/H11 -> 3.8440612 | I32: 0 | J32: 0 | K32: 0 | L32: =1000*L28/L11 -> 4.7175047 | M32: =1000*M28/M11 -> 3.2671731 | N32: =1000*N28/N11 -> 3.3465964 | O32: =1000*O28/O11 -> 4.2798252 | P32: =1000*P28/P11 -> 2.0378415
A34: Vuosikulutusarvio
B36: Lämmityssähkö ILPillä | D36: =4500*1.1 -> 4950 | E36: kWh | F36: =D36/$D$38 -> 0.58806059 | G36: Arvio lämmityssähkö ilman ILP | K36: ='2007'!D34 -> 8566 | L36: kWh | M36: Vuosikulutusarvio ilma ILP
B37: Taloussähkö | D37: =K3*365 -> 3467.5 | E37: kWh | F37: =D37/$D$38 -> 0.41193941 | G37: Arvio ILPin säästämästä sähköstä | K37: =K36-D36 -> 3616 | L37: kWh | N37: ='2007'!I36 -> 14540 | O37: kWh
B38: Yhteensä | D38: =SUM(D36:D37) -> 8417.5 | E38: kWh | G38: Säästöarvio lämmityssähkönkulutuksesta | K38: =K37/K36 -> 0.42213402
G39: Säästöarvio kokonaissähkönkulutuksesta | K39: =K37/(SUM(D37)+K36) -> 0.30049445
A49: ILP | D49: lukema | E49: päivät | F49: kulutus | G49: astepäivät
B50: 41633 | D50: 495.16
B51: 41645 | D51: 584.7 | E51: =DAYS360(B50,B51) -> 11 | F51: =(D51-D50)/E51 -> 8.14 | G51: 195 | H51: =(D51-D50)/G51 -> 0.45917949
B52: 41692 | D52: 1079.44 | E52: =DAYS360(B51,B52) -> 46 | F52: =(D52-D51)/E52 -> 10.755217 | G52: 1116 | H52: =(D52-D51)/G52 -> 0.44331541
B53: 41720 | D53: 1376.73 | E53: =DAYS360(B52,B53) -> 30 | F53: =(D53-D52)/E53 -> 9.9096667 | G53: 459 | H53: =(D53-D52)/G53 -> 0.64769063
B54: 41734 | D54: 1545.36 | E54: =DAYS360(B53,B54) -> 13 | F54: =(D54-D53)/E54 -> 12.971538 | G54: 173 | H54: =(D54-D53)/G54 -> 0.97473988 | N54: jäähdytys
B55: 41791 | D55: 2153 | E55: =DAYS360(B54,B55) -> 56 | F55: =(D55-D54)/E55 -> 10.850714 | G55: 537 | H55: =(D55-D54)/G55 -> 1.1315456 | L55: 41851 | N55: 2274.96 | O55: =N55-D57 -> 13.27
B56: 41814 | D56: 2233.47 | E56: =DAYS360(B55,B56) -> 23 | F56: =(D56-D55)/E56 -> 3.4986957 | G56: 78.2 | H56: =(D56-D55)/G56 -> 1.0290281
B57: 41825 | D57: 2261.69 | E57: =DAYS360(B56,B57) -> 11 | F57: =(D57-D56)/E57 -> 2.5654545
B58: 41852 | D58: 2274.96 | E58: =DAYS360(B57,B58) -> 26 | F58: =(D58-D57)/E58 -> 0.51038462
B59: 41882 | D59: 2314.32 | E59: =DAYS360(B58,B59) -> 30 | F59: =(D59-D58)/E59 -> 1.312 | G59: 13 | I59: =D59-D58 -> 39.36
B60: 41889 | D60: 2330.23 | E60: =DAYS360(B59,B60) -> 7 | F60: =(D60-D59)/E60 -> 2.2728571 | G60: =3.8*7 -> 26.6 | H60: =(D60-D59)/G60 -> 0.5981203
B61: 41929 | D61: 2507 | E61: =DAYS360(B60,B61) -> 40 | F61: =(D61-D60)/E61 -> 4.41925 | G61: =7*40 -> 280 | H61: =(D61-D60)/G61 -> 0.63132143
B62: 41951 | D62: 2695.68 | E62: =DAYS360(B61,B62) -> 21 | F62: =(D62-D61)/E62 -> 8.9847619 | G62: =21*12.5 -> 262.5 | H62: =(D62-D61)/G62 -> 0.71878095
B63: 42035 | D63: 3422.93 | E63: =DAYS360(B62,B63) -> 83 | F63: =(D63-D62)/E63 -> 8.7620482 | G63: 1643 | H63: =(D63-D62)/G63 -> 0.44263542 | L63: =D63-D50 -> 2927.77 | N63: =B63-B50 -> 402 | P63: =L63/N63*365 -> 2658.2986
B64: 42099 | D64: 3996.35 | E64: =DAYS360(B63,B64) -> 65 | F64: =(D64-D63)/E64 -> 8.8218462 | G64: =524+505+80 -> 1109 | H64: =(D64-D63)/G64 -> 0.51706041 | L64: =D64-D63 -> 573.42
B65: 42127 | D65: 4186.01 | E65: =DAYS360(B64,B65) -> 28 | F65: =(D65-D64)/E65 -> 6.7735714 | G65: 372 | H65: =(D65-D64)/G65 -> 0.50983871 | L65: =D65-D64 -> 189.66
B66: 42148 | D66: 4288.13 | E66: =DAYS360(B65,B66) -> 21 | F66: =(D66-D65)/E66 -> 4.8628571 | G66: 125 | H66: =(D66-D65)/G66 -> 0.81696 | L66: =D66-D65 -> 102.12
B67: 42180 | D67: 4366.53 | E67: =DAYS360(B66,B67) -> 31 | F67: =(D67-D66)/E67 -> 2.5290323 | G67: 8 | H67: =(D67-D66)/G67 -> 9.8 | L67: =D67-D66 -> 78.4
B68: 42233 | D68: 4444.18 | E68: =DAYS360(B67,B68) -> 52 | F68: =(D68-D67)/E68 -> 1.4932692 | G68: 5 | H68: =(D68-D67)/G68 -> 15.53
B69: 42295 | D69: 4652.76 | E69: =DAYS360(B68,B69) -> 61 | F69: =(D69-D68)/E69 -> 3.4193443 | G69: =70+18*(17-4) -> 304 | H69: =(D69-D68)/G69 -> 0.68611842 | L69: =D69-D61 -> 2145.76
B70: 42346 | D70: 5072.02 | E70: =DAYS360(B69,B70) -> 50 | F70: =(D70-D69)/E70 -> 8.3852 | G70: =13.5*50 -> 675 | H70: =(D70-D69)/G70 -> 0.62112593
B71: 42361 | D71: 5193.02 | E71: =DAYS360(B70,B71) -> 15 | F71: =(D71-D70)/E71 -> 8.0666667 | G71: =14*15 -> 210 | H71: =(D71-D70)/G71 -> 0.57619048
B72: 42442 | D72: 5511 | E72: =DAYS360(B71,B72) -> 80 | F72: =(D72-D71)/E72 -> 3.97475 | G72: =552+969 -> 1521 | H72: =(D72-D71)/G72 -> 0.20905983
B73: 42489 | D73: 5826.24 | E73: =DAYS360(B72,B73) -> 46 | F73: =(D73-D72)/E73 -> 6.8530435 | G73: =561+376 -> 937 | H73: =(D73-D72)/G73 -> 0.33643543
B74: 42519 | D74: 5907.41 | E74: =DAYS360(B73,B74) -> 30 | F74: =(D74-D73)/E74 -> 2.7056667 | G74: 23 | H74: =(D74-D73)/G74 -> 3.5291304
B75: 42552 | D75: 5970.92 | E75: =DAYS360(B74,B75) -> 32 | F75: =(D75-D74)/E75 -> 1.9846875 | G75: 37 | H75: =(D75-D74)/G75 -> 1.7164865
B76: 42579 | D76: 6019 | E76: =DAYS360(B75,B76) -> 27 | F76: =(D76-D75)/E76 -> 1.7807407 | G76: 0 | H76: =(D76-D75)/G76 -> #DIV/0!
B77: 42594 | D77: 6034.41 | E77: =DAYS360(B76,B77) -> 14 | F77: =(D77-D76)/E77 -> 1.1007143
B78: 42617 | D78: 6072.33 | E78: =DAYS360(B77,B78) -> 22 | F78: =(D78-D77)/E78 -> 1.7236364 | L78: =D78-D76 -> 53.33 | M78: =L78/SUM(E77:E78)*31 -> 45.923056
B79: 42665 | D79: 6276.93 | E79: =DAYS360(B78,B79) -> 48 | F79: =(D79-D78)/E79 -> 4.2625 | G79: =125+234 -> 359 | H79: =(D79-D78)/G79 -> 0.56991643
B80: 42735 | D80: 6822.39 | E80: =DAYS360(B79,B80) -> 69 | F80: =(D80-D79)/E80 -> 7.9052174 | G80: 1172 | H80: =(D80-D79)/G80 -> 0.46540956
B81: 42749 | D81: 6850.12 | E81: =DAYS360(B80,B81) -> 14 | F81: =(D81-D80)/E81 -> 1.9807143 | G81: 363 | H81: =(D81-D80)/G81 -> 0.076391185
B82: 42764 | D82: 6936.34 | E82: =DAYS360(B81,B82) -> 15 | F82: =(D82-D81)/E82 -> 5.748 | G82: 310 | H82: =(D82-D81)/G82 -> 0.27812903
B83: 42792 | D83: 7116.25 | E83: =DAYS360(B82,B83) -> 27 | F83: =(D83-D82)/E83 -> 6.6633333 | G83: 600 | H83: =(D83-D82)/G83 -> 0.29985
B84: 42841 | D84: 7549.7 | E84: =DAYS360(B83,B84) -> 50 | F84: =(D84-D83)/E84 -> 8.669 | G84: 840 | H84: =(D84-D83)/G84 -> 0.5160119
B85: 42862 | D85: 7682.85 | E85: =DAYS360(B84,B85) -> 21 | F85: =(D85-D84)/E85 -> 6.3404762 | G85: 230 | H85: =(D85-D84)/G85 -> 0.57891304
B86: 42897 | D86: 7810.93 | E86: =DAYS360(B85,B86) -> 34 | F86: =(D86-D85)/E86 -> 3.7670588
B87: 42908 | D87: 7824.01 | E87: =DAYS360(B86,B87) -> 11 | F87: =(D87-D86)/E87 -> 1.1890909
B88: 42917 | D88: 7835.31 | E88: =DAYS360(B87,B88) -> 9 | F88: =(D88-D87)/E88 -> 1.2555556 | J88: =D88-D75 -> 1864.39
B89: 42952 | D89: 7871.11 | E89: =DAYS360(B88,B89) -> 34 | F89: =(D89-D88)/E89 -> 1.0529412 | J89: =D89-D88 -> 35.8
B90: 42993 | D90: 7950 | E90: =DAYS360(B89,B90) -> 40 | F90: =(D90-D89)/E90 -> 1.97225
B91: 43015 | D91: 8045.28 | E91: =DAYS360(B90,B91) -> 22 | F91: =(D91-D90)/E91 -> 4.3309091 | G91: 160 | H91: =(D91-D90)/G91 -> 0.5955
B92: 43043 | D92: 8297.17 | E92: =DAYS360(B91,B92) -> 27 | F92: =(D92-D91)/E92 -> 9.3292593 | G92: 396 | H92: =(D92-D91)/G92 -> 0.63608586 | K92: =D92-D91 -> 251.89
B93: 43100 | D93: 8857.63 | E93: =DAYS360(B92,B93) -> 57 | F93: =(D93-D92)/E93 -> 9.8326316 | G93: 1050 | H93: =(D93-D92)/G93 -> 0.53377143 | K93: =D93-D92 -> 560.46 | N93: =D93-D80 -> 2035.24
B94: 43155 | D94: 9122.02 | E94: =DAYS360(B93,B94) -> 54 | F94: =(D94-D93)/E94 -> 4.8961111 | G94: 1320 | H94: =(D94-D93)/G94 -> 0.20029545 | N94: =D94-D93 -> 264.39
B95: 43184 | D95: 9294.37 | E95: =DAYS360(B94,B95) -> 31 | F95: =(D95-D94)/E95 -> 5.5596774 | G95: 723 | H95: =(D95-D94)/G95 -> 0.23838174 | N95: =D95-D94 -> 172.35 | P95: =D94-D83 -> 2005.77
B96: 43217 | D96: 9530.9 | E96: =DAYS360(B95,B96) -> 32 | F96: =(D96-D95)/E96 -> 7.3915625 | N96: =D96-D95 -> 236.53
B97: 43241 | D97: 9598.8 | E97: =DAYS360(B96,B97) -> 24 | F97: =(D97-D96)/E97 -> 2.8291667 | N97: =D97-D96 -> 67.9
B98: 43269 | D98: 9628.28 | E98: =DAYS360(B97,B98) -> 27 | F98: =(D98-D97)/E98 -> 1.0918519 | N98: =D98-D97 -> 29.48 | P98: =D98-D87 -> 1804.27
B99: 43285 | D99: 9644.29 | E99: =DAYS360(B98,B99) -> 16 | F99: =(D99-D98)/E99 -> 1.000625
B100: 43298 | D100: 9661.08 | E100: =DAYS360(B99,B100) -> 13 | F100: =(D100-D99)/E100 -> 1.2915385 | N100: =D100-D99 -> 16.79
B101: 43317 | D101: 9702.4 | E101: =DAYS360(B100,B101) -> 18 | F101: =(D101-D100)/E101 -> 2.2955556 | N101: =D101-D99 -> 58.11 | O101: =N101-N100 -> 41.32 | P101: =D101-D89 -> 1831.29
B102: 43364 | D102: 9762.31 | E102: =DAYS360(B101,B102) -> 46 | F102: =(D102-D101)/E102 -> 1.3023913 | N102: =D102-D101 -> 59.91 | P102: =D102-D90 -> 1812.31
B103: 43401 | D103: 9930.78 | E103: =DAYS360(B102,B103) -> 37 | F103: =(D103-D102)/E103 -> 4.5532432 | N103: =D103-D101 -> 228.38
B104: 43442 | D104: 10300.53 | E104: =DAYS360(B103,B104) -> 40 | F104: =(D104-D103)/E104 -> 9.24375 | G104: =SUM(M11:N11) -> 791 | H104: =(D104-D103)/G104 -> 0.46744627 | N104: =D104-D103 -> 369.75
B105: 43464 | D105: 531.5 | E105: =DAYS360(B104,B105) -> 22 | F105: =(D105-D104+10000)/E105 -> 10.498636 | N105: =D105-D104+10000 -> 230.97 | P105: =D105-D93+10000 -> 1673.87
B106: 43547 | D106: 994.26 | E106: =DAYS360(B105,B106) -> 83 | F106: =(D106-D105)/E106 -> 5.5754217 | N106: =D106-D105 -> 462.76 | P106: =D106-D95+10000 -> 1699.89
B107: 43582 | D107: 1190.87 | E107: =DAYS360(B106,B107) -> 34 | F107: =(D107-D106)/E107 -> 5.7826471 | N107: =D107-D106 -> 196.61 | P107: =D107-D96+10000 -> 1659.97
B108: 43622 | D108: 1333.82 | E108: =DAYS360(B107,B108) -> 39 | F108: =(D108-D107)/E108 -> 3.6653846 | N108: =D108-D107 -> 142.95 | P108: =D108-D98+10000 -> 1705.54
B109: 43670 | D109: 1398.19 | E109: =DAYS360(B108,B109) -> 48 | F109: =(D109-D108)/E109 -> 1.3410417 | N109: =D109-D108 -> 64.37
B110: 43681 | D110: 1419.41 | E110: =DAYS360(B109,B110) -> 10 | F110: =(D110-D109)/E110 -> 2.122 | N110: =D110-D109 -> 21.22 | P110: =D110-D101+10000 -> 1717.01
B111: 43744 | D111: 1581.94 | E111: =DAYS360(B110,B111) -> 62 | F111: =(D111-D110)/E111 -> 2.6214516 | N111: =D111-D110 -> 162.53
B112: 43806 | D112: 2125.79 | E112: =DAYS360(B111,B112) -> 61 | F112: =(D112-D111)/E112 -> 8.9155738 | N112: =D112-D111 -> 543.85 | P112: =D112-D104+10000 -> 1825.26
B113: 43827 | D113: 2323.56 | E113: =DAYS360(B112,B113) -> 21 | F113: =(D113-D112)/E113 -> 9.417619 | N113: =D113-D112 -> 197.77 | P113: =D113-D105 -> 1792.06
B114: 43876 | D114: 2777.25 | E114: =DAYS360(B113,B114) -> 47 | F114: =(D114-D113)/E114 -> 9.6529787 | N114: =D114-D113 -> 453.69
B115: 43953 | D115: 3386.03 | E115: =DAYS360(B114,B115) -> 77 | F115: =(D115-D114)/E115 -> 7.9062338 | N115: =D115-D114 -> 608.78 | P115: =D115-D107 -> 2195.16
B116: 43972 | D116: 3469.97 | E116: =DAYS360(B115,B116) -> 19 | F116: =(D116-D115)/E116 -> 4.4178947 | N116: =D116-D115 -> 83.94
...

Sheet 2023
A1: SÄHKÖNKULUTUSRAPORTTI | D1: 2023
A3: Imatra omakotitalo 4H+K+S | D3: Asuinala | F3: 110 | G3: m2 | H3: Taloussähkö arvio | K3: 11 | L3: kWh/d
D4: Tilavuus | F4: =2.52*F3 -> 277.2 | G4: m3 | H4: Kesäkuukausien keskikulutus (ilman ILP) | K4: =(SUM(I9:K9)-SUM(I10:K10))/92 -> 9.1568478 | L4: kWh/d
A6: Jakso | D6: Tammi | E6: Helmi | F6: Maalis | G6: Huhti | H6: Touko | I6: Kesä | J6: Heinä | K6: Elo | L6: Syys | M6: Loka | N6: Marras | O6: Joulu | P6: Yhteensä
D7: 31 | E7: 28 | F7: 31 | G7: 30 | H7: 31 | I7: 30 | J7: 31 | K7: 31 | L7: 30 | M7: 31 | N7: 30 | O7: 31 | P7: =SUM(D7:O7) -> 365
A8: 2023 | B8: Keskilämpötila | C8: oC | D8: -3.4 | E8: -4.4 | F8: -3 | G8: 4.8 | H8: 10.8 | I8: 16.1 | J8: 16.6 | K8: 17.4 | L8: 14.1 | M8: 3.1 | N8: -1.9 | O8: -7 | P8: =AVERAGE(D8:O8) -> 5.2666667
A9: 2023 | B9: Sähkö yhteensä | C9: kWh | D9: 1244 | E9: 1133 | F9: 1091 | G9: 654.28 | H9: 445.77 | I9: 324.36 | J9: 310.77 | K9: 296.3 | L9: 347.28 | M9: 675.47 | N9: 1044.23 | O9: 1130.68 | P9: =SUM(D9:O9) -> 8697.14 | R9: =SUM(N9:O9)+SUM('2022'!D9:M9) -> 9126.95 | T9: Panan kuluttama sähkö yhteensä E9DKEW
A10: 2023 | B10: Ilmalämpöpumppu, arvio | C10: kWh | D10: 250 | E10: 220 | F10: 280 | G10: 100 | H10: 102 | I10: 29 | J10: 30 | K10: 30 | L10: 50 | M10: 200 | N10: 150 | O10: 400 | P10: =SUM(D10:O10) -> 1841 | R10: =SUM(N10:O10)+SUM('2022'!D10:M10) -> 1875 | T10: =SUM(D10:N10)+'2022'!T10 -> 29591.231
A11: 2023 | B11: Lämmitystarveluku toteutunut | C11: Cd | D11: 632 | E11: 600 | F11: 619 | G11: 346 | H11: 122 | I11: 29 | J11: 0 | K11: 0 | L11: 32 | M11: 431 | N11: 566 | O11: 743 | P11: =SUM(D11:O11) -> 4120 | R11: =SUM(N11:O11)+SUM('2022'!D11:M11) -> 4324
A12: 2023 | B12: Lämmitystarveluku normivuosi | C12: Cd | D12: 759 | E12: 699 | F12: 621 | G12: 403 | H12: 165 | I12: 22 | J12: 5 | K12: 28 | L12: 184 | M12: 386 | N12: 546 | O12: 692 | P12: 4510
A13: 2023 | B13: Taloussähkö (arvio) | C13: kWh | D13: =$K$3*D7 -> 341 | E13: =$K$3*E7 -> 308 | F13: =$K$3*F7 -> 341 | G13: =$K$3*G7 -> 330 | H13: =$K$3*H7 -> 341 | I13: =$K$3*I7 -> 330 | J13: =$K$3*J7 -> 341 | K13: =$K$3*K7 -> 341 | ... O13: =$K$3*O7 -> 341 | P13: =SUM(D13:O13) -> 4015 | T13: =P12-P11 -> 390
A14: 2023 | B14: Lämmityssähkö (arvio) | C14: kWh | D14: =D9-D13 -> 903 | E14: =E9-E13 -> 825 | F14: =F9-F13 -> 750 | G14: =G9-G13 -> 324.28 | H14: =H9-H13 -> 104.77 | I14: 0 | J14: =J10 -> 30 | K14: =K10 -> 30 | L14: =L9-L13 -> 17.28 | M14: =M9-M13 -> 334.47 | N14: =N9-N13 -> 714.23 | O14: =O9-O13 -> 789.68 | P14: =SUM(D14:O14) -> 4822.71
A15: 2023 | B15: Sääkorjattu lämmityssähkö | C15: kWh | D15: =IF(D14<0,0,((D12/D11))*D14) -> 1084.4573 | E15: =IF(E14<0,0,((E12/E11))*E14) -> 961.125 | F15: =IF(F14<0,0,((F12/F11))*F14) -> 752.42326 | G15: =IF(G14<0,0,((G12/G11))*G14) -> 377.70185 | H15: =IF(H14<0,0,((H12/H11))*H14) -> 141.69713 | I15: =I14 -> 0 | J15: =J14 -> 30 | K15: =K14 -> 30 | L15: =IF(L14<0,0,((L12/L11))*L14) -> 99.36 | M15: =IF(M14<0,0,((M12/M11))*M14) -> 299.54854 | N15: =IF(N14<0,0,((N12/N11))*N14) -> 688.99219 | O15: =IF(O14<0,0,((O12/O11))*O14) -> 735.47585 | P15: =SUM(D15:O15) -> 5200.7811 | R15: =SUM(N15:O15)+SUM('2022'!D15:M15) -> 5449.8605 | T15: =T13/P12 -> 0.086474501
A18: Kulutus päivässä | C18: kWh/d | D18: =D9/D7 -> 40.129032 | E18: =E9/E7 -> 40.464286 | F18: =F9/F7 -> 35.193548 | G18: =G9/G7 -> 21.809333 | H18: =H9/H7 -> 14.379677 | I18: =I9/I7 -> 10.812 | J18: =J9/J7 -> 10.024839 | K18: =K9/K7 -> 9.5580645 | ... O18: =O9/O7 -> 36.473548
B19: Kumulatiivinen kulutus | C19: kWh | D19: =SUM(D9) -> 1244 | E19: =SUM($D$9:E9) -> 2377 | F19: =SUM($D$9:F9) -> 3468 | G19: =SUM($D$9:G9) -> 4122.28 | H19: =SUM($D$9:H9) -> 4568.05 | I19: =SUM($D$9:I9) -> 4892.41 | J19: =SUM($D$9:J9) -> 5203.18 | K19: =SUM($D$9:K9) -> 5499.48 | L19: =SUM($D$9:L9) -> 5846.76 | ... O19: =SUM($D$9:O9) -> 8697.14
B20: Kumulatiivinen kulutus ILP | C20: kWh | D20: =SUM(D10) -> 250 | E20: =SUM($D$10:E10) -> 470 | F20: =SUM($D$10:F10) -> 750 | G20: =SUM($D$10:G10) -> 850 | H20: =SUM($D$10:H10) -> 952 | I20: =SUM($D$10:I10) -> 981 | J20: =SUM($D$10:J10) -> 1011 | K20: =SUM($D$10:K10) -> 1041 | L20: =SUM($D$10:L10) -> 1091 | ... O20: =SUM($D$10:O10) -> 1841
B21: Kumulatiivinen kulutus lämmitys | C21: kWh | D21: =SUM(D14) -> 903 | E21: =SUM($D$14:E14) -> 1728 | F21: =SUM($D$14:F14) -> 2478 | G21: =SUM($D$14:G14) -> 2802.28 | H21: =SUM($D$14:H14) -> 2907.05 | I21: =SUM($D$14:I14) -> 2907.05 | J21: =SUM($D$14:J14) -> 2937.05 | K21: =SUM($D$14:K14) -> 2967.05 | L21: =SUM($D$14:L14) -> 2984.33 | ... O21: =SUM($D$14:O14) -> 4822.71
A23: Lämmitys
B24: Lämmityksen osuus kulutuksesta | D24: =D14/D9 -> 0.72588424 | E24: =E14/E9 -> 0.72815534 | F24: =F14/F9 -> 0.68744271 | G24: =G14/G9 -> 0.49562878 | H24: =H14/H9 -> 0.23503152 | I24: =I14/I9 -> 0 | J24: =J14/J9 -> 0.096534415 | K24: =K14/K9 -> 0.10124873 | ... P24: =P14/P9 -> 0.55451677
B25: Sähkönkulutus lämmitykseen | C25: kWh/oCd | D25: =D14/D11 -> 1.4287975 | E25: =E14/E11 -> 1.375 | F25: =F14/F11 -> 1.2116317 | G25: =G14/G11 -> 0.93722543 | H25: =H14/H11 -> 0.85877049 | I25: =I14/I11 -> 0 | J25: =J14/J11 -> #DIV/0! | K25: =K14/K11 -> #DIV/0! | ... P25: =P14/P11 -> 1.1705607
B26: Sähkönkulutus lämmitykseen | C26: kWh/d | D26: =D14/D7 -> 29.129032 | E26: =E14/E7 -> 29.464286 | F26: =F14/F7 -> 24.193548 | G26: =G14/G7 -> 10.809333 | H26: =H14/H7 -> 3.3796774 | I26: =I14/I7 -> 0 | J26: =J14/J7 -> 0.96774194 | K26: =K14/K7 -> 0.96774194 | ... P26: =P14/P7 -> 13.212904
B27: Norm sähkö lämmitykseen | C27: kWh/d | D27: =D15/D7 -> 34.982493 | E27: =E15/E7 -> 34.325893 | F27: =F15/F7 -> 24.271718 | G27: =G15/G7 -> 12.590062 | H27: =H15/H7 -> 4.5708752 | I27: =I15/I7 -> 0 | J27: =J15/J7 -> 0.96774194 | K27: =K15/K7 -> 0.96774194 | ... P27: =P15/P7 -> 14.248715
B28: Ominaislämmönkulutus | C28: kWh/m3 | D28: =D14/$F$4 -> 3.2575758 | E28: =E14/$F$4 -> 2.9761905 | F28: =F14/$F$4 -> 2.7056277 | G28: =G14/$F$4 -> 1.1698413 | H28: =H14/$F$4 -> 0.37795815 | I28: =I14/$F$4 -> 0 | J28: =J14/$F$4 -> 0.10822511 | K28: =K14/$F$4 -> 0.10822511 | ... P28: =P14/$F$4 -> 17.397944
B29: Ominaislämmönkulutus | C29: kWh/m2 | D29: =D14/$F$3 -> 8.2090909 | E29: =E14/$F$3 -> 7.5 | F29: =F14/$F$3 -> 6.8181818 | G29: =G14/$F$3 -> 2.948 | H29: =H14/$F$3 -> 0.95245455 | I29: =I14/$F$3 -> 0 | J29: =J14/$F$3 -> 0.27272727 | K29: =K14/$F$3 -> 0.27272727 | ... P29: =P14/$F$3 -> 43.842818
B30: Norm lämmönkulutus | C30: kWh/m3 | D30: =D15/$F$4 -> 3.9121835 | E30: =E15/$F$4 -> 3.4672619 | F30: =F15/$F$4 -> 2.7143696 | G30: =G15/$F$4 -> 1.3625608 | H30: =H15/$F$4 -> 0.51117291 | I30: =I15/$F$4 -> 0 | J30: =J15/$F$4 -> 0.10822511 | K30: =K15/$F$4 -> 0.10822511 | ... P30: =P15/$F$4 -> 18.761837
B31: Norm lämmönkulutus | C31: kWh/m2 | D31: =D15/$F$3 -> 9.8587025 | E31: =E15/$F$3 -> 8.7375 | F31: =F15/$F$3 -> 6.8402115 | G31: =G15/$F$3 -> 3.4336532 | H31: =H15/$F$3 -> 1.2881557 | I31: =I15/$F$3 -> 0 | J31: =J15/$F$3 -> 0.27272727 | K31: =K15/$F$3 -> 0.27272727 | ... P31: =P15/$F$3 -> 47.279828
B32: Ominaislämmönkulutus | C32: Wh/m3/oCd | D32: =1000*D28/D11 -> 5.154392 | E32: =1000*E28/E11 -> 4.9603175 | F32: =1000*F28/F11 -> 4.3709656 | G32: =1000*G28/G11 -> 3.3810441 | H32: =1000*H28/H11 -> 3.0980176 | I32: =1000*I28/I11 -> 0 | J32: =1000*J28/J11 -> #DIV/0! | K32: =1000*K28/K11 -> #DIV/0! | ... P32: =1000*P28/P11 -> 4.2228019
A34: Vuosikulutusarvio
B36: Lämmityssähkö ILPillä | D36: =4500*1.3 -> 5850 | E36: kWh | F36: =D36/$D$38 -> 0.59300558 | G36: Arvio lämmityssähkö ilman ILP | K36: ='2007'!D34 -> 8566 | L36: kWh | M36: Vuosikulutusarvio ilma ILP
B37: Taloussähkö | D37: =K3*365 -> 4015 | E37: kWh | F37: =D37/$D$38 -> 0.40699442 | G37: Arvio ILPin säästämästä sähköstä | K37: =K36-D36 -> 2716 | L37: kWh | N37: ='2007'!I36 -> 14540 | O37: kWh
B38: Yhteensä | D38: =SUM(D36:D37) -> 9865 | E38: kWh | G38: Säästöarvio lämmityssähkönkulutuksesta | K38: =K37/K36 -> 0.31706748
G39: Säästöarvio kokonaissähkönkulutuksesta | K39: =K37/(SUM(D37)+K36) -> 0.21588109
A49: ILP | D49: lukema | E49: päivät | F49: kulutus | G49: astepäivät
B50: 41633 | D50: 495.16
B51: 41645 | D51: 584.7 | E51: =DAYS360(B50,B51) -> 11 | F51: =(D51-D50)/E51 -> 8.14 | G51: 195 | H51: =(D51-D50)/G51 -> 0.45917949
B52: 41692 | D52: 1079.44 | E52: =DAYS360(B51,B52) -> 46 | F52: =(D52-D51)/E52 -> 10.755217 | G52: 1116 | H52: =(D52-D51)/G52 -> 0.44331541
B53: 41720 | D53: 1376.73 | E53: =DAYS360(B52,B53) -> 30 | F53: =(D53-D52)/E53 -> 9.9096667 | G53: 459 | H53: =(D53-D52)/G53 -> 0.64769063
B54: 41734 | D54: 1545.36 | E54: =DAYS360(B53,B54) -> 13 | F54: =(D54-D53)/E54 -> 12.971538 | G54: 173 | H54: =(D54-D53)/G54 -> 0.97473988 | N54: jäähdytys
B55: 41791 | D55: 2153 | E55: =DAYS360(B54,B55) -> 56 | F55: =(D55-D54)/E55 -> 10.850714 | G55: 537 | H55: =(D55-D54)/G55 -> 1.1315456 | L55: 41851 | N55: 2274.96 | O55: =N55-D57 -> 13.27
B56: 41814 | D56: 2233.47 | E56: =DAYS360(B55,B56) -> 23 | F56: =(D56-D55)/E56 -> 3.4986957 | G56: 78.2 | H56: =(D56-D55)/G56 -> 1.0290281
B57: 41825 | D57: 2261.69 | E57: =DAYS360(B56,B57) -> 11 | F57: =(D57-D56)/E57 -> 2.5654545
B58: 41852 | D58: 2274.96 | E58: =DAYS360(B57,B58) -> 26 | F58: =(D58-D57)/E58 -> 0.51038462
B59: 41882 | D59: 2314.32 | E59: =DAYS360(B58,B59) -> 30 | F59: =(D59-D58)/E59 -> 1.312 | G59: 13 | I59: =D59-D58 -> 39.36
B60: 41889 | D60: 2330.23 | E60: =DAYS360(B59,B60) -> 7 | F60: =(D60-D59)/E60 -> 2.2728571 | G60: =3.8*7 -> 26.6 | H60: =(D60-D59)/G60 -> 0.5981203
B61: 41929 | D61: 2507 | E61: =DAYS360(B60,B61) -> 40 | F61: =(D61-D60)/E61 -> 4.41925 | G61: =7*40 -> 280 | H61: =(D61-D60)/G61 -> 0.63132143
B62: 41951 | D62: 2695.68 | E62: =DAYS360(B61,B62) -> 21 | F62: =(D62-D61)/E62 -> 8.9847619 | G62: =21*12.5 -> 262.5 | H62: =(D62-D61)/G62 -> 0.71878095
B63: 42035 | D63: 3422.93 | E63: =DAYS360(B62,B63) -> 83 | F63: =(D63-D62)/E63 -> 8.7620482 | G63: 1643 | H63: =(D63-D62)/G63 -> 0.44263542 | L63: =D63-D50 -> 2927.77 | N63: =B63-B50 -> 402 | P63: =L63/N63*365 -> 2658.2986
B64: 42099 | D64: 3996.35 | E64: =DAYS360(B63,B64) -> 65 | F64: =(D64-D63)/E64 -> 8.8218462 | G64: =524+505+80 -> 1109 | H64: =(D64-D63)/G64 -> 0.51706041 | L64: =D64-D63 -> 573.42
B65: 42127 | D65: 4186.01 | E65: =DAYS360(B64,B65) -> 28 | F65: =(D65-D64)/E65 -> 6.7735714 | G65: 372 | H65: =(D65-D64)/G65 -> 0.50983871 | L65: =D65-D64 -> 189.66
B66: 42148 | D66: 4288.13 | E66: =DAYS360(B65,B66) -> 21 | F66: =(D66-D65)/E66 -> 4.8628571 | G66: 125 | H66: =(D66-D65)/G66 -> 0.81696 | L66: =D66-D65 -> 102.12
B67: 42180 | D67: 4366.53 | E67: =DAYS360(B66,B67) -> 31 | F67: =(D67-D66)/E67 -> 2.5290323 | G67: 8 | H67: =(D67-D66)/G67 -> 9.8 | L67: =D67-D66 -> 78.4
B68: 42233 | D68: 4444.18 | E68: =DAYS360(B67,B68) -> 52 | F68: =(D68-D67)/E68 -> 1.4932692 | G68: 5 | H68: =(D68-D67)/G68 -> 15.53
B69: 42295 | D69: 4652.76 | E69: =DAYS360(B68,B69) -> 61 | F69: =(D69-D68)/E69 -> 3.4193443 | G69: =70+18*(17-4) -> 304 | H69: =(D69-D68)/G69 -> 0.68611842 | L69: =D69-D61 -> 2145.76
B70: 42346 | D70: 5072.02 | E70: =DAYS360(B69,B70) -> 50 | F70: =(D70-D69)/E70 -> 8.3852 | G70: =13.5*50 -> 675 | H70: =(D70-D69)/G70 -> 0.62112593
B71: 42361 | D71: 5193.02 | E71: =DAYS360(B70,B71) -> 15 | F71: =(D71-D70)/E71 -> 8.0666667 | G71: =14*15 -> 210 | H71: =(D71-D70)/G71 -> 0.57619048
B72: 42442 | D72: 5511 | E72: =DAYS360(B71,B72) -> 80 | F72: =(D72-D71)/E72 -> 3.97475 | G72: =552+969 -> 1521 | H72: =(D72-D71)/G72 -> 0.20905983
B73: 42489 | D73: 5826.24 | E73: =DAYS360(B72,B73) -> 46 | F73: =(D73-D72)/E73 -> 6.8530435 | G73: =561+376 -> 937 | H73: =(D73-D72)/G73 -> 0.33643543
B74: 42519 | D74: 5907.41 | E74: =DAYS360(B73,B74) -> 30 | F74: =(D74-D73)/E74 -> 2.7056667 | G74: 23 | H74: =(D74-D73)/G74 -> 3.5291304
B75: 42552 | D75: 5970.92 | E75: =DAYS360(B74,B75) -> 32 | F75: =(D75-D74)/E75 -> 1.9846875 | G75: 37 | H75: =(D75-D74)/G75 -> 1.7164865
B76: 42579 | D76: 6019 | E76: =DAYS360(B75,B76) -> 27 | F76: =(D76-D75)/E76 -> 1.7807407 | G76: 0 | H76: =(D76-D75)/G76 -> #DIV/0!
B77: 42594 | D77: 6034.41 | E77: =DAYS360(B76,B77) -> 14 | F77: =(D77-D76)/E77 -> 1.1007143
B78: 42617 | D78: 6072.33 | E78: =DAYS360(B77,B78) -> 22 | F78: =(D78-D77)/E78 -> 1.7236364 | L78: =D78-D76 -> 53.33 | M78: =L78/SUM(E77:E78)*31 -> 45.923056
B79: 42665 | D79: 6276.93 | E79: =DAYS360(B78,B79) -> 48 | F79: =(D79-D78)/E79 -> 4.2625 | G79: =125+234 -> 359 | H79: =(D79-D78)/G79 -> 0.56991643
B80: 42735 | D80: 6822.39 | E80: =DAYS360(B79,B80) -> 69 | F80: =(D80-D79)/E80 -> 7.9052174 | G80: 1172 | H80: =(D80-D79)/G80 -> 0.46540956
B81: 42749 | D81: 6850.12 | E81: =DAYS360(B80,B81) -> 14 | F81: =(D81-D80)/E81 -> 1.9807143 | G81: 363 | H81: =(D81-D80)/G81 -> 0.076391185
B82: 42764 | D82: 6936.34 | E82: =DAYS360(B81,B82) -> 15 | F82: =(D82-D81)/E82 -> 5.748 | G82: 310 | H82: =(D82-D81)/G82 -> 0.27812903
B83: 42792 | D83: 7116.25 | E83: =DAYS360(B82,B83) -> 27 | F83: =(D83-D82)/E83 -> 6.6633333 | G83: 600 | H83: =(D83-D82)/G83 -> 0.29985
B84: 42841 | D84: 7549.7 | E84: =DAYS360(B83,B84) -> 50 | F84: =(D84-D83)/E84 -> 8.669 | G84: 840 | H84: =(D84-D83)/G84 -> 0.5160119
B85: 42862 | D85: 7682.85 | E85: =DAYS360(B84,B85) -> 21 | F85: =(D85-D84)/E85 -> 6.3404762 | G85: 230 | H85: =(D85-D84)/G85 -> 0.57891304
B86: 42897 | D86: 7810.93 | E86: =DAYS360(B85,B86) -> 34 | F86: =(D86-D85)/E86 -> 3.7670588
B87: 42908 | D87: 7824.01 | E87: =DAYS360(B86,B87) -> 11 | F87: =(D87-D86)/E87 -> 1.1890909
B88: 42917 | D88: 7835.31 | E88: =DAYS360(B87,B88) -> 9 | F88: =(D88-D87)/E88 -> 1.2555556 | J88: =D88-D75 -> 1864.39
B89: 42952 | D89: 7871.11 | E89: =DAYS360(B88,B89) -> 34 | F89: =(D89-D88)/E89 -> 1.0529412 | J89: =D89-D88 -> 35.8
B90: 42993 | D90: 7950 | E90: =DAYS360(B89,B90) -> 40 | F90: =(D90-D89)/E90 -> 1.97225
B91: 43015 | D91: 8045.28 | E91: =DAYS360(B90,B91) -> 22 | F91: =(D91-D90)/E91 -> 4.3309091 | G91: 160 | H91: =(D91-D90)/G91 -> 0.5955
B92: 43043 | D92: 8297.17 | E92: =DAYS360(B91,B92) -> 27 | F92: =(D92-D91)/E92 -> 9.3292593 | G92: 396 | H92: =(D92-D91)/G92 -> 0.63608586 | K92: =D92-D91 -> 251.89
B93: 43100 | D93: 8857.63 | E93: =DAYS360(B92,B93) -> 57 | F93: =(D93-D92)/E93 -> 9.8326316 | G93: 1050 | H93: =(D93-D92)/G93 -> 0.53377143 | K93: =D93-D92 -> 560.46 | N93: =D93-D80 -> 2035.24
B94: 43155 | D94: 9122.02 | E94: =DAYS360(B93,B94) -> 54 | F94: =(D94-D93)/E94 -> 4.8961111 | G94: 1320 | H94: =(D94-D93)/G94 -> 0.20029545 | N94: =D94-D93 -> 264.39
B95: 43184 | D95: 9294.37 | E95: =DAYS360(B94,B95) -> 31 | F95: =(D95-D94)/E95 -> 5.5596774 | G95: 723 | H95: =(D95-D94)/G95 -> 0.23838174 | N95: =D95-D94 -> 172.35 | P95: =D94-D83 -> 2005.77
B96: 43217 | D96: 9530.9 | E96: =DAYS360(B95,B96) -> 32 | F96: =(D96-D95)/E96 -> 7.3915625 | N96: =D96-D95 -> 236.53
B97: 43241 | D97: 9598.8 | E97: =DAYS360(B96,B97) -> 24 | F97: =(D97-D96)/E97 -> 2.8291667 | N97: =D97-D96 -> 67.9
B98: 43269 | D98: 9628.28 | E98: =DAYS360(B97,B98) -> 27 | F98: =(D98-D97)/E98 -> 1.0918519 | N98: =D98-D97 -> 29.48 | P98: =D98-D87 -> 1804.27
B99: 43285 | D99: 9644.29 | E99: =DAYS360(B98,B99) -> 16 | F99: =(D99-D98)/E99 -> 1.000625
B100: 43298 | D100: 9661.08 | E100: =DAYS360(B99,B100) -> 13 | F100: =(D100-D99)/E100 -> 1.2915385 | N100: =D100-D99 -> 16.79
B101: 43317 | D101: 9702.4 | E101: =DAYS360(B100,B101) -> 18 | F101: =(D101-D100)/E101 -> 2.2955556 | N101: =D101-D99 -> 58.11 | O101: =N101-N100 -> 41.32 | P101: =D101-D89 -> 1831.29
B102: 43364 | D102: 9762.31 | E102: =DAYS360(B101,B102) -> 46 | F102: =(D102-D101)/E102 -> 1.3023913 | N102: =D102-D101 -> 59.91 | P102: =D102-D90 -> 1812.31
B103: 43401 | D103: 9930.78 | E103: =DAYS360(B102,B103) -> 37 | F103: =(D103-D102)/E103 -> 4.5532432 | N103: =D103-D101 -> 228.38
B104: 43442 | D104: 10300.53 | E104: =DAYS360(B103,B104) -> 40 | F104: =(D104-D103)/E104 -> 9.24375 | G104: =SUM(M11:N11) -> 997 | H104: =(D104-D103)/G104 -> 0.37086259 | N104: =D104-D103 -> 369.75
B105: 43464 | D105: 531.5 | E105: =DAYS360(B104,B105) -> 22 | F105: =(D105-D104+10000)/E105 -> 10.498636 | N105: =D105-D104+10000 -> 230.97 | P105: =D105-D93+10000 -> 1673.87
B106: 43547 | D106: 994.26 | E106: =DAYS360(B105,B106) -> 83 | F106: =(D106-D105)/E106 -> 5.5754217 | N106: =D106-D105 -> 462.76 | P106: =D106-D95+10000 -> 1699.89
B107: 43582 | D107: 1190.87 | E107: =DAYS360(B106,B107) -> 34 | F107: =(D107-D106)/E107 -> 5.7826471 | N107: =D107-D106 -> 196.61 | P107: =D107-D96+10000 -> 1659.97
B108: 43622 | D108: 1333.82 | E108: =DAYS360(B107,B108) -> 39 | F108: =(D108-D107)/E108 -> 3.6653846 | N108: =D108-D107 -> 142.95 | P108: =D108-D98+10000 -> 1705.54
B109: 43670 | D109: 1398.19 | E109: =DAYS360(B108,B109) -> 48 | F109: =(D109-D108)/E109 -> 1.3410417 | N109: =D109-D108 -> 64.37
B110: 43681 | D110: 1419.41 | E110: =DAYS360(B109,B110) -> 10 | F110: =(D110-D109)/E110 -> 2.122 | N110: =D110-D109 -> 21.22 | P110: =D110-D101+10000 -> 1717.01
B111: 43744 | D111: 1581.94 | E111: =DAYS360(B110,B111) -> 62 | F111: =(D111-D110)/E111 -> 2.6214516 | N111: =D111-D110 -> 162.53
B112: 43806 | D112: 2125.79 | E112: =DAYS360(B111,B112) -> 61 | F112: =(D112-D111)/E112 -> 8.9155738 | N112: =D112-D111 -> 543.85 | P112: =D112-D104+10000 -> 1825.26
B113: 43827 | D113: 2323.56 | E113: =DAYS360(B112,B113) -> 21 | F113: =(D113-D112)/E113 -> 9.417619 | N113: =D113-D112 -> 197.77 | P113: =D113-D105 -> 1792.06
B114: 43876 | D114: 2777.25 | E114: =DAYS360(B113,B114) -> 47 | F114: =(D114-D113)/E114 -> 9.6529787 | N114: =D114-D113 -> 453.69
B115: 43953 | D115: 3386.03 | E115: =DAYS360(B114,B115) -> 77 | F115: =(D115-D114)/E115 -> 7.9062338 | N115: =D115-D114 -> 608.78 | P115: =D115-D107 -> 2195.16
B116: 43972 | D116: 3469.97 | E116: =DAYS360(B115,B116) -> 19 | F116: =(D116-D115)/E116 -> 4.4178947 | N116: =D116-D115 -> 83.94
...

Sheet 2022
A1: SÄHKÖNKULUTUSRAPORTTI | D1: 2022
A3: Imatra omakotitalo 4H+K+S | D3: Asuinala | F3: 110 | G3: m2 | H3: Taloussähkö arvio | K3: 11 | L3: kWh/d
D4: Tilavuus | F4: =2.52*F3 -> 277.2 | G4: m3 | H4: Kesäkuukausien keskikulutus (ilman ILP) | K4: =(SUM(I9:K9)-SUM(I10:K10))/92 -> 9.6173913 | L4: kWh/d
A6: Jakso | D6: Tammi | E6: Helmi | F6: Maalis | G6: Huhti | H6: Touko | I6: Kesä | J6: Heinä | K6: Elo | L6: Syys | M6: Loka | N6: Marras | O6: Joulu | P6: Yhteensä
D7: 31 | E7: 28 | F7: 31 | G7: 30 | H7: 31 | I7: 30 | J7: 31 | K7: 31 | L7: 30 | M7: 31 | N7: 30 | O7: 31 | P7: =SUM(D7:O7) -> 365
A8: 2022 | B8: Keskilämpötila | C8: oC | D8: -5.6 | E8: -3.6 | F8: -1.2 | G8: 2.6 | H8: 9.1 | I8: 16.3 | J8: 18.1 | K8: 18.6 | L8: 9.1 | M8: 6.3 | N8: 0.5 | O8: -4.2 | P8: =AVERAGE(D8:O8) -> 5.5
A9: 2022 | B9: Sähkö yhteensä | C9: kWh | D9: 1460.36 | E9: 1107.88 | F9: 1084.04 | G9: 757.78 | H9: 490.43 | I9: 346.44 | J9: 332.2 | K9: 281.16 | L9: 478.08 | M9: 613.67 | N9: 863.13 | O9: 1289.09 | P9: =SUM(D9:O9) -> 9104.26
A10: 2022 | B10: Ilmalämpöpumppu, arvio | C10: kWh | D10: 160 | E10: 200 | F10: 310 | G10: 160 | H10: 80 | I10: 30 | J10: 20 | K10: 25 | L10: 140 | M10: 200 | N10: 250 | O10: 200 | P10: =SUM(D10:O10) -> 1775 | T10: =P10+'2021'!T10 -> 28150.231
A11: 2022 | B11: Lämmitystarveluku toteutunut | C11: oCd | D11: 700 | E11: 576 | F11: 565 | G11: 431 | H11: 169 | I11: 0 | J11: 0 | K11: 7 | L11: 236 | M11: 331 | N11: 495 | O11: 635 | P11: =SUM(D11:O11) -> 4145
A12: 2022 | B12: Lämmitystarveluku normivuosi | C12: oCd | D12: 759 | E12: 699 | F12: 621 | G12: 403 | H12: 165 | I12: 22 | J12: 5 | K12: 28 | L12: 184 | M12: 386 | N12: 546 | O12: 692 | P12: 4510
A13: 2022 | B13: Taloussähkö (arvio) | C13: kWh | D13: =$K$3*D7 -> 341 | E13: =$K$3*E7 -> 308 | F13: =$K$3*F7 -> 341 | G13: =$K$3*G7 -> 330 | H13: =$K$3*H7 -> 341 | I13: =$K$3*I7 -> 330 | J13: =$K$3*J7 -> 341 | K13: =$K$3*K7 -> 341 | ... O13: =$K$3*O7 -> 341 | P13: =SUM(D13:O13) -> 4015 | T13: =P12-P11 -> 365
A14: 2022 | B14: Lämmityssähkö (arvio) | C14: kWh | D14: =D9-D13 -> 1119.36 | E14: =E9-E13 -> 799.88 | F14: =F9-F13 -> 743.04 | G14: =G9-G13 -> 427.78 | H14: =H9-H13 -> 149.43 | I14: 0 | J14: =J10 -> 20 | K14: =K10 -> 25 | L14: =L9-L13 -> 148.08 | M14: =M9-M13 -> 272.67 | N14: =N9-N13 -> 533.13 | O14: =O9-O13 -> 948.09 | P14: =SUM(D14:O14) -> 5186.46
A15: 2022 | B15: Sääkorjattu lämmityssähkö | C15: kWh | D15: =IF(D14<0,0,((D12/D11))*D14) -> 1213.7061 | E15: =IF(E14<0,0,((E12/E11))*E14) -> 970.68771 | F15: =IF(F14<0,0,((F12/F11))*F14) -> 816.68644 | G15: =IF(G14<0,0,((G12/G11))*G14) -> 399.98919 | H15: =IF(H14<0,0,((H12/H11))*H14) -> 145.8932 | I15: =I14 -> 0 | J15: =J14 -> 20 | K15: =K14 -> 25 | L15: =IF(L14<0,0,((L12/L11))*L14) -> 115.4522 | M15: =IF(M14<0,0,((M12/M11))*M14) -> 317.9777 | N15: =IF(N14<0,0,((N12/N11))*N14) -> 588.05855 | O15: =IF(O14<0,0,((O12/O11))*O14) -> 1033.1941 | P15: =SUM(D15:O15) -> 5646.6452 | R15: =P14-P10 -> 3411.46 | T15: =T13/P12 -> 0.080931264
A18: Kulutus päivässä | C18: kWh/d | D18: =D9/D7 -> 47.108387 | E18: =E9/E7 -> 39.567143 | F18: =F9/F7 -> 34.969032 | G18: =G9/G7 -> 25.259333 | H18: =H9/H7 -> 15.820323 | I18: =I9/I7 -> 11.548 | J18: =J9/J7 -> 10.716129 | K18: =K9/K7 -> 9.0696774 | ... O18: =O9/O7 -> 41.583548
B19: Kumulatiivinen kulutus | C19: kWh | D19: =SUM(D9) -> 1460.36 | E19: =SUM($D$9:E9) -> 2568.24 | F19: =SUM($D$9:F9) -> 3652.28 | G19: =SUM($D$9:G9) -> 4410.06 | H19: =SUM($D$9:H9) -> 4900.49 | I19: =SUM($D$9:I9) -> 5246.93 | J19: =SUM($D$9:J9) -> 5579.13 | K19: =SUM($D$9:K9) -> 5860.29 | L19: =SUM($D$9:L9) -> 6338.37 | ... O19: =SUM($D$9:O9) -> 9104.26
B20: Kumulatiivinen kulutus ILP | C20: kWh | D20: =SUM(D10) -> 160 | E20: =SUM($D$10:E10) -> 360 | F20: =SUM($D$10:F10) -> 670 | G20: =SUM($D$10:G10) -> 830 | H20: =SUM($D$10:H10) -> 910 | I20: =SUM($D$10:I10) -> 940 | J20: =SUM($D$10:J10) -> 960 | K20: =SUM($D$10:K10) -> 985 | L20: =SUM($D$10:L10) -> 1125 | ... O20: =SUM($D$10:O10) -> 1775
B21: Kumulatiivinen kulutus lämmitys | C21: kWh | D21: =SUM(D14) -> 1119.36 | E21: =SUM($D$14:E14) -> 1919.24 | F21: =SUM($D$14:F14) -> 2662.28 | G21: =SUM($D$14:G14) -> 3090.06 | H21: =SUM($D$14:H14) -> 3239.49 | I21: =SUM($D$14:I14) -> 3239.49 | J21: =SUM($D$14:J14) -> 3259.49 | K21: =SUM($D$14:K14) -> 3284.49 | L21: =SUM($D$14:L14) -> 3432.57 | ... O21: =SUM($D$14:O14) -> 5186.46
A23: Lämmitys
B24: Lämmityksen osuus kulutuksesta | D24: =D14/D9 -> 0.76649593 | E24: =E14/E9 -> 0.72199155 | F24: =F14/F9 -> 0.68543596 | G24: =G14/G9 -> 0.56451741 | H24: =H14/H9 -> 0.3046918 | I24: =I14/I9 -> 0 | J24: =J14/J9 -> 0.060204696 | K24: =K14/K9 -> 0.088917342 | ... P24: =P14/P9 -> 0.56967398
B25: Sähkönkulutus lämmitykseen | C25: kWh/oCd | D25: =D14/D11 -> 1.5990857 | E25: =E14/E11 -> 1.3886806 | F25: =F14/F11 -> 1.315115 | G25: =G14/G11 -> 0.992529 | H25: =H14/H11 -> 0.88420118 | I25: =I14/I11 -> #DIV/0! | J25: =J14/J11 -> #DIV/0! | K25: =K14/K11 -> 3.5714286 | ... P25: =P14/P11 -> 1.2512569
B26: Sähkönkulutus lämmitykseen | C26: kWh/d | D26: =D14/D7 -> 36.108387 | E26: =E14/E7 -> 28.567143 | F26: =F14/F7 -> 23.969032 | G26: =G14/G7 -> 14.259333 | H26: =H14/H7 -> 4.8203226 | I26: =I14/I7 -> 0 | J26: =J14/J7 -> 0.64516129 | K26: =K14/K7 -> 0.80645161 | ... P26: =P14/P7 -> 14.209479
B27: Norm sähkö lämmitykseen | C27: kWh/d | D27: =D15/D7 -> 39.151808 | E27: =E15/E7 -> 34.667418 | F27: =F15/F7 -> 26.344724 | G27: =G15/G7 -> 13.332973 | H27: =H15/H7 -> 4.7062321 | I27: =I15/I7 -> 0 | J27: =J15/J7 -> 0.64516129 | K27: =K15/K7 -> 0.80645161 | ... P27: =P15/P7 -> 15.470261
B28: Ominaislämmönkulutus | C28: kWh/m3 | D28: =D14/$F$4 -> 4.0380952 | E28: =E14/$F$4 -> 2.88557 | F28: =F14/$F$4 -> 2.6805195 | G28: =G14/$F$4 -> 1.5432179 | H28: =H14/$F$4 -> 0.53906926 | I28: =I14/$F$4 -> 0 | J28: =J14/$F$4 -> 0.072150072 | K28: =K14/$F$4 -> 0.09018759 | ... P28: =P14/$F$4 -> 18.710173
B29: Ominaislämmönkulutus | C29: kWh/m2 | D29: =D14/$F$3 -> 10.176 | E29: =E14/$F$3 -> 7.2716364 | F29: =F14/$F$3 -> 6.7549091 | G29: =G14/$F$3 -> 3.8889091 | H29: =H14/$F$3 -> 1.3584545 | I29: =I14/$F$3 -> 0 | J29: =J14/$F$3 -> 0.18181818 | K29: =K14/$F$3 -> 0.22727273 | ... P29: =P14/$F$3 -> 47.149636
B30: Norm lämmönkulutus | C30: kWh/m3 | D30: =D15/$F$4 -> 4.378449 | E30: =E15/$F$4 -> 3.5017594 | F30: =F15/$F$4 -> 2.9461993 | G30: =G15/$F$4 -> 1.4429624 | H30: =H15/$F$4 -> 0.52631023 | I30: =I15/$F$4 -> 0 | J30: =J15/$F$4 -> 0.072150072 | K30: =K15/$F$4 -> 0.09018759 | ... P30: =P15/$F$4 -> 20.370293
B31: Norm lämmönkulutus | C31: kWh/m2 | D31: =D15/$F$3 -> 11.033691 | E31: =E15/$F$3 -> 8.8244337 | F31: =F15/$F$3 -> 7.4244222 | G31: =G15/$F$3 -> 3.6362653 | H31: =H15/$F$3 -> 1.3263018 | I31: =I15/$F$3 -> 0 | J31: =J15/$F$3 -> 0.18181818 | K31: =K15/$F$3 -> 0.22727273 | ... P31: =P15/$F$3 -> 51.333138
B32: Ominaislämmönkulutus | C32: Wh/m3/oCd | D32: =1000*D28/D11 -> 5.7687075 | E32: =1000*E28/E11 -> 5.0096701 | F32: =1000*F28/F11 -> 4.7442823 | G32: =1000*G28/G11 -> 3.580552 | H32: =1000*H28/H11 -> 3.189759 | I32: =1000*I28/I11 -> #DIV/0! | J32: =1000*J28/J11 -> #DIV/0! | K32: =1000*K28/K11 -> 12.883941 | ... P32: =1000*P28/P11 -> 4.5139139
A34: Vuosikulutusarvio
B36: Lämmityssähkö ILPillä | D36: =4500*1.3 -> 5850 | E36: kWh | F36: =D36/$D$38 -> 0.59300558 | G36: Arvio lämmityssähkö ilman ILP | K36: ='2007'!D34 -> 8566 | L36: kWh | M36: Vuosikulutusarvio ilma ILP
B37: Taloussähkö | D37: =K3*365 -> 4015 | E37: kWh | F37: =D37/$D$38 -> 0.40699442 | G37: Arvio ILPin säästämästä sähköstä | K37: =K36-D36 -> 2716 | L37: kWh | N37: ='2007'!I36 -> 14540 | O37: kWh
B38: Yhteensä | D38: =SUM(D36:D37) -> 9865 | E38: kWh | G38: Säästöarvio lämmityssähkönkulutuksesta | K38: =K37/K36 -> 0.31706748
G39: Säästöarvio kokonaissähkönkulutuksesta | K39: =K37/(SUM(D37)+K36) -> 0.21588109
A49: ILP | D49: lukema | E49: päivät | F49: kulutus | G49: astepäivät
B50: 41633 | D50: 495.16
B51: 41645 | D51: 584.7 | E51: =DAYS360(B50,B51) -> 11 | F51: =(D51-D50)/E51 -> 8.14 | G51: 195 | H51: =(D51-D50)/G51 -> 0.45917949
B52: 41692 | D52: 1079.44 | E52: =DAYS360(B51,B52) -> 46 | F52: =(D52-D51)/E52 -> 10.755217 | G52: 1116 | H52: =(D52-D51)/G52 -> 0.44331541
B53: 41720 | D53: 1376.73 | E53: =DAYS360(B52,B53) -> 30 | F53: =(D53-D52)/E53 -> 9.9096667 | G53: 459 | H53: =(D53-D52)/G53 -> 0.64769063
B54: 41734 | D54: 1545.36 | E54: =DAYS360(B53,B54) -> 13 | F54: =(D54-D53)/E54 -> 12.971538 | G54: 173 | H54: =(D54-D53)/G54 -> 0.97473988 | N54: jäähdytys
B55: 41791 | D55: 2153 | E55: =DAYS360(B54,B55) -> 56 | F55: =(D55-D54)/E55 -> 10.850714 | G55: 537 | H55: =(D55-D54)/G55 -> 1.1315456 | L55: 41851 | N55: 2274.96 | O55: =N55-D57 -> 13.27
B56: 41814 | D56: 2233.47 | E56: =DAYS360(B55,B56) -> 23 | F56: =(D56-D55)/E56 -> 3.4986957 | G56: 78.2 | H56: =(D56-D55)/G56 -> 1.0290281
B57: 41825 | D57: 2261.69 | E57: =DAYS360(B56,B57) -> 11 | F57: =(D57-D56)/E57 -> 2.5654545
B58: 41852 | D58: 2274.96 | E58: =DAYS360(B57,B58) -> 26 | F58: =(D58-D57)/E58 -> 0.51038462
B59: 41882 | D59: 2314.32 | E59: =DAYS360(B58,B59) -> 30 | F59: =(D59-D58)/E59 -> 1.312 | G59: 13 | I59: =D59-D58 -> 39.36
B60: 41889 | D60: 2330.23 | E60: =DAYS360(B59,B60) -> 7 | F60: =(D60-D59)/E60 -> 2.2728571 | G60: =3.8*7 -> 26.6 | H60: =(D60-D59)/G60 -> 0.5981203
B61: 41929 | D61: 2507 | E61: =DAYS360(B60,B61) -> 40 | F61: =(D61-D60)/E61 -> 4.41925 | G61: =7*40 -> 280 | H61: =(D61-D60)/G61 -> 0.63132143
B62: 41951 | D62: 2695.68 | E62: =DAYS360(B61,B62) -> 21 | F62: =(D62-D61)/E62 -> 8.9847619 | G62: =21*12.5 -> 262.5 | H62: =(D62-D61)/G62 -> 0.71878095
B63: 42035 | D63: 3422.93 | E63: =DAYS360(B62,B63) -> 83 | F63: =(D63-D62)/E63 -> 8.7620482 | G63: 1643 | H63: =(D63-D62)/G63 -> 0.44263542 | L63: =D63-D50 -> 2927.77 | N63: =B63-B50 -> 402 | P63: =L63/N63*365 -> 2658.2986
B64: 42099 | D64: 3996.35 | E64: =DAYS360(B63,B64) -> 65 | F64: =(D64-D63)/E64 -> 8.8218462 | G64: =524+505+80 -> 1109 | H64: =(D64-D63)/G64 -> 0.51706041 | L64: =D64-D63 -> 573.42
B65: 42127 | D65: 4186.01 | E65: =DAYS360(B64,B65) -> 28 | F65: =(D65-D64)/E65 -> 6.7735714 | G65: 372 | H65: =(D65-D64)/G65 -> 0.50983871 | L65: =D65-D64 -> 189.66
B66: 42148 | D66: 4288.13 | E66: =DAYS360(B65,B66) -> 21 | F66: =(D66-D65)/E66 -> 4.8628571 | G66: 125 | H66: =(D66-D65)/G66 -> 0.81696 | L66: =D66-D65 -> 102.12
B67: 42180 | D67: 4366.53 | E67: =DAYS360(B66,B67) -> 31 | F67: =(D67-D66)/E67 -> 2.5290323 | G67: 8 | H67: =(D67-D66)/G67 -> 9.8 | L67: =D67-D66 -> 78.4
B68: 42233 | D68: 4444.18 | E68: =DAYS360(B67,B68) -> 52 | F68: =(D68-D67)/E68 -> 1.4932692 | G68: 5 | H68: =(D68-D67)/G68 -> 15.53
B69: 42295 | D69: 4652.76 | E69: =DAYS360(B68,B69) -> 61 | F69: =(D69-D68)/E69 -> 3.4193443 | G69: =70+18*(17-4) -> 304 | H69: =(D69-D68)/G69 -> 0.68611842 | L69: =D69-D61 -> 2145.76
B70: 42346 | D70: 5072.02 | E70: =DAYS360(B69,B70) -> 50 | F70: =(D70-D69)/E70 -> 8.3852 | G70: =13.5*50 -> 675 | H70: =(D70-D69)/G70 -> 0.62112593
B71: 42361 | D71: 5193.02 | E71: =DAYS360(B70,B71) -> 15 | F71: =(D71-D70)/E71 -> 8.0666667 | G71: =14*15 -> 210 | H71: =(D71-D70)/G71 -> 0.57619048
B72: 42442 | D72: 5511 | E72: =DAYS360(B71,B72) -> 80 | F72: =(D72-D71)/E72 -> 3.97475 | G72: =552+969 -> 1521 | H72: =(D72-D71)/G72 -> 0.20905983
B73: 42489 | D73: 5826.24 | E73: =DAYS360(B72,B73) -> 46 | F73: =(D73-D72)/E73 -> 6.8530435 | G73: =561+376 -> 937 | H73: =(D73-D72)/G73 -> 0.33643543
B74: 42519 | D74: 5907.41 | E74: =DAYS360(B73,B74) -> 30 | F74: =(D74-D73)/E74 -> 2.7056667 | G74: 23 | H74: =(D74-D73)/G74 -> 3.5291304
B75: 42552 | D75: 5970.92 | E75: =DAYS360(B74,B75) -> 32 | F75: =(D75-D74)/E75 -> 1.9846875 | G75: 37 | H75: =(D75-D74)/G75 -> 1.7164865
B76: 42579 | D76: 6019 | E76: =DAYS360(B75,B76) -> 27 | F76: =(D76-D75)/E76 -> 1.7807407 | G76: 0 | H76: =(D76-D75)/G76 -> #DIV/0!
B77: 42594 | D77: 6034.41 | E77: =DAYS360(B76,B77) -> 14 | F77: =(D77-D76)/E77 -> 1.1007143
B78: 42617 | D78: 6072.33 | E78: =DAYS360(B77,B78) -> 22 | F78: =(D78-D77)/E78 -> 1.7236364 | L78: =D78-D76 -> 53.33 | M78: =L78/SUM(E77:E78)*31 -> 45.923056
B79: 42665 | D79: 6276.93 | E79: =DAYS360(B78,B79) -> 48 | F79: =(D79-D78)/E79 -> 4.2625 | G79: =125+234 -> 359 | H79: =(D79-D78)/G79 -> 0.56991643
B80: 42735 | D80: 6822.39 | E80: =DAYS360(B79,B80) -> 69 | F80: =(D80-D79)/E80 -> 7.9052174 | G80: 1172 | H80: =(D80-D79)/G80 -> 0.46540956
B81: 42749 | D81: 6850.12 | E81: =DAYS360(B80,B81) -> 14 | F81: =(D81-D80)/E81 -> 1.9807143 | G81: 363 | H81: =(D81-D80)/G81 -> 0.076391185
B82: 42764 | D82: 6936.34 | E82: =DAYS360(B81,B82) -> 15 | F82: =(D82-D81)/E82 -> 5.748 | G82: 310 | H82: =(D82-D81)/G82 -> 0.27812903
B83: 42792 | D83: 7116.25 | E83: =DAYS360(B82,B83) -> 27 | F83: =(D83-D82)/E83 -> 6.6633333 | G83: 600 | H83: =(D83-D82)/G83 -> 0.29985
B84: 42841 | D84: 7549.7 | E84: =DAYS360(B83,B84) -> 50 | F84: =(D84-D83)/E84 -> 8.669 | G84: 840 | H84: =(D84-D83)/G84 -> 0.5160119
B85: 42862 | D85: 7682.85 | E85: =DAYS360(B84,B85) -> 21 | F85: =(D85-D84)/E85 -> 6.3404762 | G85: 230 | H85: =(D85-D84)/G85 -> 0.57891304
B86: 42897 | D86: 7810.93 | E86: =DAYS360(B85,B86) -> 34 | F86: =(D86-D85)/E86 -> 3.7670588
B87: 42908 | D87: 7824.01 | E87: =DAYS360(B86,B87) -> 11 | F87: =(D87-D86)/E87 -> 1.1890909
B88: 42917 | D88: 7835.31 | E88: =DAYS360(B87,B88) -> 9 | F88: =(D88-D87)/E88 -> 1.2555556 | J88: =D88-D75 -> 1864.39
B89: 42952 | D89: 7871.11 | E89: =DAYS360(B88,B89) -> 34 | F89: =(D89-D88)/E89 -> 1.0529412 | J89: =D89-D88 -> 35.8
B90: 42993 | D90: 7950 | E90: =DAYS360(B89,B90) -> 40 | F90: =(D90-D89)/E90 -> 1.97225
B91: 43015 | D91: 8045.28 | E91: =DAYS360(B90,B91) -> 22 | F91: =(D91-D90)/E91 -> 4.3309091 | G91: 160 | H91: =(D91-D90)/G91 -> 0.5955
B92: 43043 | D92: 8297.17 | E92: =DAYS360(B91,B92) -> 27 | F92: =(D92-D91)/E92 -> 9.3292593 | G92: 396 | H92: =(D92-D91)/G92 -> 0.63608586 | K92: =D92-D91 -> 251.89
B93: 43100 | D93: 8857.63 | E93: =DAYS360(B92,B93) -> 57 | F93: =(D93-D92)/E93 -> 9.8326316 | G93: 1050 | H93: =(D93-D92)/G93 -> 0.53377143 | K93: =D93-D92 -> 560.46 | N93: =D93-D80 -> 2035.24
B94: 43155 | D94: 9122.02 | E94: =DAYS360(B93,B94) -> 54 | F94: =(D94-D93)/E94 -> 4.8961111 | G94: 1320 | H94: =(D94-D93)/G94 -> 0.20029545 | N94: =D94-D93 -> 264.39
B95: 43184 | D95: 9294.37 | E95: =DAYS360(B94,B95) -> 31 | F95: =(D95-D94)/E95 -> 5.5596774 | G95: 723 | H95: =(D95-D94)/G95 -> 0.23838174 | N95: =D95-D94 -> 172.35 | P95: =D94-D83 -> 2005.77
B96: 43217 | D96: 9530.9 | E96: =DAYS360(B95,B96) -> 32 | F96: =(D96-D95)/E96 -> 7.3915625 | N96: =D96-D95 -> 236.53
B97: 43241 | D97: 9598.8 | E97: =DAYS360(B96,B97) -> 24 | F97: =(D97-D96)/E97 -> 2.8291667 | N97: =D97-D96 -> 67.9
B98: 43269 | D98: 9628.28 | E98: =DAYS360(B97,B98) -> 27 | F98: =(D98-D97)/E98 -> 1.0918519 | N98: =D98-D97 -> 29.48 | P98: =D98-D87 -> 1804.27
B99: 43285 | D99: 9644.29 | E99: =DAYS360(B98,B99) -> 16 | F99: =(D99-D98)/E99 -> 1.000625
B100: 43298 | D100: 9661.08 | E100: =DAYS360(B99,B100) -> 13 | F100: =(D100-D99)/E100 -> 1.2915385 | N100: =D100-D99 -> 16.79
B101: 43317 | D101: 9702.4 | E101: =DAYS360(B100,B101) -> 18 | F101: =(D101-D100)/E101 -> 2.2955556 | N101: =D101-D99 -> 58.11 | O101: =N101-N100 -> 41.32 | P101: =D101-D89 -> 1831.29
B102: 43364 | D102: 9762.31 | E102: =DAYS360(B101,B102) -> 46 | F102: =(D102-D101)/E102 -> 1.3023913 | N102: =D102-D101 -> 59.91 | P102: =D102-D90 -> 1812.31
B103: 43401 | D103: 9930.78 | E103: =DAYS360(B102,B103) -> 37 | F103: =(D103-D102)/E103 -> 4.5532432 | N103: =D103-D101 -> 228.38
B104: 43442 | D104: 10300.53 | E104: =DAYS360(B103,B104) -> 40 | F104: =(D104-D103)/E104 -> 9.24375 | G104: =SUM(M11:N11) -> 826 | H104: =(D104-D103)/G104 -> 0.44763923 | N104: =D104-D103 -> 369.75
B105: 43464 | D105: 531.5 | E105: =DAYS360(B104,B105) -> 22 | F105: =(D105-D104+10000)/E105 -> 10.498636 | N105: =D105-D104+10000 -> 230.97 | P105: =D105-D93+10000 -> 1673.87
B106: 43547 | D106: 994.26 | E106: =DAYS360(B105,B106) -> 83 | F106: =(D106-D105)/E106 -> 5.5754217 | N106: =D106-D105 -> 462.76 | P106: =D106-D95+10000 -> 1699.89
B107: 43582 | D107: 1190.87 | E107: =DAYS360(B106,B107) -> 34 | F107: =(D107-D106)/E107 -> 5.7826471 | N107: =D107-D106 -> 196.61 | P107: =D107-D96+10000 -> 1659.97
B108: 43622 | D108: 1333.82 | E108: =DAYS360(B107,B108) -> 39 | F108: =(D108-D107)/E108 -> 3.6653846 | N108: =D108-D107 -> 142.95 | P108: =D108-D98+10000 -> 1705.54
B109: 43670 | D109: 1398.19 | E109: =DAYS360(B108,B109) -> 48 | F109: =(D109-D108)/E109 -> 1.3410417 | N109: =D109-D108 -> 64.37
B110: 43681 | D110: 1419.41 | E110: =DAYS360(B109,B110) -> 10 | F110: =(D110-D109)/E110 -> 2.122 | N110: =D110-D109 -> 21.22 | P110: =D110-D101+10000 -> 1717.01
B111: 43744 | D111: 1581.94 | E111: =DAYS360(B110,B111) -> 62 | F111: =(D111-D110)/E111 -> 2.6214516 | N111: =D111-D110 -> 162.53
B112: 43806 | D112: 2125.79 | E112: =DAYS360(B111,B112) -> 61 | F112: =(D112-D111)/E112 -> 8.9155738 | N112: =D112-D111 -> 543.85 | P112: =D112-D104+10000 -> 1825.26
B113: 43827 | D113: 2323.56 | E113: =DAYS360(B112,B113) -> 21 | F113: =(D113-D112)/E113 -> 9.417619 | N113: =D113-D112 -> 197.77 | P113: =D113-D105 -> 1792.06
B114: 43876 | D114: 2777.25 | E114: =DAYS360(B113,B114) -> 47 | F114: =(D114-D113)/E114 -> 9.6529787 | N114: =D114-D113 -> 453.69
B115: 43953 | D115: 3386.03 | E115: =DAYS360(B114,B115) -> 77 | F115: =(D115-D114)/E115 -> 7.9062338 | N115: =D115-D114 -> 608.78 | P115: =D115-D107 -> 2195.16
B116: 43972 | D116: 3469.97 | E116: =DAYS360(B115,B116) -> 19 | F116: =(D116-D115)/E116 -> 4.4178947 | N116: =D116-D115 -> 83.94
...

Sheet 2021
A1: SÄHKÖNKULUTUSRAPORTTI | D1: 2021
A3: Imatra omakotitalo 4H+K+S | D3: Asuinala | F3: 110 | G3: m2 | H3: Taloussähkö arvio | K3: 11.4 | L3: kWh/d
D4: Tilavuus | F4: =2.52*F3 -> 277.2 | G4: m3 | H4: Kesäkuukausien keskikulutus (ilman ILP) | K4: =(SUM(I9:K9)-SUM(I10:K10))/92 -> 11.412283 | L4: kWh/d
A6: Jakso | D6: Tammi | E6: Helmi | F6: Maalis | G6: Huhti | H6: Touko | I6: Kesä | J6: Heinä | K6: Elo | L6: Syys | M6: Loka | N6: Marras | O6: Joulu | P6: Yhteensä
D7: 31 | E7: 28 | F7: 31 | G7: 30 | H7: 31 | I7: 30 | J7: 31 | K7: 31 | L7: 30 | M7: 31 | N7: 30 | O7: 31 | P7: =SUM(D7:O7) -> 365
A8: 2021 | B8: Keskilämpötila | C8: oC | D8: -5.9 | E8: -10.3 | F8: -2.6 | G8: 3.8 | H8: 10.1 | I8: 19.8 | J8: 21.2 | K8: 14.9 | L8: 8.5 | M8: 6.9 | N8: 0.6 | O8: -8.8 | P8: =AVERAGE(D8:O8) -> 4.85
A9: 2021 | B9: Sähkö yhteensä | C9: kWh | D9: 1371.52 | E9: 1595.42 | F9: 1179.06 | G9: 840.93 | H9: 591.4 | I9: 505.73 | J9: 338.91 | K9: 331.29 | L9: 486.31 | M9: 597.4 | N9: 881.95 | O9: 1723.54 | P9: =SUM(D9:O9) -> 10443.46 | R9: =SUM(D9:O9)+SUM('2020'!M9:O9) -> 13142.99
A10: 2021 | B10: Ilmalämpöpumppu, arvio | C10: kWh | D10: 130 | E10: 80 | F10: 280 | G10: 160 | H10: 110 | I10: 52 | J10: 44 | K10: 30 | L10: 140 | M10: 170 | N10: 180 | O10: 90 | P10: =SUM(D10:O10) -> 1466 | R10: =SUM(D10:O10)+SUM('2020'!N10:O10) -> 2066 | T10: =P10+'2020'!T10 -> 26375.231
A11: 2021 | B11: Lämmitystarveluku toteutunut | C11: oCd | D11: 709 | E11: 764 | F11: 606 | G11: 397 | H11: 216 | I11: 0 | J11: 0 | K11: 20 | L11: 244 | M11: 314 | N11: 492 | O11: 801 | P11: =SUM(D11:O11) -> 4563
A12: 2021 | B12: Lämmitystarveluku normivuosi | C12: oCd | D12: 759 | E12: 699 | F12: 621 | G12: 403 | H12: 165 | I12: 22 | J12: 5 | K12: 28 | L12: 184 | M12: 386 | N12: 546 | O12: 692 | P12: 4510
A13: 2021 | B13: Taloussähkö (arvio) | C13: kWh | D13: =$K$3*D7 -> 353.4 | E13: =$K$3*E7 -> 319.2 | F13: =$K$3*F7 -> 353.4 | G13: =$K$3*G7 -> 342 | H13: =$K$3*H7 -> 353.4 | I13: =$K$3*I7 -> 342 | J13: =$K$3*J7 -> 353.4 | K13: =$K$3*K7 -> 353.4 | ... O13: =$K$3*O7 -> 353.4 | P13: =SUM(D13:O13) -> 4161
A14: 2021 | B14: Lämmityssähkö (arvio) | C14: kWh | D14: =D9-D13 -> 1018.12 | E14: =E9-E13 -> 1276.22 | F14: =F9-F13 -> 825.66 | G14: =G9-G13 -> 498.93 | H14: =H9-H13 -> 238 | I14: 0 | J14: =J10 -> 44 | K14: =K10 -> 30 | L14: =L9-L13 -> 144.31 | M14: =M9-M13 -> 244 | N14: =N9-N13 -> 539.95 | O14: =O9-O13 -> 1370.14 | P14: =SUM(D14:O14) -> 6229.33
A15: 2021 | B15: Sääkorjattu lämmityssähkö | C15: kWh | D15: =IF(D14<0,0,((D12/D11))*D14) -> 1089.9197 | E15: =IF(E14<0,0,((E12/E11))*E14) -> 1167.6411 | F15: =IF(F14<0,0,((F12/F11))*F14) -> 846.09713 | G15: =IF(G14<0,0,((G12/G11))*G14) -> 506.4705 | H15: =IF(H14<0,0,((H12/H11))*H14) -> 181.80556 | I15: =I14 -> 0 | J15: =J14 -> 44 | K15: =K14 -> 30 | L15: =IF(L14<0,0,((L12/L11))*L14) -> 108.82393 | M15: =IF(M14<0,0,((M12/M11))*M14) -> 299.94904 | N15: =IF(N14<0,0,((N12/N11))*N14) -> 599.2128 | O15: =IF(O14<0,0,((O12/O11))*O14) -> 1183.6915 | P15: =SUM(D15:O15) -> 6057.6112 | R15: =P14-P10 -> 4763.33
A18: Kulutus päivässä | C18: kWh/d | D18: =D9/D7 -> 44.242581 | E18: =E9/E7 -> 56.979286 | F18: =F9/F7 -> 38.034194 | G18: =G9/G7 -> 28.031 | H18: =H9/H7 -> 19.077419 | I18: =I9/I7 -> 16.857667 | J18: =J9/J7 -> 10.932581 | K18: =K9/K7 -> 10.686774 | ... O18: =O9/O7 -> 55.598065
B19: Kumulatiivinen kulutus | C19: kWh | D19: =SUM(D9) -> 1371.52 | E19: =SUM($D$9:E9) -> 2966.94 | F19: =SUM($D$9:F9) -> 4146 | G19: =SUM($D$9:G9) -> 4986.93 | H19: =SUM($D$9:H9) -> 5578.33 | I19: =SUM($D$9:I9) -> 6084.06 | J19: =SUM($D$9:J9) -> 6422.97 | K19: =SUM($D$9:K9) -> 6754.26 | L19: =SUM($D$9:L9) -> 7240.57 | ... O19: =SUM($D$9:O9) -> 10443.46
B20: Kumulatiivinen kulutus ILP | C20: kWh | D20: =SUM(D10) -> 130 | E20: =SUM($D$10:E10) -> 210 | F20: =SUM($D$10:F10) -> 490 | G20: =SUM($D$10:G10) -> 650 | H20: =SUM($D$10:H10) -> 760 | I20: =SUM($D$10:I10) -> 812 | J20: =SUM($D$10:J10) -> 856 | K20: =SUM($D$10:K10) -> 886 | L20: =SUM($D$10:L10) -> 1026 | ... O20: =SUM($D$10:O10) -> 1466
B21: Kumulatiivinen kulutus lämmitys | C21: kWh | D21: =SUM(D14) -> 1018.12 | E21: =SUM($D$14:E14) -> 2294.34 | F21: =SUM($D$14:F14) -> 3120 | G21: =SUM($D$14:G14) -> 3618.93 | H21: =SUM($D$14:H14) -> 3856.93 | I21: =SUM($D$14:I14) -> 3856.93 | J21: =SUM($D$14:J14) -> 3900.93 | K21: =SUM($D$14:K14) -> 3930.93 | L21: =SUM($D$14:L14) -> 4075.24 | ... O21: =SUM($D$14:O14) -> 6229.33
A23: Lämmitys
B24: Lämmityksen osuus kulutuksesta | D24: =D14/D9 -> 0.74232968 | E24: =E14/E9 -> 0.79992729 | F24: =F14/F9 -> 0.70026971 | G24: =G14/G9 -> 0.59330741 | H24: =H14/H9 -> 0.4024349 | I24: =I14/I9 -> 0 | J24: =J14/J9 -> 0.12982798 | K24: =K14/K9 -> 0.090555103 | ... P24: =P14/P9 -> 0.59648143
B25: Sähkönkulutus lämmitykseen | C25: kWh/oCd | D25: =D14/D11 -> 1.4359944 | E25: =E14/E11 -> 1.670445 | F25: =F14/F11 -> 1.3624752 | G25: =G14/G11 -> 1.2567506 | H25: =H14/H11 -> 1.1018519 | I25: =I14/I11 -> #DIV/0! | J25: =J14/J11 -> #DIV/0! | K25: =K14/K11 -> 1.5 | ... P25: =P14/P11 -> 1.365183
B26: Sähkönkulutus lämmitykseen | C26: kWh/d | D26: =D14/D7 -> 32.842581 | E26: =E14/E7 -> 45.579286 | F26: =F14/F7 -> 26.634194 | G26: =G14/G7 -> 16.631 | H26: =H14/H7 -> 7.6774194 | I26: =I14/I7 -> 0 | J26: =J14/J7 -> 1.4193548 | K26: =K14/K7 -> 0.96774194 | ... P26: =P14/P7 -> 17.066658
B27: Norm sähkö lämmitykseen | C27: kWh/d | D27: =D15/D7 -> 35.158701 | E27: =E15/E7 -> 41.701467 | F27: =F15/F7 -> 27.293456 | G27: =G15/G7 -> 16.88235 | H27: =H15/H7 -> 5.8646953 | I27: =I15/I7 -> 0 | J27: =J15/J7 -> 1.4193548 | K27: =K15/K7 -> 0.96774194 | ... P27: =P15/P7 -> 16.596195
B28: Ominaislämmönkulutus | C28: kWh/m3 | D28: =D14/$F$4 -> 3.6728716 | E28: =E14/$F$4 -> 4.6039683 | F28: =F14/$F$4 -> 2.9785714 | G28: =G14/$F$4 -> 1.7998918 | H28: =H14/$F$4 -> 0.85858586 | I28: =I14/$F$4 -> 0 | J28: =J14/$F$4 -> 0.15873016 | K28: =K14/$F$4 -> 0.10822511 | ... P28: =P14/$F$4 -> 22.47233
B29: Ominaislämmönkulutus | C29: kWh/m2 | D29: =D14/$F$3 -> 9.2556364 | E29: =E14/$F$3 -> 11.602 | F29: =F14/$F$3 -> 7.506 | G29: =G14/$F$3 -> 4.5357273 | H29: =H14/$F$3 -> 2.1636364 | I29: =I14/$F$3 -> 0 | J29: =J14/$F$3 -> 0.4 | K29: =K14/$F$3 -> 0.27272727 | ... P29: =P14/$F$3 -> 56.630273
B30: Norm lämmönkulutus | C30: kWh/m3 | D30: =D15/$F$4 -> 3.9318893 | E30: =E15/$F$4 -> 4.2122694 | F30: =F15/$F$4 -> 3.0522984 | G30: =G15/$F$4 -> 1.8270942 | H30: =H15/$F$4 -> 0.6558642 | I30: =I15/$F$4 -> 0 | J30: =J15/$F$4 -> 0.15873016 | K30: =K15/$F$4 -> 0.10822511 | ... P30: =P15/$F$4 -> 21.852854
B31: Norm lämmönkulutus | C31: kWh/m2 | D31: =D15/$F$3 -> 9.9083611 | E31: =E15/$F$3 -> 10.614919 | F31: =F15/$F$3 -> 7.6917921 | G31: =G15/$F$3 -> 4.6042773 | H31: =H15/$F$3 -> 1.6527778 | I31: =I15/$F$3 -> 0 | J31: =J15/$F$3 -> 0.4 | K31: =K15/$F$3 -> 0.27272727 | ... P31: =P15/$F$3 -> 55.069193
B32: Ominaislämmönkulutus | C32: Wh/m3/oCd | D32: =1000*D28/D11 -> 5.1803548 | E32: =1000*E28/E11 -> 6.0261365 | F32: =1000*F28/F11 -> 4.9151344 | G32: =1000*G28/G11 -> 4.5337324 | H32: =1000*H28/H11 -> 3.9749345 | I32: =1000*I28/I11 -> #DIV/0! | J32: =1000*J28/J11 -> #DIV/0! | K32: =1000*K28/K11 -> 5.4112554 | ... P32: =1000*P28/P11 -> 4.9249026
A34: Vuosikulutusarvio
B36: Lämmityssähkö ILPillä | D36: =4400*1.3 -> 5720 | E36: kWh | F36: =D36/$D$38 -> 0.57888878 | G36: Arvio lämmityssähkö ilman ILP | K36: ='2007'!D34 -> 8566 | L36: kWh | M36: Vuosikulutusarvio ilma ILP
B37: Taloussähkö | D37: =K3*365 -> 4161 | E37: kWh | F37: =D37/$D$38 -> 0.42111122 | G37: Arvio ILPin säästämästä sähköstä | K37: =K36-D36 -> 2846 | L37: kWh | N37: ='2007'!I36 -> 14540 | O37: kWh
B38: Yhteensä | D38: =SUM(D36:D37) -> 9881 | E38: kWh | G38: Säästöarvio lämmityssähkönkulutuksesta | K38: =K37/K36 -> 0.33224375
G39: Säästöarvio kokonaissähkönkulutuksesta | K39: =K37/(SUM(D37)+K36) -> 0.22361908
A49: ILP | D49: lukema | E49: päivät | F49: kulutus | G49: astepäivät
B50: 41633 | D50: 495.16
B51: 41645 | D51: 584.7 | E51: =DAYS360(B50,B51) -> 11 | F51: =(D51-D50)/E51 -> 8.14 | G51: 195 | H51: =(D51-D50)/G51 -> 0.45917949
B52: 41692 | D52: 1079.44 | E52: =DAYS360(B51,B52) -> 46 | F52: =(D52-D51)/E52 -> 10.755217 | G52: 1116 | H52: =(D52-D51)/G52 -> 0.44331541
B53: 41720 | D53: 1376.73 | E53: =DAYS360(B52,B53) -> 30 | F53: =(D53-D52)/E53 -> 9.9096667 | G53: 459 | H53: =(D53-D52)/G53 -> 0.64769063
B54: 41734 | D54: 1545.36 | E54: =DAYS360(B53,B54) -> 13 | F54: =(D54-D53)/E54 -> 12.971538 | G54: 173 | H54: =(D54-D53)/G54 -> 0.97473988 | N54: jäähdytys
B55: 41791 | D55: 2153 | E55: =DAYS360(B54,B55) -> 56 | F55: =(D55-D54)/E55 -> 10.850714 | G55: 537 | H55: =(D55-D54)/G55 -> 1.1315456 | L55: 41851 | N55: 2274.96 | O55: =N55-D57 -> 13.27
B56: 41814 | D56: 2233.47 | E56: =DAYS360(B55,B56) -> 23 | F56: =(D56-D55)/E56 -> 3.4986957 | G56: 78.2 | H56: =(D56-D55)/G56 -> 1.0290281
B57: 41825 | D57: 2261.69 | E57: =DAYS360(B56,B57) -> 11 | F57: =(D57-D56)/E57 -> 2.5654545
B58: 41852 | D58: 2274.96 | E58: =DAYS360(B57,B58) -> 26 | F58: =(D58-D57)/E58 -> 0.51038462
B59: 41882 | D59: 2314.32 | E59: =DAYS360(B58,B59) -> 30 | F59: =(D59-D58)/E59 -> 1.312 | G59: 13 | I59: =D59-D58 -> 39.36
B60: 41889 | D60: 2330.23 | E60: =DAYS360(B59,B60) -> 7 | F60: =(D60-D59)/E60 -> 2.2728571 | G60: =3.8*7 -> 26.6 | H60: =(D60-D59)/G60 -> 0.5981203
B61: 41929 | D61: 2507 | E61: =DAYS360(B60,B61) -> 40 | F61: =(D61-D60)/E61 -> 4.41925 | G61: =7*40 -> 280 | H61: =(D61-D60)/G61 -> 0.63132143
B62: 41951 | D62: 2695.68 | E62: =DAYS360(B61,B62) -> 21 | F62: =(D62-D61)/E62 -> 8.9847619 | G62: =21*12.5 -> 262.5 | H62: =(D62-D61)/G62 -> 0.71878095
B63: 42035 | D63: 3422.93 | E63: =DAYS360(B62,B63) -> 83 | F63: =(D63-D62)/E63 -> 8.7620482 | G63: 1643 | H63: =(D63-D62)/G63 -> 0.44263542 | L63: =D63-D50 -> 2927.77 | N63: =B63-B50 -> 402 | P63: =L63/N63*365 -> 2658.2986
B64: 42099 | D64: 3996.35 | E64: =DAYS360(B63,B64) -> 65 | F64: =(D64-D63)/E64 -> 8.8218462 | G64: =524+505+80 -> 1109 | H64: =(D64-D63)/G64 -> 0.51706041 | L64: =D64-D63 -> 573.42
B65: 42127 | D65: 4186.01 | E65: =DAYS360(B64,B65) -> 28 | F65: =(D65-D64)/E65 -> 6.7735714 | G65: 372 | H65: =(D65-D64)/G65 -> 0.50983871 | L65: =D65-D64 -> 189.66
B66: 42148 | D66: 4288.13 | E66: =DAYS360(B65,B66) -> 21 | F66: =(D66-D65)/E66 -> 4.8628571 | G66: 125 | H66: =(D66-D65)/G66 -> 0.81696 | L66: =D66-D65 -> 102.12
B67: 42180 | D67: 4366.53 | E67: =DAYS360(B66,B67) -> 31 | F67: =(D67-D66)/E67 -> 2.5290323 | G67: 8 | H67: =(D67-D66)/G67 -> 9.8 | L67: =D67-D66 -> 78.4
B68: 42233 | D68: 4444.18 | E68: =DAYS360(B67,B68) -> 52 | F68: =(D68-D67)/E68 -> 1.4932692 | G68: 5 | H68: =(D68-D67)/G68 -> 15.53
B69: 42295 | D69: 4652.76 | E69: =DAYS360(B68,B69) -> 61 | F69: =(D69-D68)/E69 -> 3.4193443 | G69: =70+18*(17-4) -> 304 | H69: =(D69-D68)/G69 -> 0.68611842 | L69: =D69-D61 -> 2145.76
B70: 42346 | D70: 5072.02 | E70: =DAYS360(B69,B70) -> 50 | F70: =(D70-D69)/E70 -> 8.3852 | G70: =13.5*50 -> 675 | H70: =(D70-D69)/G70 -> 0.62112593
B71: 42361 | D71: 5193.02 | E71: =DAYS360(B70,B71) -> 15 | F71: =(D71-D70)/E71 -> 8.0666667 | G71: =14*15 -> 210 | H71: =(D71-D70)/G71 -> 0.57619048
B72: 42442 | D72: 5511 | E72: =DAYS360(B71,B72) -> 80 | F72: =(D72-D71)/E72 -> 3.97475 | G72: =552+969 -> 1521 | H72: =(D72-D71)/G72 -> 0.20905983
B73: 42489 | D73: 5826.24 | E73: =DAYS360(B72,B73) -> 46 | F73: =(D73-D72)/E73 -> 6.8530435 | G73: =561+376 -> 937 | H73: =(D73-D72)/G73 -> 0.33643543
B74: 42519 | D74: 5907.41 | E74: =DAYS360(B73,B74) -> 30 | F74: =(D74-D73)/E74 -> 2.7056667 | G74: 23 | H74: =(D74-D73)/G74 -> 3.5291304
B75: 42552 | D75: 5970.92 | E75: =DAYS360(B74,B75) -> 32 | F75: =(D75-D74)/E75 -> 1.9846875 | G75: 37 | H75: =(D75-D74)/G75 -> 1.7164865
B76: 42579 | D76: 6019 | E76: =DAYS360(B75,B76) -> 27 | F76: =(D76-D75)/E76 -> 1.7807407 | G76: 0 | H76: =(D76-D75)/G76 -> #DIV/0!
B77: 42594 | D77: 6034.41 | E77: =DAYS360(B76,B77) -> 14 | F77: =(D77-D76)/E77 -> 1.1007143
B78: 42617 | D78: 6072.33 | E78: =DAYS360(B77,B78) -> 22 | F78: =(D78-D77)/E78 -> 1.7236364 | L78: =D78-D76 -> 53.33 | M78: =L78/SUM(E77:E78)*31 -> 45.923056
B79: 42665 | D79: 6276.93 | E79: =DAYS360(B78,B79) -> 48 | F79: =(D79-D78)/E79 -> 4.2625 | G79: =125+234 -> 359 | H79: =(D79-D78)/G79 -> 0.56991643
B80: 42735 | D80: 6822.39 | E80: =DAYS360(B79,B80) -> 69 | F80: =(D80-D79)/E80 -> 7.9052174 | G80: 1172 | H80: =(D80-D79)/G80 -> 0.46540956
B81: 42749 | D81: 6850.12 | E81: =DAYS360(B80,B81) -> 14 | F81: =(D81-D80)/E81 -> 1.9807143 | G81: 363 | H81: =(D81-D80)/G81 -> 0.076391185
B82: 42764 | D82: 6936.34 | E82: =DAYS360(B81,B82) -> 15 | F82: =(D82-D81)/E82 -> 5.748 | G82: 310 | H82: =(D82-D81)/G82 -> 0.27812903
B83: 42792 | D83: 7116.25 | E83: =DAYS360(B82,B83) -> 27 | F83: =(D83-D82)/E83 -> 6.6633333 | G83: 600 | H83: =(D83-D82)/G83 -> 0.29985
B84: 42841 | D84: 7549.7 | E84: =DAYS360(B83,B84) -> 50 | F84: =(D84-D83)/E84 -> 8.669 | G84: 840 | H84: =(D84-D83)/G84 -> 0.5160119
B85: 42862 | D85: 7682.85 | E85: =DAYS360(B84,B85) -> 21 | F85: =(D85-D84)/E85 -> 6.3404762 | G85: 230 | H85: =(D85-D84)/G85 -> 0.57891304
B86: 42897 | D86: 7810.93 | E86: =DAYS360(B85,B86) -> 34 | F86: =(D86-D85)/E86 -> 3.7670588
B87: 42908 | D87: 7824.01 | E87: =DAYS360(B86,B87) -> 11 | F87: =(D87-D86)/E87 -> 1.1890909
B88: 42917 | D88: 7835.31 | E88: =DAYS360(B87,B88) -> 9 | F88: =(D88-D87)/E88 -> 1.2555556 | J88: =D88-D75 -> 1864.39
B89: 42952 | D89: 7871.11 | E89: =DAYS360(B88,B89) -> 34 | F89: =(D89-D88)/E89 -> 1.0529412 | J89: =D89-D88 -> 35.8
B90: 42993 | D90: 7950 | E90: =DAYS360(B89,B90) -> 40 | F90: =(D90-D89)/E90 -> 1.97225
B91: 43015 | D91: 8045.28 | E91: =DAYS360(B90,B91) -> 22 | F91: =(D91-D90)/E91 -> 4.3309091 | G91: 160 | H91: =(D91-D90)/G91 -> 0.5955
B92: 43043 | D92: 8297.17 | E92: =DAYS360(B91,B92) -> 27 | F92: =(D92-D91)/E92 -> 9.3292593 | G92: 396 | H92: =(D92-D91)/G92 -> 0.63608586 | K92: =D92-D91 -> 251.89
B93: 43100 | D93: 8857.63 | E93: =DAYS360(B92,B93) -> 57 | F93: =(D93-D92)/E93 -> 9.8326316 | G93: 1050 | H93: =(D93-D92)/G93 -> 0.53377143 | K93: =D93-D92 -> 560.46 | N93: =D93-D80 -> 2035.24
B94: 43155 | D94: 9122.02 | E94: =DAYS360(B93,B94) -> 54 | F94: =(D94-D93)/E94 -> 4.8961111 | G94: 1320 | H94: =(D94-D93)/G94 -> 0.20029545 | N94: =D94-D93 -> 264.39
B95: 43184 | D95: 9294.37 | E95: =DAYS360(B94,B95) -> 31 | F95: =(D95-D94)/E95 -> 5.5596774 | G95: 723 | H95: =(D95-D94)/G95 -> 0.23838174 | N95: =D95-D94 -> 172.35 | P95: =D94-D83 -> 2005.77
B96: 43217 | D96: 9530.9 | E96: =DAYS360(B95,B96) -> 32 | F96: =(D96-D95)/E96 -> 7.3915625 | N96: =D96-D95 -> 236.53
B97: 43241 | D97: 9598.8 | E97: =DAYS360(B96,B97) -> 24 | F97: =(D97-D96)/E97 -> 2.8291667 | N97: =D97-D96 -> 67.9
B98: 43269 | D98: 9628.28 | E98: =DAYS360(B97,B98) -> 27 | F98: =(D98-D97)/E98 -> 1.0918519 | N98: =D98-D97 -> 29.48 | P98: =D98-D87 -> 1804.27
B99: 43285 | D99: 9644.29 | E99: =DAYS360(B98,B99) -> 16 | F99: =(D99-D98)/E99 -> 1.000625
B100: 43298 | D100: 9661.08 | E100: =DAYS360(B99,B100) -> 13 | F100: =(D100-D99)/E100 -> 1.2915385 | N100: =D100-D99 -> 16.79
B101: 43317 | D101: 9702.4 | E101: =DAYS360(B100,B101) -> 18 | F101: =(D101-D100)/E101 -> 2.2955556 | N101: =D101-D99 -> 58.11 | O101: =N101-N100 -> 41.32 | P101: =D101-D89 -> 1831.29
B102: 43364 | D102: 9762.31 | E102: =DAYS360(B101,B102) -> 46 | F102: =(D102-D101)/E102 -> 1.3023913 | N102: =D102-D101 -> 59.91 | P102: =D102-D90 -> 1812.31
B103: 43401 | D103: 9930.78 | E103: =DAYS360(B102,B103) -> 37 | F103: =(D103-D102)/E103 -> 4.5532432 | N103: =D103-D101 -> 228.38
B104: 43442 | D104: 10300.53 | E104: =DAYS360(B103,B104) -> 40 | F104: =(D104-D103)/E104 -> 9.24375 | G104: =SUM(M11:N11) -> 806 | H104: =(D104-D103)/G104 -> 0.4587469 | N104: =D104-D103 -> 369.75
B105: 43464 | D105: 531.5 | E105: =DAYS360(B104,B105) -> 22 | F105: =(D105-D104+10000)/E105 -> 10.498636 | N105: =D105-D104+10000 -> 230.97 | P105: =D105-D93+10000 -> 1673.87
B106: 43547 | D106: 994.26 | E106: =DAYS360(B105,B106) -> 83 | F106: =(D106-D105)/E106 -> 5.5754217 | N106: =D106-D105 -> 462.76 | P106: =D106-D95+10000 -> 1699.89
B107: 43582 | D107: 1190.87 | E107: =DAYS360(B106,B107) -> 34 | F107: =(D107-D106)/E107 -> 5.7826471 | N107: =D107-D106 -> 196.61 | P107: =D107-D96+10000 -> 1659.97
B108: 43622 | D108: 1333.82 | E108: =DAYS360(B107,B108) -> 39 | F108: =(D108-D107)/E108 -> 3.6653846 | N108: =D108-D107 -> 142.95 | P108: =D108-D98+10000 -> 1705.54
B109: 43670 | D109: 1398.19 | E109: =DAYS360(B108,B109) -> 48 | F109: =(D109-D108)/E109 -> 1.3410417 | N109: =D109-D108 -> 64.37
B110: 43681 | D110: 1419.41 | E110: =DAYS360(B109,B110) -> 10 | F110: =(D110-D109)/E110 -> 2.122 | N110: =D110-D109 -> 21.22 | P110: =D110-D101+10000 -> 1717.01
B111: 43744 | D111: 1581.94 | E111: =DAYS360(B110,B111) -> 62 | F111: =(D111-D110)/E111 -> 2.6214516 | N111: =D111-D110 -> 162.53
B112: 43806 | D112: 2125.79 | E112: =DAYS360(B111,B112) -> 61 | F112: =(D112-D111)/E112 -> 8.9155738 | N112: =D112-D111 -> 543.85 | P112: =D112-D104+10000 -> 1825.26
B113: 43827 | D113: 2323.56 | E113: =DAYS360(B112,B113) -> 21 | F113: =(D113-D112)/E113 -> 9.417619 | N113: =D113-D112 -> 197.77 | P113: =D113-D105 -> 1792.06
B114: 43876 | D114: 2777.25 | E114: =DAYS360(B113,B114) -> 47 | F114: =(D114-D113)/E114 -> 9.6529787 | N114: =D114-D113 -> 453.69
B115: 43953 | D115: 3386.03 | E115: =DAYS360(B114,B115) -> 77 | F115: =(D115-D114)/E115 -> 7.9062338 | N115: =D115-D114 -> 608.78 | P115: =D115-D107 -> 2195.16
B116: 43972 | D116: 3469.97 | E116: =DAYS360(B115,B116) -> 19 | F116: =(D116-D115)/E116 -> 4.4178947 | N116: =D116-D115 -> 83.94
...

Sheet 2020
A1: SÄHKÖNKULUTUSRAPORTTI | D1: 2020
A3: Imatra omakotitalo 4H+K+S | D3: Asuinala | F3: 110 | G3: m2 | H3: Taloussähkö arvio | K3: 11 | L3: kWh/d
D4: Tilavuus | F4: =2.52*F3 -> 277.2 | G4: m3 | H4: Kesäkuukausien keskikulutus (ilman ILP) | K4: =SUM(I9:K9)/92 -> 11.002283 | L4: kWh/d
A6: Jakso | D6: Tammi | E6: Helmi | F6: Maalis | G6: Huhti | H6: Touko | I6: Kesä | J6: Heinä | K6: Elo | L6: Syys | M6: Loka | N6: Marras | O6: Joulu | P6: Yhteensä
D7: 31 | E7: 29 | F7: 31 | G7: 30 | H7: 31 | I7: 30 | J7: 31 | K7: 31 | L7: 30 | M7: 31 | N7: 30 | O7: 31 | P7: =SUM(D7:O7) -> 366
A8: 2020 | B8: Keskilämpötila | C8: oC | D8: 0 | E8: -1.2 | F8: 0.6 | G8: 3 | H8: 9.1 | I8: 17.7 | J8: 16 | K8: 15.8 | L8: 12 | M8: 7.1 | N8: 2.6 | O8: -1.5 | P8: =AVERAGE(D8:O8) -> 6.7666667
A9: 2020 | B9: Sähkö yhteensä | C9: kWh | D9: 1019.05 | E9: 1074 | F9: 904 | G9: 682 | H9: 511.62 | I9: 353.88 | J9: 301.51 | K9: 356.82 | L9: 489.96 | M9: 655.96 | N9: 820.81 | O9: 1222.76 | P9: =SUM(D9:O9) -> 8392.37 | R9: =SUM(D9:M9)+SUM('2019'!N9:O9) -> 8108.19
A10: 2020 | B10: Ilmalämpöpumppu, arvio | C10: kWh | D10: =31*9.65 -> 299.15 | E10: 250 | F10: 250 | G10: 150 | H10: =4.5*31 -> 139.5 | I10: 40 | J10: 60 | K10: 30 | L10: 62 | M10: 150 | N10: 250 | O10: 350 | P10: =SUM(D10:O10) -> 2030.65 | R10: =SUM(D10:N10)+SUM('2019'!O10) -> 1973.6 | T10: =P10+'2019'!T10 -> 24909.231
A11: 2020 | B11: Lämmitystarveluku toteutunut | C11: oCd | D11: 526 | E11: 528 | F11: 510 | G11: 422 | H11: 211 | I11: 0 | J11: 0 | K11: 5 | L11: 98 | M11: 293 | N11: 433 | O11: 573 | P11: =SUM(D11:O11) -> 3599
A12: 2020 | B12: Lämmitystarveluku normivuosi | C12: oCd | D12: 759 | E12: 699 | F12: 621 | G12: 403 | H12: 165 | I12: 22 | J12: 5 | K12: 28 | L12: 184 | M12: 386 | N12: 546 | O12: 692 | P12: 4510
A13: 2020 | B13: Taloussähkö (arvio) | C13: kWh | D13: =$K$3*D7 -> 341 | E13: =$K$3*E7 -> 319 | F13: =$K$3*F7 -> 341 | G13: =$K$3*G7 -> 330 | H13: =$K$3*H7 -> 341 | I13: =$K$3*I7 -> 330 | J13: =$K$3*J7 -> 341 | K13: =$K$3*K7 -> 341 | ... O13: =$K$3*O7 -> 341 | P13: =SUM(D13:O13) -> 4026
A14: 2020 | B14: Lämmityssähkö (arvio) | C14: kWh | D14: =D9-D13 -> 678.05 | E14: =E9-E13 -> 755 | F14: =F9-F13 -> 563 | G14: =G9-G13 -> 352 | H14: =H9-H13 -> 170.62 | I14: =I10 -> 40 | J14: =J10 -> 60 | K14: =K10 -> 30 | L14: =L9-L13 -> 159.96 | M14: =M9-M13 -> 314.96 | N14: =N9-N13 -> 490.81 | O14: =O9-O13 -> 881.76 | P14: =SUM(D14:O14) -> 4496.16
A15: 2020 | B15: Sääkorjattu lämmityssähkö | C15: kWh | D15: =IF(D14<0,0,((D12/D11))*D14) -> 978.40295 | E15: =IF(E14<0,0,((E12/E11))*E14) -> 999.51705 | F15: =IF(F14<0,0,((F12/F11))*F14) -> 685.53529 | G15: =IF(G14<0,0,((G12/G11))*G14) -> 336.15166 | H15: =IF(H14<0,0,((H12/H11))*H14) -> 133.42322 | I15: =I14 -> 40 | J15: =J14 -> 60 | K15: =K14 -> 30 | L15: =IF(L14<0,0,((L12/L11))*L14) -> 300.33306 | M15: =IF(M14<0,0,((M12/M11))*M14) -> 414.93024 | N15: =IF(N14<0,0,((N12/N11))*N14) -> 618.89667 | O15: =IF(O14<0,0,((O12/O11))*O14) -> 1064.8829 | P15: =SUM(D15:O15) -> 5662.0731 | R15: =P14-P10 -> 2465.51
A18: Kulutus päivässä | C18: kWh/d | D18: =D9/D7 -> 32.872581 | E18: =E9/E7 -> 37.034483 | F18: =F9/F7 -> 29.16129 | G18: =G9/G7 -> 22.733333 | H18: =H9/H7 -> 16.503871 | I18: =I9/I7 -> 11.796 | J18: =J9/J7 -> 9.726129 | K18: =K9/K7 -> 11.510323 | ... O18: =O9/O7 -> 39.443871
B19: Kumulatiivinen kulutus | C19: kWh | D19: =SUM(D9) -> 1019.05 | E19: =SUM($D$9:E9) -> 2093.05 | F19: =SUM($D$9:F9) -> 2997.05 | G19: =SUM($D$9:G9) -> 3679.05 | H19: =SUM($D$9:H9) -> 4190.67 | I19: =SUM($D$9:I9) -> 4544.55 | J19: =SUM($D$9:J9) -> 4846.06 | K19: =SUM($D$9:K9) -> 5202.88 | L19: =SUM($D$9:L9) -> 5692.84 | ... O19: =SUM($D$9:O9) -> 8392.37
B20: Kumulatiivinen kulutus ILP | C20: kWh | D20: =SUM(D10) -> 299.15 | E20: =SUM($D$10:E10) -> 549.15 | F20: =SUM($D$10:F10) -> 799.15 | G20: =SUM($D$10:G10) -> 949.15 | H20: =SUM($D$10:H10) -> 1088.65 | I20: =SUM($D$10:I10) -> 1128.65 | J20: =SUM($D$10:J10) -> 1188.65 | K20: =SUM($D$10:K10) -> 1218.65 | L20: =SUM($D$10:L10) -> 1280.65 | ... O20: =SUM($D$10:O10) -> 2030.65
B21: Kumulatiivinen kulutus lämmitys | C21: kWh | D21: =SUM(D14) -> 678.05 | E21: =SUM($D$14:E14) -> 1433.05 | F21: =SUM($D$14:F14) -> 1996.05 | G21: =SUM($D$14:G14) -> 2348.05 | H21: =SUM($D$14:H14) -> 2518.67 | I21: =SUM($D$14:I14) -> 2558.67 | J21: =SUM($D$14:J14) -> 2618.67 | K21: =SUM($D$14:K14) -> 2648.67 | L21: =SUM($D$14:L14) -> 2808.63 | ... O21: =SUM($D$14:O14) -> 4496.16
A23: Lämmitys
B24: Lämmityksen osuus kulutuksesta | D24: =D14/D9 -> 0.66537461 | E24: =E14/E9 -> 0.70297952 | F24: =F14/F9 -> 0.62278761 | G24: =G14/G9 -> 0.51612903 | H24: =H14/H9 -> 0.3334897 | I24: =I14/I9 -> 0.11303267 | J24: =J14/J9 -> 0.19899837 | K24: =K14/K9 -> 0.084076005 | ... P24: =P14/P9 -> 0.53574378
B25: Sähkönkulutus lämmitykseen | C25: kWh/oCd | D25: =D14/D11 -> 1.2890684 | E25: =E14/E11 -> 1.4299242 | F25: =F14/F11 -> 1.1039216 | G25: =G14/G11 -> 0.83412322 | H25: =H14/H11 -> 0.80862559 | I25: =I14/I11 -> #DIV/0! | J25: =J14/J11 -> #DIV/0! | K25: =K14/K11 -> 6 | ... P25: =P14/P11 -> 1.2492804
B26: Sähkönkulutus lämmitykseen | C26: kWh/d | D26: =D14/D7 -> 21.872581 | E26: =E14/E7 -> 26.034483 | F26: =F14/F7 -> 18.16129 | G26: =G14/G7 -> 11.733333 | H26: =H14/H7 -> 5.503871 | I26: =I14/I7 -> 1.3333333 | J26: =J14/J7 -> 1.9354839 | K26: =K14/K7 -> 0.96774194 | ... P26: =P14/P7 -> 12.28459
B27: Norm sähkö lämmitykseen | C27: kWh/d | D27: =D15/D7 -> 31.561385 | E27: =E15/E7 -> 34.466105 | F27: =F15/F7 -> 22.114042 | G27: =G15/G7 -> 11.205055 | H27: =H15/H7 -> 4.3039749 | I27: =I15/I7 -> 1.3333333 | J27: =J15/J7 -> 1.9354839 | K27: =K15/K7 -> 0.96774194 | ... P27: =P15/P7 -> 15.470145
B28: Ominaislämmönkulutus | C28: kWh/m3 | D28: =D14/$F$4 -> 2.4460678 | E28: =E14/$F$4 -> 2.7236652 | F28: =F14/$F$4 -> 2.0310245 | G28: =G14/$F$4 -> 1.2698413 | H28: =H14/$F$4 -> 0.61551227 | I28: =I14/$F$4 -> 0.14430014 | J28: =J14/$F$4 -> 0.21645022 | K28: =K14/$F$4 -> 0.10822511 | ... P28: =P14/$F$4 -> 16.219913
B29: Ominaislämmönkulutus | C29: kWh/m2 | D29: =D14/$F$3 -> 6.1640909 | E29: =E14/$F$3 -> 6.8636364 | F29: =F14/$F$3 -> 5.1181818 | G29: =G14/$F$3 -> 3.2 | H29: =H14/$F$3 -> 1.5510909 | I29: =I14/$F$3 -> 0.36363636 | J29: =J14/$F$3 -> 0.54545455 | K29: =K14/$F$3 -> 0.27272727 | ... P29: =P14/$F$3 -> 40.874182
B30: Norm lämmönkulutus | C30: kWh/m3 | D30: =D15/$F$4 -> 3.5295922 | E30: =E15/$F$4 -> 3.6057613 | F30: =F15/$F$4 -> 2.473071 | G30: =G15/$F$4 -> 1.2126683 | H30: =H15/$F$4 -> 0.48132476 | I30: =I15/$F$4 -> 0.14430014 | J30: =J15/$F$4 -> 0.21645022 | K30: =K15/$F$4 -> 0.10822511 | ... P30: =P15/$F$4 -> 20.425949
B31: Norm lämmönkulutus | C31: kWh/m2 | D31: =D15/$F$3 -> 8.8945722 | E31: =E15/$F$3 -> 9.0865186 | F31: =F15/$F$3 -> 6.232139 | G31: =G15/$F$3 -> 3.0559242 | H31: =H15/$F$3 -> 1.2129384 | I31: =I15/$F$3 -> 0.36363636 | J31: =J15/$F$3 -> 0.54545455 | K31: =K15/$F$3 -> 0.27272727 | ... P31: =P15/$F$3 -> 51.473392
B32: Ominaislämmönkulutus | C32: Wh/m3/oCd | D32: =1000*D28/D11 -> 4.6503191 | E32: =1000*E28/E11 -> 5.1584569 | F32: =1000*F28/F11 -> 3.982401 | G32: =1000*G28/G11 -> 3.0091025 | H32: =1000*H28/H11 -> 2.9171197 | I32: =1000*I28/I11 -> #DIV/0! | J32: =1000*J28/J11 -> #DIV/0! | K32: =1000*K28/K11 -> 21.645022 | ... P32: =1000*P28/P11 -> 4.5067834
A34: Vuosikulutusarvio
B36: Lämmityssähkö ILPillä | D36: =4400*1.3 -> 5720 | E36: kWh | F36: =D36/$D$38 -> 0.58757062 | G36: Arvio lämmityssähkö ilman ILP | K36: ='2007'!D34 -> 8566 | L36: kWh | M36: Vuosikulutusarvio ilma ILP
B37: Taloussähkö | D37: =K3*365 -> 4015 | E37: kWh | F37: =D37/$D$38 -> 0.41242938 | G37: Arvio ILPin säästämästä sähköstä | K37: =K36-D36 -> 2846 | L37: kWh | N37: ='2007'!I36 -> 14540 | O37: kWh
B38: Yhteensä | D38: =SUM(D36:D37) -> 9735 | E38: kWh | G38: Säästöarvio lämmityssähkönkulutuksesta | K38: =K37/K36 -> 0.33224375
G39: Säästöarvio kokonaissähkönkulutuksesta | K39: =K37/(SUM(D37)+K36) -> 0.22621413
A49: ILP | D49: lukema | E49: päivät | F49: kulutus | G49: astepäivät
B50: 41633 | D50: 495.16
B51: 41645 | D51: 584.7 | E51: =DAYS360(B50,B51) -> 11 | F51: =(D51-D50)/E51 -> 8.14 | G51: 195 | H51: =(D51-D50)/G51 -> 0.45917949
B52: 41692 | D52: 1079.44 | E52: =DAYS360(B51,B52) -> 46 | F52: =(D52-D51)/E52 -> 10.755217 | G52: 1116 | H52: =(D52-D51)/G52 -> 0.44331541
B53: 41720 | D53: 1376.73 | E53: =DAYS360(B52,B53) -> 30 | F53: =(D53-D52)/E53 -> 9.9096667 | G53: 459 | H53: =(D53-D52)/G53 -> 0.64769063
B54: 41734 | D54: 1545.36 | E54: =DAYS360(B53,B54) -> 13 | F54: =(D54-D53)/E54 -> 12.971538 | G54: 173 | H54: =(D54-D53)/G54 -> 0.97473988 | N54: jäähdytys
B55: 41791 | D55: 2153 | E55: =DAYS360(B54,B55) -> 56 | F55: =(D55-D54)/E55 -> 10.850714 | G55: 537 | H55: =(D55-D54)/G55 -> 1.1315456 | L55: 41851 | N55: 2274.96 | O55: =N55-D57 -> 13.27
B56: 41814 | D56: 2233.47 | E56: =DAYS360(B55,B56) -> 23 | F56: =(D56-D55)/E56 -> 3.4986957 | G56: 78.2 | H56: =(D56-D55)/G56 -> 1.0290281
B57: 41825 | D57: 2261.69 | E57: =DAYS360(B56,B57) -> 11 | F57: =(D57-D56)/E57 -> 2.5654545
B58: 41852 | D58: 2274.96 | E58: =DAYS360(B57,B58) -> 26 | F58: =(D58-D57)/E58 -> 0.51038462
B59: 41882 | D59: 2314.32 | E59: =DAYS360(B58,B59) -> 30 | F59: =(D59-D58)/E59 -> 1.312 | G59: 13 | I59: =D59-D58 -> 39.36
B60: 41889 | D60: 2330.23 | E60: =DAYS360(B59,B60) -> 7 | F60: =(D60-D59)/E60 -> 2.2728571 | G60: =3.8*7 -> 26.6 | H60: =(D60-D59)/G60 -> 0.5981203
B61: 41929 | D61: 2507 | E61: =DAYS360(B60,B61) -> 40 | F61: =(D61-D60)/E61 -> 4.41925 | G61: =7*40 -> 280 | H61: =(D61-D60)/G61 -> 0.63132143
B62: 41951 | D62: 2695.68 | E62: =DAYS360(B61,B62) -> 21 | F62: =(D62-D61)/E62 -> 8.9847619 | G62: =21*12.5 -> 262.5 | H62: =(D62-D61)/G62 -> 0.71878095
B63: 42035 | D63: 3422.93 | E63: =DAYS360(B62,B63) -> 83 | F63: =(D63-D62)/E63 -> 8.7620482 | G63: 1643 | H63: =(D63-D62)/G63 -> 0.44263542 | L63: =D63-D50 -> 2927.77 | N63: =B63-B50 -> 402 | P63: =L63/N63*365 -> 2658.2986
B64: 42099 | D64: 3996.35 | E64: =DAYS360(B63,B64) -> 65 | F64: =(D64-D63)/E64 -> 8.8218462 | G64: =524+505+80 -> 1109 | H64: =(D64-D63)/G64 -> 0.51706041 | L64: =D64-D63 -> 573.42
B65: 42127 | D65: 4186.01 | E65: =DAYS360(B64,B65) -> 28 | F65: =(D65-D64)/E65 -> 6.7735714 | G65: 372 | H65: =(D65-D64)/G65 -> 0.50983871 | L65: =D65-D64 -> 189.66
B66: 42148 | D66: 4288.13 | E66: =DAYS360(B65,B66) -> 21 | F66: =(D66-D65)/E66 -> 4.8628571 | G66: 125 | H66: =(D66-D65)/G66 -> 0.81696 | L66: =D66-D65 -> 102.12
B67: 42180 | D67: 4366.53 | E67: =DAYS360(B66,B67) -> 31 | F67: =(D67-D66)/E67 -> 2.5290323 | G67: 8 | H67: =(D67-D66)/G67 -> 9.8 | L67: =D67-D66 -> 78.4
B68: 42233 | D68: 4444.18 | E68: =DAYS360(B67,B68) -> 52 | F68: =(D68-D67)/E68 -> 1.4932692 | G68: 5 | H68: =(D68-D67)/G68 -> 15.53
B69: 42295 | D69: 4652.76 | E69: =DAYS360(B68,B69) -> 61 | F69: =(D69-D68)/E69 -> 3.4193443 | G69: =70+18*(17-4) -> 304 | H69: =(D69-D68)/G69 -> 0.68611842 | L69: =D69-D61 -> 2145.76
B70: 42346 | D70: 5072.02 | E70: =DAYS360(B69,B70) -> 50 | F70: =(D70-D69)/E70 -> 8.3852 | G70: =13.5*50 -> 675 | H70: =(D70-D69)/G70 -> 0.62112593
B71: 42361 | D71: 5193.02 | E71: =DAYS360(B70,B71) -> 15 | F71: =(D71-D70)/E71 -> 8.0666667 | G71: =14*15 -> 210 | H71: =(D71-D70)/G71 -> 0.57619048
B72: 42442 | D72: 5511 | E72: =DAYS360(B71,B72) -> 80 | F72: =(D72-D71)/E72 -> 3.97475 | G72: =552+969 -> 1521 | H72: =(D72-D71)/G72 -> 0.20905983
B73: 42489 | D73: 5826.24 | E73: =DAYS360(B72,B73) -> 46 | F73: =(D73-D72)/E73 -> 6.8530435 | G73: =561+376 -> 937 | H73: =(D73-D72)/G73 -> 0.33643543
B74: 42519 | D74: 5907.41 | E74: =DAYS360(B73,B74) -> 30 | F74: =(D74-D73)/E74 -> 2.7056667 | G74: 23 | H74: =(D74-D73)/G74 -> 3.5291304
B75: 42552 | D75: 5970.92 | E75: =DAYS360(B74,B75) -> 32 | F75: =(D75-D74)/E75 -> 1.9846875 | G75: 37 | H75: =(D75-D74)/G75 -> 1.7164865
B76: 42579 | D76: 6019 | E76: =DAYS360(B75,B76) -> 27 | F76: =(D76-D75)/E76 -> 1.7807407 | G76: 0 | H76: =(D76-D75)/G76 -> #DIV/0!
B77: 42594 | D77: 6034.41 | E77: =DAYS360(B76,B77) -> 14 | F77: =(D77-D76)/E77 -> 1.1007143
B78: 42617 | D78: 6072.33 | E78: =DAYS360(B77,B78) -> 22 | F78: =(D78-D77)/E78 -> 1.7236364 | L78: =D78-D76 -> 53.33 | M78: =L78/SUM(E77:E78)*31 -> 45.923056
B79: 42665 | D79: 6276.93 | E79: =DAYS360(B78,B79) -> 48 | F79: =(D79-D78)/E79 -> 4.2625 | G79: =125+234 -> 359 | H79: =(D79-D78)/G79 -> 0.56991643
B80: 42735 | D80: 6822.39 | E80: =DAYS360(B79,B80) -> 69 | F80: =(D80-D79)/E80 -> 7.9052174 | G80: 1172 | H80: =(D80-D79)/G80 -> 0.46540956
B81: 42749 | D81: 6850.12 | E81: =DAYS360(B80,B81) -> 14 | F81: =(D81-D80)/E81 -> 1.9807143 | G81: 363 | H81: =(D81-D80)/G81 -> 0.076391185
B82: 42764 | D82: 6936.34 | E82: =DAYS360(B81,B82) -> 15 | F82: =(D82-D81)/E82 -> 5.748 | G82: 310 | H82: =(D82-D81)/G82 -> 0.27812903
B83: 42792 | D83: 7116.25 | E83: =DAYS360(B82,B83) -> 27 | F83: =(D83-D82)/E83 -> 6.6633333 | G83: 600 | H83: =(D83-D82)/G83 -> 0.29985
B84: 42841 | D84: 7549.7 | E84: =DAYS360(B83,B84) -> 50 | F84: =(D84-D83)/E84 -> 8.669 | G84: 840 | H84: =(D84-D83)/G84 -> 0.5160119
B85: 42862 | D85: 7682.85 | E85: =DAYS360(B84,B85) -> 21 | F85: =(D85-D84)/E85 -> 6.3404762 | G85: 230 | H85: =(D85-D84)/G85 -> 0.57891304
B86: 42897 | D86: 7810.93 | E86: =DAYS360(B85,B86) -> 34 | F86: =(D86-D85)/E86 -> 3.7670588
B87: 42908 | D87: 7824.01 | E87: =DAYS360(B86,B87) -> 11 | F87: =(D87-D86)/E87 -> 1.1890909
B88: 42917 | D88: 7835.31 | E88: =DAYS360(B87,B88) -> 9 | F88: =(D88-D87)/E88 -> 1.2555556 | J88: =D88-D75 -> 1864.39
B89: 42952 | D89: 7871.11 | E89: =DAYS360(B88,B89) -> 34 | F89: =(D89-D88)/E89 -> 1.0529412 | J89: =D89-D88 -> 35.8
B90: 42993 | D90: 7950 | E90: =DAYS360(B89,B90) -> 40 | F90: =(D90-D89)/E90 -> 1.97225
B91: 43015 | D91: 8045.28 | E91: =DAYS360(B90,B91) -> 22 | F91: =(D91-D90)/E91 -> 4.3309091 | G91: 160 | H91: =(D91-D90)/G91 -> 0.5955
B92: 43043 | D92: 8297.17 | E92: =DAYS360(B91,B92) -> 27 | F92: =(D92-D91)/E92 -> 9.3292593 | G92: 396 | H92: =(D92-D91)/G92 -> 0.63608586 | K92: =D92-D91 -> 251.89
B93: 43100 | D93: 8857.63 | E93: =DAYS360(B92,B93) -> 57 | F93: =(D93-D92)/E93 -> 9.8326316 | G93: 1050 | H93: =(D93-D92)/G93 -> 0.53377143 | K93: =D93-D92 -> 560.46 | N93: =D93-D80 -> 2035.24
B94: 43155 | D94: 9122.02 | E94: =DAYS360(B93,B94) -> 54 | F94: =(D94-D93)/E94 -> 4.8961111 | G94: 1320 | H94: =(D94-D93)/G94 -> 0.20029545 | N94: =D94-D93 -> 264.39
B95: 43184 | D95: 9294.37 | E95: =DAYS360(B94,B95) -> 31 | F95: =(D95-D94)/E95 -> 5.5596774 | G95: 723 | H95: =(D95-D94)/G95 -> 0.23838174 | N95: =D95-D94 -> 172.35 | P95: =D94-D83 -> 2005.77
B96: 43217 | D96: 9530.9 | E96: =DAYS360(B95,B96) -> 32 | F96: =(D96-D95)/E96 -> 7.3915625 | N96: =D96-D95 -> 236.53
B97: 43241 | D97: 9598.8 | E97: =DAYS360(B96,B97) -> 24 | F97: =(D97-D96)/E97 -> 2.8291667 | N97: =D97-D96 -> 67.9
B98: 43269 | D98: 9628.28 | E98: =DAYS360(B97,B98) -> 27 | F98: =(D98-D97)/E98 -> 1.0918519 | N98: =D98-D97 -> 29.48 | P98: =D98-D87 -> 1804.27
B99: 43285 | D99: 9644.29 | E99: =DAYS360(B98,B99) -> 16 | F99: =(D99-D98)/E99 -> 1.000625
B100: 43298 | D100: 9661.08 | E100: =DAYS360(B99,B100) -> 13 | F100: =(D100-D99)/E100 -> 1.2915385 | N100: =D100-D99 -> 16.79
B101: 43317 | D101: 9702.4 | E101: =DAYS360(B100,B101) -> 18 | F101: =(D101-D100)/E101 -> 2.2955556 | N101: =D101-D99 -> 58.11 | O101: =N101-N100 -> 41.32 | P101: =D101-D89 -> 1831.29
B102: 43364 | D102: 9762.31 | E102: =DAYS360(B101,B102) -> 46 | F102: =(D102-D101)/E102 -> 1.3023913 | N102: =D102-D101 -> 59.91 | P102: =D102-D90 -> 1812.31
B103: 43401 | D103: 9930.78 | E103: =DAYS360(B102,B103) -> 37 | F103: =(D103-D102)/E103 -> 4.5532432 | N103: =D103-D101 -> 228.38
B104: 43442 | D104: 10300.53 | E104: =DAYS360(B103,B104) -> 40 | F104: =(D104-D103)/E104 -> 9.24375 | G104: =SUM(M11:N11) -> 726 | H104: =(D104-D103)/G104 -> 0.50929752 | N104: =D104-D103 -> 369.75
B105: 43464 | D105: 531.5 | E105: =DAYS360(B104,B105) -> 22 | F105: =(D105-D104+10000)/E105 -> 10.498636 | N105: =D105-D104+10000 -> 230.97 | P105: =D105-D93+10000 -> 1673.87
B106: 43547 | D106: 994.26 | E106: =DAYS360(B105,B106) -> 83 | F106: =(D106-D105)/E106 -> 5.5754217 | N106: =D106-D105 -> 462.76 | P106: =D106-D95+10000 -> 1699.89
B107: 43582 | D107: 1190.87 | E107: =DAYS360(B106,B107) -> 34 | F107: =(D107-D106)/E107 -> 5.7826471 | N107: =D107-D106 -> 196.61 | P107: =D107-D96+10000 -> 1659.97
B108: 43622 | D108: 1333.82 | E108: =DAYS360(B107,B108) -> 39 | F108: =(D108-D107)/E108 -> 3.6653846 | N108: =D108-D107 -> 142.95 | P108: =D108-D98+10000 -> 1705.54
B109: 43670 | D109: 1398.19 | E109: =DAYS360(B108,B109) -> 48 | F109: =(D109-D108)/E109 -> 1.3410417 | N109: =D109-D108 -> 64.37
B110: 43681 | D110: 1419.41 | E110: =DAYS360(B109,B110) -> 10 | F110: =(D110-D109)/E110 -> 2.122 | N110: =D110-D109 -> 21.22 | P110: =D110-D101+10000 -> 1717.01
B111: 43744 | D111: 1581.94 | E111: =DAYS360(B110,B111) -> 62 | F111: =(D111-D110)/E111 -> 2.6214516 | N111: =D111-D110 -> 162.53
B112: 43806 | D112: 2125.79 | E112: =DAYS360(B111,B112) -> 61 | F112: =(D112-D111)/E112 -> 8.9155738 | N112: =D112-D111 -> 543.85 | P112: =D112-D104+10000 -> 1825.26
B113: 43827 | D113: 2323.56 | E113: =DAYS360(B112,B113) -> 21 | F113: =(D113-D112)/E113 -> 9.417619 | N113: =D113-D112 -> 197.77 | P113: =D113-D105 -> 1792.06
B114: 43876 | D114: 2777.25 | E114: =DAYS360(B113,B114) -> 47 | F114: =(D114-D113)/E114 -> 9.6529787 | N114: =D114-D113 -> 453.69
B115: 43953 | D115: 3386.03 | E115: =DAYS360(B114,B115) -> 77 | F115: =(D115-D114)/E115 -> 7.9062338 | N115: =D115-D114 -> 608.78 | P115: =D115-D107 -> 2195.16
B116: 43972 | D116: 3469.97 | E116: =DAYS360(B115,B116) -> 19 | F116: =(D116-D115)/E116 -> 4.4178947 | N116: =D116-D115 -> 83.94
...

Sheet 2019
A1: SÄHKÖNKULUTUSRAPORTTI | D1: 2019
A3: Imatra omakotitalo 4H+K+S | D3: Asuinala | F3: 110 | G3: m2 | H3: Taloussähkö arvio | K3: 11 | L3: kWh/d
D4: Tilavuus | F4: =2.52*F3 -> 277.2 | G4: m3 | H4: Kesäkuukausien keskikulutus (ilman ILP) | K4: =SUM(I9:K9)/92 -> 10.879783 | L4: kWh/d
A6: Jakso | D6: Tammi | E6: Helmi | F6: Maalis | G6: Huhti | H6: Touko | I6: Kesä | J6: Heinä | K6: Elo | L6: Syys | M6: Loka | N6: Marras | O6: Joulu | P6: Yhteensä
D7: 31 | E7: 28 | F7: 31 | G7: 30 | H7: 31 | I7: 30 | J7: 31 | K7: 31 | L7: 30 | M7: 31 | N7: 30 | O7: 31 | P7: =SUM(D7:O7) -> 365
A8: 2019 | B8: Keskilämpötila | C8: oC | D8: -8.5 | E8: -2 | F8: -1.6 | G8: 5.5 | H8: 9.8 | I8: 17.4 | J8: 15.8 | K8: 15.5 | L8: 10.3 | M8: 3.7 | N8: 0.3 | O8: -0.1 | P8: =AVERAGE(D8:O8) -> 5.5083333
A9: 2019 | B9: Sähkö yhteensä | C9: kWh | D9: 1679.28 | E9: 1103.17 | F9: 979.68 | G9: 624.48 | H9: 504.01 | I9: 347.01 | J9: 340.28 | K9: 313.65 | L9: 432.32 | M9: 679.98 | N9: 822.78 | O9: 936.61 | P9: =SUM(D9:O9) -> 8763.25 | R9: =SUM(D9:O9)+SUM('2018'!O9) -> 9963.99
A10: 2019 | B10: Ilmalämpöpumppu, arvio | C10: kWh | D10: 35 | E10: 63 | F10: 300 | G10: 196.6 | H10: 143 | I10: 40 | J10: 45 | K10: 40 | L10: 122 | M10: 220 | N10: 320 | O10: =9.45*31 -> 292.95 | P10: =SUM(D10:O10) -> 1817.55 | R10: =SUM(D10:O10)+SUM('2018'!O10) -> 2143.05 | T10: =P10+'2018'!P10+'2017'!P10+'2016'!P12+'2015'!P12+'2014'!P12+'2013'!P12+'2012'!P12+'2011'!P12+'2010'!P12+'2009'!P12+'2008'!P12 -> 22878.581
A11: 2019 | B11: Lämmitystarveluku toteutunut | C11: oCd | D11: 791 | E11: 532 | F11: 576 | G11: 325 | H11: 174 | I11: 0 | J11: 23 | K11: 11 | L11: 176 | M11: 411 | N11: 502 | O11: 530 | P11: =SUM(D11:O11) -> 4051
A12: 2019 | B12: Lämmitystarveluku normivuosi | C12: oCd | D12: 759 | E12: 699 | F12: 621 | G12: 403 | H12: 165 | I12: 22 | J12: 5 | K12: 28 | L12: 184 | M12: 386 | N12: 546 | O12: 692 | P12: 4510
A13: 2019 | B13: Taloussähkö (arvio) | C13: kWh | D13: =$K$3*D7 -> 341 | E13: =$K$3*E7 -> 308 | F13: =$K$3*F7 -> 341 | G13: =$K$3*G7 -> 330 | H13: =$K$3*H7 -> 341 | I13: =$K$3*I7 -> 330 | J13: =$K$3*J7 -> 341 | K13: =$K$3*K7 -> 341 | ... O13: =$K$3*O7 -> 341 | P13: =SUM(D13:O13) -> 4015
A14: 2019 | B14: Lämmityssähkö (arvio) | C14: kWh | D14: =D9-D13 -> 1338.28 | E14: =E9-E13 -> 795.17 | F14: =F9-F13 -> 638.68 | G14: =G9-G13 -> 294.48 | H14: =H9-H13 -> 163.01 | I14: =I10 -> 40 | J14: =J10 -> 45 | K14: =K10 -> 40 | L14: =L9-L13 -> 102.32 | M14: =M9-M13 -> 338.98 | N14: =N9-N13 -> 492.78 | O14: =O9-O13 -> 595.61 | P14: =SUM(D14:O14) -> 4884.31
A15: 2019 | B15: Sääkorjattu lämmityssähkö | C15: kWh | D15: =IF(D14<0,0,((D12/D11))*D14) -> 1284.1397 | E15: =IF(E14<0,0,((E12/E11))*E14) -> 1044.7816 | F15: =IF(F14<0,0,((F12/F11))*F14) -> 688.57687 | G15: =IF(G14<0,0,((G12/G11))*G14) -> 365.1552 | H15: =IF(H14<0,0,((H12/H11))*H14) -> 154.57845 | I15: =I14 -> 40 | J15: =J14 -> 45 | K15: =K14 -> 40 | L15: =IF(L14<0,0,((L12/L11))*L14) -> 106.97091 | M15: =IF(M14<0,0,((M12/M11))*M14) -> 318.36078 | N15: =IF(N14<0,0,((N12/N11))*N14) -> 535.97187 | O15: =IF(O14<0,0,((O12/O11))*O14) -> 777.66438 | P15: =SUM(D15:O15) -> 5401.1998 | R15: =P14-P10 -> 3066.76
A18: Kulutus päivässä | C18: kWh/d | D18: =D9/D7 -> 54.170323 | E18: =E9/E7 -> 39.398929 | F18: =F9/F7 -> 31.602581 | G18: =G9/G7 -> 20.816 | H18: =H9/H7 -> 16.258387 | I18: =I9/I7 -> 11.567 | J18: =J9/J7 -> 10.976774 | K18: =K9/K7 -> 10.117742 | ... O18: =O9/O7 -> 30.213226
B19: Kumulatiivinen kulutus | C19: kWh | D19: =SUM(D9) -> 1679.28 | E19: =SUM($D$9:E9) -> 2782.45 | F19: =SUM($D$9:F9) -> 3762.13 | G19: =SUM($D$9:G9) -> 4386.61 | H19: =SUM($D$9:H9) -> 4890.62 | I19: =SUM($D$9:I9) -> 5237.63 | J19: =SUM($D$9:J9) -> 5577.91 | K19: =SUM($D$9:K9) -> 5891.56 | L19: =SUM($D$9:L9) -> 6323.88 | ... O19: =SUM($D$9:O9) -> 8763.25
B20: Kumulatiivinen kulutus ILP | C20: kWh | D20: =SUM(D10) -> 35 | E20: =SUM($D$10:E10) -> 98 | F20: =SUM($D$10:F10) -> 398 | G20: =SUM($D$10:G10) -> 594.6 | H20: =SUM($D$10:H10) -> 737.6 | I20: =SUM($D$10:I10) -> 777.6 | J20: =SUM($D$10:J10) -> 822.6 | K20: =SUM($D$10:K10) -> 862.6 | L20: =SUM($D$10:L10) -> 984.6 | ... O20: =SUM($D$10:O10) -> 1817.55
B21: Kumulatiivinen kulutus lämmitys | C21: kWh | D21: =SUM(D14) -> 1338.28 | E21: =SUM($D$14:E14) -> 2133.45 | F21: =SUM($D$14:F14) -> 2772.13 | G21: =SUM($D$14:G14) -> 3066.61 | H21: =SUM($D$14:H14) -> 3229.62 | I21: =SUM($D$14:I14) -> 3269.62 | J21: =SUM($D$14:J14) -> 3314.62 | K21: =SUM($D$14:K14) -> 3354.62 | L21: =SUM($D$14:L14) -> 3456.94 | ... O21: =SUM($D$14:O14) -> 4884.31
A23: Lämmitys
B24: Lämmityksen osuus kulutuksesta | D24: =D14/D9 -> 0.79693678 | E24: =E14/E9 -> 0.72080459 | F24: =F14/F9 -> 0.65192716 | G24: =G14/G9 -> 0.47156034 | H24: =H14/H9 -> 0.32342612 | I24: =I14/I9 -> 0.11527045 | J24: =J14/J9 -> 0.13224403 | K24: =K14/K9 -> 0.12753069 | ... P24: =P14/P9 -> 0.55736285
B25: Sähkönkulutus lämmitykseen | C25: kWh/oCd | D25: =D14/D11 -> 1.6918837 | E25: =E14/E11 -> 1.4946805 | F25: =F14/F11 -> 1.1088194 | G25: =G14/G11 -> 0.90609231 | H25: =H14/H11 -> 0.93683908 | I25: =I14/I11 -> #DIV/0! | J25: =J14/J11 -> 1.9565217 | K25: =K14/K11 -> 3.6363636 | ... P25: =P14/P11 -> 1.2057048
B26: Sähkönkulutus lämmitykseen | C26: kWh/d | D26: =D14/D7 -> 43.170323 | E26: =E14/E7 -> 28.398929 | F26: =F14/F7 -> 20.602581 | G26: =G14/G7 -> 9.816 | H26: =H14/H7 -> 5.2583871 | I26: =I14/I7 -> 1.3333333 | J26: =J14/J7 -> 1.4516129 | K26: =K14/K7 -> 1.2903226 | ... P26: =P14/P7 -> 13.381671
B27: Norm sähkö lämmitykseen | C27: kWh/d | D27: =D15/D7 -> 41.423862 | E27: =E15/E7 -> 37.31363 | F27: =F15/F7 -> 22.212157 | G27: =G15/G7 -> 12.17184 | H27: =H15/H7 -> 4.9864016 | I27: =I15/I7 -> 1.3333333 | J27: =J15/J7 -> 1.4516129 | K27: =K15/K7 -> 1.2903226 | ... P27: =P15/P7 -> 14.797808
B28: Ominaislämmönkulutus | C28: kWh/m3 | D28: =D14/$F$4 -> 4.8278499 | E28: =E14/$F$4 -> 2.8685786 | F28: =F14/$F$4 -> 2.3040404 | G28: =G14/$F$4 -> 1.0623377 | H28: =H14/$F$4 -> 0.58805916 | I28: =I14/$F$4 -> 0.14430014 | J28: =J14/$F$4 -> 0.16233766 | K28: =K14/$F$4 -> 0.14430014 | ... P28: =P14/$F$4 -> 17.620166
B29: Ominaislämmönkulutus | C29: kWh/m2 | D29: =D14/$F$3 -> 12.166182 | E29: =E14/$F$3 -> 7.2288182 | F29: =F14/$F$3 -> 5.8061818 | G29: =G14/$F$3 -> 2.6770909 | H29: =H14/$F$3 -> 1.4819091 | I29: =I14/$F$3 -> 0.36363636 | J29: =J14/$F$3 -> 0.40909091 | K29: =K14/$F$3 -> 0.36363636 | ... P29: =P14/$F$3 -> 44.402818
B30: Norm lämmönkulutus | C30: kWh/m3 | D30: =D15/$F$4 -> 4.6325387 | E30: =E15/$F$4 -> 3.7690535 | F30: =F15/$F$4 -> 2.4840436 | G30: =G15/$F$4 -> 1.3172987 | H30: =H15/$F$4 -> 0.55764231 | I30: =I15/$F$4 -> 0.14430014 | J30: =J15/$F$4 -> 0.16233766 | K30: =K15/$F$4 -> 0.14430014 | ... P30: =P15/$F$4 -> 19.484848
B31: Norm lämmönkulutus | C31: kWh/m2 | D31: =D15/$F$3 -> 11.673997 | E31: =E15/$F$3 -> 9.4980149 | F31: =F15/$F$3 -> 6.2597898 | G31: =G15/$F$3 -> 3.3195927 | H31: =H15/$F$3 -> 1.4052586 | I31: =I15/$F$3 -> 0.36363636 | J31: =J15/$F$3 -> 0.40909091 | K31: =K15/$F$3 -> 0.36363636 | ... P31: =P15/$F$3 -> 49.101817
B32: Ominaislämmönkulutus | C32: Wh/m3/oCd | D32: =1000*D28/D11 -> 6.1034765 | E32: =1000*E28/E11 -> 5.3920651 | F32: =1000*F28/F11 -> 4.0000701 | G32: =1000*G28/G11 -> 3.2687313 | H32: =1000*H28/H11 -> 3.3796504 | I32: =1000*I28/I11 -> #DIV/0! | J32: =1000*J28/J11 -> 7.0581592 | K32: =1000*K28/K11 -> 13.118195 | ... P32: =1000*P28/P11 -> 4.3495843
A34: Vuosikulutusarvio
B36: Lämmityssähkö ILPillä | D36: =4400*1.3 -> 5720 | E36: kWh | F36: =D36/$D$38 -> 0.58757062 | G36: Arvio lämmityssähkö ilman ILP | K36: ='2007'!D34 -> 8566 | L36: kWh | M36: Vuosikulutusarvio ilma ILP
B37: Taloussähkö | D37: =K3*365 -> 4015 | E37: kWh | F37: =D37/$D$38 -> 0.41242938 | G37: Arvio ILPin säästämästä sähköstä | K37: =K36-D36 -> 2846 | L37: kWh | N37: ='2007'!I36 -> 14540 | O37: kWh
B38: Yhteensä | D38: =SUM(D36:D37) -> 9735 | E38: kWh | G38: Säästöarvio lämmityssähkönkulutuksesta | K38: =K37/K36 -> 0.33224375
G39: Säästöarvio kokonaissähkönkulutuksesta | K39: =K37/(SUM(D37)+K36) -> 0.22621413
A49: ILP | D49: lukema | E49: päivät | F49: kulutus | G49: astepäivät
B50: 41633 | D50: 495.16
B51: 41645 | D51: 584.7 | E51: =DAYS360(B50,B51) -> 11 | F51: =(D51-D50)/E51 -> 8.14 | G51: 195 | H51: =(D51-D50)/G51 -> 0.45917949
B52: 41692 | D52: 1079.44 | E52: =DAYS360(B51,B52) -> 46 | F52: =(D52-D51)/E52 -> 10.755217 | G52: 1116 | H52: =(D52-D51)/G52 -> 0.44331541
B53: 41720 | D53: 1376.73 | E53: =DAYS360(B52,B53) -> 30 | F53: =(D53-D52)/E53 -> 9.9096667 | G53: 459 | H53: =(D53-D52)/G53 -> 0.64769063
B54: 41734 | D54: 1545.36 | E54: =DAYS360(B53,B54) -> 13 | F54: =(D54-D53)/E54 -> 12.971538 | G54: 173 | H54: =(D54-D53)/G54 -> 0.97473988 | N54: jäähdytys
B55: 41791 | D55: 2153 | E55: =DAYS360(B54,B55) -> 56 | F55: =(D55-D54)/E55 -> 10.850714 | G55: 537 | H55: =(D55-D54)/G55 -> 1.1315456 | L55: 41851 | N55: 2274.96 | O55: =N55-D57 -> 13.27
B56: 41814 | D56: 2233.47 | E56: =DAYS360(B55,B56) -> 23 | F56: =(D56-D55)/E56 -> 3.4986957 | G56: 78.2 | H56: =(D56-D55)/G56 -> 1.0290281
B57: 41825 | D57: 2261.69 | E57: =DAYS360(B56,B57) -> 11 | F57: =(D57-D56)/E57 -> 2.5654545
B58: 41852 | D58: 2274.96 | E58: =DAYS360(B57,B58) -> 26 | F58: =(D58-D57)/E58 -> 0.51038462
B59: 41882 | D59: 2314.32 | E59: =DAYS360(B58,B59) -> 30 | F59: =(D59-D58)/E59 -> 1.312 | G59: 13 | I59: =D59-D58 -> 39.36
B60: 41889 | D60: 2330.23 | E60: =DAYS360(B59,B60) -> 7 | F60: =(D60-D59)/E60 -> 2.2728571 | G60: =3.8*7 -> 26.6 | H60: =(D60-D59)/G60 -> 0.5981203
B61: 41929 | D61: 2507 | E61: =DAYS360(B60,B61) -> 40 | F61: =(D61-D60)/E61 -> 4.41925 | G61: =7*40 -> 280 | H61: =(D61-D60)/G61 -> 0.63132143
B62: 41951 | D62: 2695.68 | E62: =DAYS360(B61,B62) -> 21 | F62: =(D62-D61)/E62 -> 8.9847619 | G62: =21*12.5 -> 262.5 | H62: =(D62-D61)/G62 -> 0.71878095
B63: 42035 | D63: 3422.93 | E63: =DAYS360(B62,B63) -> 83 | F63: =(D63-D62)/E63 -> 8.7620482 | G63: 1643 | H63: =(D63-D62)/G63 -> 0.44263542 | L63: =D63-D50 -> 2927.77 | N63: =B63-B50 -> 402 | P63: =L63/N63*365 -> 2658.2986
B64: 42099 | D64: 3996.35 | E64: =DAYS360(B63,B64) -> 65 | F64: =(D64-D63)/E64 -> 8.8218462 | G64: =524+505+80 -> 1109 | H64: =(D64-D63)/G64 -> 0.51706041 | L64: =D64-D63 -> 573.42
B65: 42127 | D65: 4186.01 | E65: =DAYS360(B64,B65) -> 28 | F65: =(D65-D64)/E65 -> 6.7735714 | G65: 372 | H65: =(D65-D64)/G65 -> 0.50983871 | L65: =D65-D64 -> 189.66
B66: 42148 | D66: 4288.13 | E66: =DAYS360(B65,B66) -> 21 | F66: =(D66-D65)/E66 -> 4.8628571 | G66: 125 | H66: =(D66-D65)/G66 -> 0.81696 | L66: =D66-D65 -> 102.12
B67: 42180 | D67: 4366.53 | E67: =DAYS360(B66,B67) -> 31 | F67: =(D67-D66)/E67 -> 2.5290323 | G67: 8 | H67: =(D67-D66)/G67 -> 9.8 | L67: =D67-D66 -> 78.4
B68: 42233 | D68: 4444.18 | E68: =DAYS360(B67,B68) -> 52 | F68: =(D68-D67)/E68 -> 1.4932692 | G68: 5 | H68: =(D68-D67)/G68 -> 15.53
B69: 42295 | D69: 4652.76 | E69: =DAYS360(B68,B69) -> 61 | F69: =(D69-D68)/E69 -> 3.4193443 | G69: =70+18*(17-4) -> 304 | H69: =(D69-D68)/G69 -> 0.68611842 | L69: =D69-D61 -> 2145.76
B70: 42346 | D70: 5072.02 | E70: =DAYS360(B69,B70) -> 50 | F70: =(D70-D69)/E70 -> 8.3852 | G70: =13.5*50 -> 675 | H70: =(D70-D69)/G70 -> 0.62112593
B71: 42361 | D71: 5193.02 | E71: =DAYS360(B70,B71) -> 15 | F71: =(D71-D70)/E71 -> 8.0666667 | G71: =14*15 -> 210 | H71: =(D71-D70)/G71 -> 0.57619048
B72: 42442 | D72: 5511 | E72: =DAYS360(B71,B72) -> 80 | F72: =(D72-D71)/E72 -> 3.97475 | G72: =552+969 -> 1521 | H72: =(D72-D71)/G72 -> 0.20905983
B73: 42489 | D73: 5826.24 | E73: =DAYS360(B72,B73) -> 46 | F73: =(D73-D72)/E73 -> 6.8530435 | G73: =561+376 -> 937 | H73: =(D73-D72)/G73 -> 0.33643543
B74: 42519 | D74: 5907.41 | E74: =DAYS360(B73,B74) -> 30 | F74: =(D74-D73)/E74 -> 2.7056667 | G74: 23 | H74: =(D74-D73)/G74 -> 3.5291304
B75: 42552 | D75: 5970.92 | E75: =DAYS360(B74,B75) -> 32 | F75: =(D75-D74)/E75 -> 1.9846875 | G75: 37 | H75: =(D75-D74)/G75 -> 1.7164865
B76: 42579 | D76: 6019 | E76: =DAYS360(B75,B76) -> 27 | F76: =(D76-D75)/E76 -> 1.7807407 | G76: 0 | H76: =(D76-D75)/G76 -> #DIV/0!
B77: 42594 | D77: 6034.41 | E77: =DAYS360(B76,B77) -> 14 | F77: =(D77-D76)/E77 -> 1.1007143
B78: 42617 | D78: 6072.33 | E78: =DAYS360(B77,B78) -> 22 | F78: =(D78-D77)/E78 -> 1.7236364 | L78: =D78-D76 -> 53.33 | M78: =L78/SUM(E77:E78)*31 -> 45.923056
B79: 42665 | D79: 6276.93 | E79: =DAYS360(B78,B79) -> 48 | F79: =(D79-D78)/E79 -> 4.2625 | G79: =125+234 -> 359 | H79: =(D79-D78)/G79 -> 0.56991643
B80: 42735 | D80: 6822.39 | E80: =DAYS360(B79,B80) -> 69 | F80: =(D80-D79)/E80 -> 7.9052174 | G80: 1172 | H80: =(D80-D79)/G80 -> 0.46540956
B81: 42749 | D81: 6850.12 | E81: =DAYS360(B80,B81) -> 14 | F81: =(D81-D80)/E81 -> 1.9807143 | G81: 363 | H81: =(D81-D80)/G81 -> 0.076391185
B82: 42764 | D82: 6936.34 | E82: =DAYS360(B81,B82) -> 15 | F82: =(D82-D81)/E82 -> 5.748 | G82: 310 | H82: =(D82-D81)/G82 -> 0.27812903
B83: 42792 | D83: 7116.25 | E83: =DAYS360(B82,B83) -> 27 | F83: =(D83-D82)/E83 -> 6.6633333 | G83: 600 | H83: =(D83-D82)/G83 -> 0.29985
B84: 42841 | D84: 7549.7 | E84: =DAYS360(B83,B84) -> 50 | F84: =(D84-D83)/E84 -> 8.669 | G84: 840 | H84: =(D84-D83)/G84 -> 0.5160119
B85: 42862 | D85: 7682.85 | E85: =DAYS360(B84,B85) -> 21 | F85: =(D85-D84)/E85 -> 6.3404762 | G85: 230 | H85: =(D85-D84)/G85 -> 0.57891304
B86: 42897 | D86: 7810.93 | E86: =DAYS360(B85,B86) -> 34 | F86: =(D86-D85)/E86 -> 3.7670588
B87: 42908 | D87: 7824.01 | E87: =DAYS360(B86,B87) -> 11 | F87: =(D87-D86)/E87 -> 1.1890909
B88: 42917 | D88: 7835.31 | E88: =DAYS360(B87,B88) -> 9 | F88: =(D88-D87)/E88 -> 1.2555556 | J88: =D88-D75 -> 1864.39
B89: 42952 | D89: 7871.11 | E89: =DAYS360(B88,B89) -> 34 | F89: =(D89-D88)/E89 -> 1.0529412 | J89: =D89-D88 -> 35.8
B90: 42993 | D90: 7950 | E90: =DAYS360(B89,B90) -> 40 | F90: =(D90-D89)/E90 -> 1.97225
B91: 43015 | D91: 8045.28 | E91: =DAYS360(B90,B91) -> 22 | F91: =(D91-D90)/E91 -> 4.3309091 | G91: 160 | H91: =(D91-D90)/G91 -> 0.5955
B92: 43043 | D92: 8297.17 | E92: =DAYS360(B91,B92) -> 27 | F92: =(D92-D91)/E92 -> 9.3292593 | G92: 396 | H92: =(D92-D91)/G92 -> 0.63608586 | K92: =D92-D91 -> 251.89
B93: 43100 | D93: 8857.63 | E93: =DAYS360(B92,B93) -> 57 | F93: =(D93-D92)/E93 -> 9.8326316 | G93: 1050 | H93: =(D93-D92)/G93 -> 0.53377143 | K93: =D93-D92 -> 560.46 | N93: =D93-D80 -> 2035.24
B94: 43155 | D94: 9122.02 | E94: =DAYS360(B93,B94) -> 54 | F94: =(D94-D93)/E94 -> 4.8961111 | G94: 1320 | H94: =(D94-D93)/G94 -> 0.20029545 | N94: =D94-D93 -> 264.39
B95: 43184 | D95: 9294.37 | E95: =DAYS360(B94,B95) -> 31 | F95: =(D95-D94)/E95 -> 5.5596774 | G95: 723 | H95: =(D95-D94)/G95 -> 0.23838174 | N95: =D95-D94 -> 172.35 | P95: =D94-D83 -> 2005.77
B96: 43217 | D96: 9530.9 | E96: =DAYS360(B95,B96) -> 32 | F96: =(D96-D95)/E96 -> 7.3915625 | N96: =D96-D95 -> 236.53
B97: 43241 | D97: 9598.8 | E97: =DAYS360(B96,B97) -> 24 | F97: =(D97-D96)/E97 -> 2.8291667 | N97: =D97-D96 -> 67.9
B98: 43269 | D98: 9628.28 | E98: =DAYS360(B97,B98) -> 27 | F98: =(D98-D97)/E98 -> 1.0918519 | N98: =D98-D97 -> 29.48 | P98: =D98-D87 -> 1804.27
B99: 43285 | D99: 9644.29 | E99: =DAYS360(B98,B99) -> 16 | F99: =(D99-D98)/E99 -> 1.000625
B100: 43298 | D100: 9661.08 | E100: =DAYS360(B99,B100) -> 13 | F100: =(D100-D99)/E100 -> 1.2915385 | N100: =D100-D99 -> 16.79
B101: 43317 | D101: 9702.4 | E101: =DAYS360(B100,B101) -> 18 | F101: =(D101-D100)/E101 -> 2.2955556 | N101: =D101-D99 -> 58.11 | O101: =N101-N100 -> 41.32 | P101: =D101-D89 -> 1831.29
B102: 43364 | D102: 9762.31 | E102: =DAYS360(B101,B102) -> 46 | F102: =(D102-D101)/E102 -> 1.3023913 | N102: =D102-D101 -> 59.91 | P102: =D102-D90 -> 1812.31
B103: 43401 | D103: 9930.78 | E103: =DAYS360(B102,B103) -> 37 | F103: =(D103-D102)/E103 -> 4.5532432 | N103: =D103-D101 -> 228.38
B104: 43442 | D104: 10300.53 | E104: =DAYS360(B103,B104) -> 40 | F104: =(D104-D103)/E104 -> 9.24375 | G104: =SUM(M11:N11) -> 913 | H104: =(D104-D103)/G104 -> 0.40498357 | N104: =D104-D103 -> 369.75
B105: 43464 | D105: 531.5 | E105: =DAYS360(B104,B105) -> 22 | F105: =(D105-D104+10000)/E105 -> 10.498636 | N105: =D105-D104+10000 -> 230.97 | P105: =D105-D93+10000 -> 1673.87
B106: 43547 | D106: 994.26 | E106: =DAYS360(B105,B106) -> 83 | F106: =(D106-D105)/E106 -> 5.5754217 | N106: =D106-D105 -> 462.76 | P106: =D106-D95+10000 -> 1699.89
B107: 43582 | D107: 1190.87 | E107: =DAYS360(B106,B107) -> 34 | F107: =(D107-D106)/E107 -> 5.7826471 | N107: =D107-D106 -> 196.61 | P107: =D107-D96+10000 -> 1659.97
B108: 43622 | D108: 1333.82 | E108: =DAYS360(B107,B108) -> 39 | F108: =(D108-D107)/E108 -> 3.6653846 | N108: =D108-D107 -> 142.95 | P108: =D108-D98+10000 -> 1705.54
B109: 43670 | D109: 1398.19 | E109: =DAYS360(B108,B109) -> 48 | F109: =(D109-D108)/E109 -> 1.3410417 | N109: =D109-D108 -> 64.37
B110: 43681 | D110: 1419.41 | E110: =DAYS360(B109,B110) -> 10 | F110: =(D110-D109)/E110 -> 2.122 | N110: =D110-D109 -> 21.22 | P110: =D110-D101+10000 -> 1717.01
B111: 43744 | D111: 1581.94 | E111: =DAYS360(B110,B111) -> 62 | F111: =(D111-D110)/E111 -> 2.6214516 | N111: =D111-D110 -> 162.53
B112: 43806 | D112: 2125.79 | E112: =DAYS360(B111,B112) -> 61 | F112: =(D112-D111)/E112 -> 8.9155738 | N112: =D112-D111 -> 543.85 | P112: =D112-D104+10000 -> 1825.26
B113: 43827 | D113: 2323.56 | E113: =DAYS360(B112,B113) -> 21 | F113: =(D113-D112)/E113 -> 9.417619 | N113: =D113-D112 -> 197.77 | P113: =D113-D105 -> 1792.06

Sheet 2018
A1: SÄHKÖNKULUTUSRAPORTTI | D1: 2018
A3: Imatra omakotitalo 4H+K+S | D3: Asuinala | F3: 110 | G3: m2 | H3: Taloussähkö arvio | K3: 11 | L3: kWh/d
D4: Tilavuus | F4: =2.52*F3 -> 277.2 | G4: m3 | H4: Kesäkuukausien keskikulutus (ilman ILP) | K4: =SUM(I9:K9)/92 -> 10.90837 | L4: kWh/d
A6: Jakso | D6: Tammi | E6: Helmi | F6: Maalis | G6: Huhti | H6: Touko | I6: Kesä | J6: Heinä | K6: Elo | L6: Syys | M6: Loka | N6: Marras | O6: Joulu | P6: Yhteensä
D7: 31 | E7: 28 | F7: 31 | G7: 30 | H7: 31 | I7: 30 | J7: 31 | K7: 31 | L7: 30 | M7: 31 | N7: 30 | O7: 31 | P7: =SUM(D7:O7) -> 365
A8: 2018 | B8: Keskilämpötila | C8: oC | D8: -4.4 | E8: -10.1 | F8: -6.3 | G8: 4.1 | H8: 13.7 | I8: 14.9 | J8: 20.3 | K8: 17.7 | L8: 12.1 | M8: 5.6 | N8: 1.8 | O8: -4.4 | P8: =AVERAGE(D8:O8) -> 5.4166667
A9: 2018 | B9: Sähkö yhteensä | C9: kWh | D9: 1293.5 | E9: 1590.2 | F9: 1276.76 | G9: 681.4 | H9: 383.53 | I9: 374.06 | J9: 324 | K9: 305.51 | L9: 387.42 | M9: 676.1 | N9: 782.69 | O9: 1200.74 | P9: =SUM(D9:O9) -> 9275.91
A10: 2018 | B10: Ilmalämpöpumppu, arvio | C10: kWh | D10: =5*31 -> 155 | E10: =5*28 -> 140 | F10: =31*5.5 -> 170.5 | G10: =8.6*30 -> 258 | H10: 80 | I10: 35 | J10: 55 | K10: 10 | L10: 60 | M10: 160 | N10: 240 | O10: =10.5*31 -> 325.5 | P10: =SUM(D10:O10) -> 1689
A11: 2018 | B11: Lämmitystarveluku toteutunut | C11: oCd | D11: 664 | E11: 759 | F11: 723 | G11: 377 | H11: 47 | I11: 32 | J11: 0 | K11: 0 | L11: 111 | M11: 351 | N11: 456 | O11: 663 | P11: =SUM(D11:O11) -> 4183
A12: 2018 | B12: Lämmitystarveluku normivuosi | C12: oCd | D12: 759 | E12: 699 | F12: 621 | G12: 403 | H12: 165 | I12: 22 | J12: 5 | K12: 28 | L12: 184 | M12: 386 | N12: 546 | O12: 692 | P12: 4510
A13: 2018 | B13: Taloussähkö (arvio) | C13: kWh | D13: =$K$3*D7 -> 341 | E13: =$K$3*E7 -> 308 | F13: =$K$3*F7 -> 341 | G13: =$K$3*G7 -> 330 | H13: =$K$3*H7 -> 341 | I13: =$K$3*I7 -> 330 | J13: =$K$3*J7 -> 341 | K13: =$K$3*K7 -> 341 | ... O13: =$K$3*O7 -> 341 | P13: =SUM(D13:O13) -> 4015
A14: 2018 | B14: Lämmityssähkö (arvio) | C14: kWh | D14: =D9-D13 -> 952.5 | E14: =E9-E13 -> 1282.2 | F14: =F9-F13 -> 935.76 | G14: =G9-G13 -> 351.4 | H14: =H9-H13 -> 42.53 | I14: =I10 -> 35 | J14: =J10 -> 55 | K14: =K10 -> 10 | L14: =L9-L13 -> 57.42 | M14: =M9-M13 -> 335.1 | N14: =N9-N13 -> 452.69 | O14: =O9-O13 -> 859.74 | P14: =SUM(D14:O14) -> 5369.34
A15: 2018 | B15: Sääkorjattu lämmityssähkö | C15: kWh | D15: =IF(D14<0,0,((D12/D11))*D14) -> 1088.7764 | E15: =IF(E14<0,0,((E12/E11))*E14) -> 1180.8403 | F15: =IF(F14<0,0,((F12/F11))*F14) -> 803.74407 | G15: =IF(G14<0,0,((G12/G11))*G14) -> 375.63448 | H15: =IF(H14<0,0,((H12/H11))*H14) -> 149.30745 | I15: =I14 -> 35 | J15: =J14 -> 55 | K15: =K14 -> 10 | L15: =IF(L14<0,0,((L12/L11))*L14) -> 95.182703 | M15: =IF(M14<0,0,((M12/M11))*M14) -> 368.51453 | N15: =IF(N14<0,0,((N12/N11))*N14) -> 542.03671 | O15: =IF(O14<0,0,((O12/O11))*O14) -> 897.34552 | P15: =SUM(D15:O15) -> 5601.3821
A18: Kulutus päivässä | C18: kWh/d | D18: =D9/D7 -> 41.725806 | E18: =E9/E7 -> 56.792857 | F18: =F9/F7 -> 41.185806 | G18: =G9/G7 -> 22.713333 | H18: =H9/H7 -> 12.371935 | I18: =I9/I7 -> 12.468667 | J18: =J9/J7 -> 10.451613 | K18: =K9/K7 -> 9.8551613 | ... O18: =O9/O7 -> 38.733548 | P18: =#REF!/365 -> #REF!
B19: Kumulatiivinen kulutus | C19: kWh | D19: =SUM(D9) -> 1293.5 | E19: =SUM($D$9:E9) -> 2883.7 | F19: =SUM($D$9:F9) -> 4160.46 | G19: =SUM($D$9:G9) -> 4841.86 | H19: =SUM($D$9:H9) -> 5225.39 | I19: =SUM($D$9:I9) -> 5599.45 | J19: =SUM($D$9:J9) -> 5923.45 | K19: =SUM($D$9:K9) -> 6228.96 | L19: =SUM($D$9:L9) -> 6616.38 | ... O19: =SUM($D$9:O9) -> 9275.91
B20: Kumulatiivinen kulutus ILP | C20: kWh | D20: =SUM(D10) -> 155 | E20: =SUM($D$10:E10) -> 295 | F20: =SUM($D$10:F10) -> 465.5 | G20: =SUM($D$10:G10) -> 723.5 | H20: =SUM($D$10:H10) -> 803.5 | I20: =SUM($D$10:I10) -> 838.5 | J20: =SUM($D$10:J10) -> 893.5 | K20: =SUM($D$10:K10) -> 903.5 | L20: =SUM($D$10:L10) -> 963.5 | ... O20: =SUM($D$10:O10) -> 1689
B21: Kumulatiivinen kulutus lämmitys | C21: kWh | D21: =SUM(D14) -> 952.5 | E21: =SUM($D$14:E14) -> 2234.7 | F21: =SUM($D$14:F14) -> 3170.46 | G21: =SUM($D$14:G14) -> 3521.86 | H21: =SUM($D$14:H14) -> 3564.39 | I21: =SUM($D$14:I14) -> 3599.39 | J21: =SUM($D$14:J14) -> 3654.39 | K21: =SUM($D$14:K14) -> 3664.39 | L21: =SUM($D$14:L14) -> 3721.81 | ... O21: =SUM($D$14:O14) -> 5369.34
A23: Lämmitys
B24: Lämmityksen osuus kulutuksesta | D24: =D14/D9 -> 0.73637418 | E24: =E14/E9 -> 0.80631367 | F24: =F14/F9 -> 0.7329177 | G24: =G14/G9 -> 0.51570296 | H24: =H14/H9 -> 0.11089093 | I24: =I14/I9 -> 0.093567877 | J24: =J14/J9 -> 0.16975309 | K24: =K14/K9 -> 0.032732153 | ... P24: =P14/P9 -> 0.57884779
B25: Sähkönkulutus lämmitykseen | C25: kWh/oCd | D25: =D14/D11 -> 1.434488 | E25: =E14/E11 -> 1.6893281 | F25: =F14/F11 -> 1.2942739 | G25: =G14/G11 -> 0.93209549 | H25: =H14/H11 -> 0.90489362 | I25: =I14/I11 -> 1.09375 | J25: =J14/J11 -> #DIV/0! | K25: =K14/K11 -> #DIV/0! | ... P25: =P14/P11 -> 1.2836098
B26: Sähkönkulutus lämmitykseen | C26: kWh/d | D26: =D14/D7 -> 30.725806 | E26: =E14/E7 -> 45.792857 | F26: =F14/F7 -> 30.185806 | G26: =G14/G7 -> 11.713333 | H26: =H14/H7 -> 1.3719355 | I26: =I14/I7 -> 1.1666667 | J26: =J14/J7 -> 1.7741935 | K26: =K14/K7 -> 0.32258065 | ... P26: =P14/P7 -> 14.710521
B27: Norm sähkö lämmitykseen | C27: kWh/d | D27: =D15/D7 -> 35.121818 | E27: =E15/E7 -> 42.172868 | F27: =F15/F7 -> 25.927228 | G27: =G15/G7 -> 12.521149 | H27: =H15/H7 -> 4.8163693 | I27: =I15/I7 -> 1.1666667 | J27: =J15/J7 -> 1.7741935 | K27: =K15/K7 -> 0.32258065 | ... P27: =P15/P7 -> 15.346252
B28: Ominaislämmönkulutus | C28: kWh/m3 | D28: =D14/$F$4 -> 3.4361472 | E28: =E14/$F$4 -> 4.6255411 | F28: =F14/$F$4 -> 3.3757576 | G28: =G14/$F$4 -> 1.2676768 | H28: =H14/$F$4 -> 0.15342713 | I28: =I14/$F$4 -> 0.12626263 | J28: =J14/$F$4 -> 0.1984127 | K28: =K14/$F$4 -> 0.036075036 | ... P28: =P14/$F$4 -> 19.369913
B29: Ominaislämmönkulutus | C29: kWh/m2 | D29: =D14/$F$3 -> 8.6590909 | E29: =E14/$F$3 -> 11.656364 | F29: =F14/$F$3 -> 8.5069091 | G29: =G14/$F$3 -> 3.1945455 | H29: =H14/$F$3 -> 0.38663636 | I29: =I14/$F$3 -> 0.31818182 | J29: =J14/$F$3 -> 0.5 | K29: =K14/$F$3 -> 0.090909091 | ... P29: =P14/$F$3 -> 48.812182
B30: Norm lämmönkulutus | C30: kWh/m3 | D30: =D15/$F$4 -> 3.9277646 | E30: =E15/$F$4 -> 4.2598857 | F30: =F15/$F$4 -> 2.8995096 | G30: =G15/$F$4 -> 1.3551028 | H30: =H15/$F$4 -> 0.53862715 | I30: =I15/$F$4 -> 0.12626263 | J30: =J15/$F$4 -> 0.1984127 | K30: =K15/$F$4 -> 0.036075036 | ... P30: =P15/$F$4 -> 20.207006
B31: Norm lämmönkulutus | C31: kWh/m2 | D31: =D15/$F$3 -> 9.8979669 | E31: =E15/$F$3 -> 10.734912 | F31: =F15/$F$3 -> 7.3067642 | G31: =G15/$F$3 -> 3.4148589 | H31: =H15/$F$3 -> 1.3573404 | I31: =I15/$F$3 -> 0.31818182 | J31: =J15/$F$3 -> 0.5 | K31: =K15/$F$3 -> 0.090909091 | ... P31: =P15/$F$3 -> 50.921656
B32: Ominaislämmönkulutus | C32: Wh/m3/oCd | D32: =1000*D28/D11 -> 5.1749205 | E32: =1000*E28/E11 -> 6.0942571 | F32: =1000*F28/F11 -> 4.6690976 | G32: =1000*G28/G11 -> 3.3625378 | H32: =1000*H28/H11 -> 3.264407 | I32: =1000*I28/I11 -> 3.9457071 | J32: =1000*J28/J11 -> #DIV/0! | K32: =1000*K28/K11 -> #DIV/0! | ... P32: =1000*P28/P11 -> 4.6306272
A34: Vuosikulutusarvio
B36: Lämmityssähkö ILPillä | D36: =4400*1.3 -> 5720 | E36: kWh | F36: =D36/$D$38 -> 0.58757062 | G36: Arvio lämmityssähkö ilman ILP | K36: ='2007'!D34 -> 8566 | L36: kWh | M36: Vuosikulutusarvio ilma ILP
B37: Taloussähkö | D37: =K3*365 -> 4015 | E37: kWh | F37: =D37/$D$38 -> 0.41242938 | G37: Arvio ILPin säästämästä sähköstä | K37: =K36-D36 -> 2846 | L37: kWh | N37: ='2007'!I36 -> 14540 | O37: kWh
B38: Yhteensä | D38: =SUM(D36:D37) -> 9735 | E38: kWh | G38: Säästöarvio lämmityssähkönkulutuksesta | K38: =K37/K36 -> 0.33224375
G39: Säästöarvio kokonaissähkönkulutuksesta | K39: =K37/(SUM(D37)+K36) -> 0.22621413
A49: ILP | D49: lukema | E49: päivät | F49: kulutus | G49: astepäivät
B50: 41633 | D50: 495.16
B51: 41645 | D51: 584.7 | E51: =DAYS360(B50,B51) -> 11 | F51: =(D51-D50)/E51 -> 8.14 | G51: 195 | H51: =(D51-D50)/G51 -> 0.45917949
B52: 41692 | D52: 1079.44 | E52: =DAYS360(B51,B52) -> 46 | F52: =(D52-D51)/E52 -> 10.755217 | G52: 1116 | H52: =(D52-D51)/G52 -> 0.44331541
B53: 41720 | D53: 1376.73 | E53: =DAYS360(B52,B53) -> 30 | F53: =(D53-D52)/E53 -> 9.9096667 | G53: 459 | H53: =(D53-D52)/G53 -> 0.64769063
B54: 41734 | D54: 1545.36 | E54: =DAYS360(B53,B54) -> 13 | F54: =(D54-D53)/E54 -> 12.971538 | G54: 173 | H54: =(D54-D53)/G54 -> 0.97473988 | N54: jäähdytys
B55: 41791 | D55: 2153 | E55: =DAYS360(B54,B55) -> 56 | F55: =(D55-D54)/E55 -> 10.850714 | G55: 537 | H55: =(D55-D54)/G55 -> 1.1315456 | L55: 41851 | N55: 2274.96 | O55: =N55-D57 -> 13.27
B56: 41814 | D56: 2233.47 | E56: =DAYS360(B55,B56) -> 23 | F56: =(D56-D55)/E56 -> 3.4986957 | G56: 78.2 | H56: =(D56-D55)/G56 -> 1.0290281
B57: 41825 | D57: 2261.69 | E57: =DAYS360(B56,B57) -> 11 | F57: =(D57-D56)/E57 -> 2.5654545
B58: 41852 | D58: 2274.96 | E58: =DAYS360(B57,B58) -> 26 | F58: =(D58-D57)/E58 -> 0.51038462
B59: 41882 | D59: 2314.32 | E59: =DAYS360(B58,B59) -> 30 | F59: =(D59-D58)/E59 -> 1.312 | G59: 13 | I59: =D59-D58 -> 39.36
B60: 41889 | D60: 2330.23 | E60: =DAYS360(B59,B60) -> 7 | F60: =(D60-D59)/E60 -> 2.2728571 | G60: =3.8*7 -> 26.6 | H60: =(D60-D59)/G60 -> 0.5981203
B61: 41929 | D61: 2507 | E61: =DAYS360(B60,B61) -> 40 | F61: =(D61-D60)/E61 -> 4.41925 | G61: =7*40 -> 280 | H61: =(D61-D60)/G61 -> 0.63132143
B62: 41951 | D62: 2695.68 | E62: =DAYS360(B61,B62) -> 21 | F62: =(D62-D61)/E62 -> 8.9847619 | G62: =21*12.5 -> 262.5 | H62: =(D62-D61)/G62 -> 0.71878095
B63: 42035 | D63: 3422.93 | E63: =DAYS360(B62,B63) -> 83 | F63: =(D63-D62)/E63 -> 8.7620482 | G63: 1643 | H63: =(D63-D62)/G63 -> 0.44263542 | L63: =D63-D50 -> 2927.77 | N63: =B63-B50 -> 402 | P63: =L63/N63*365 -> 2658.2986
B64: 42099 | D64: 3996.35 | E64: =DAYS360(B63,B64) -> 65 | F64: =(D64-D63)/E64 -> 8.8218462 | G64: =524+505+80 -> 1109 | H64: =(D64-D63)/G64 -> 0.51706041 | L64: =D64-D63 -> 573.42
B65: 42127 | D65: 4186.01 | E65: =DAYS360(B64,B65) -> 28 | F65: =(D65-D64)/E65 -> 6.7735714 | G65: 372 | H65: =(D65-D64)/G65 -> 0.50983871 | L65: =D65-D64 -> 189.66
B66: 42148 | D66: 4288.13 | E66: =DAYS360(B65,B66) -> 21 | F66: =(D66-D65)/E66 -> 4.8628571 | G66: 125 | H66: =(D66-D65)/G66 -> 0.81696 | L66: =D66-D65 -> 102.12
B67: 42180 | D67: 4366.53 | E67: =DAYS360(B66,B67) -> 31 | F67: =(D67-D66)/E67 -> 2.5290323 | G67: 8 | H67: =(D67-D66)/G67 -> 9.8 | L67: =D67-D66 -> 78.4
B68: 42233 | D68: 4444.18 | E68: =DAYS360(B67,B68) -> 52 | F68: =(D68-D67)/E68 -> 1.4932692 | G68: 5 | H68: =(D68-D67)/G68 -> 15.53
B69: 42295 | D69: 4652.76 | E69: =DAYS360(B68,B69) -> 61 | F69: =(D69-D68)/E69 -> 3.4193443 | G69: =70+18*(17-4) -> 304 | H69: =(D69-D68)/G69 -> 0.68611842 | L69: =D69-D61 -> 2145.76
B70: 42346 | D70: 5072.02 | E70: =DAYS360(B69,B70) -> 50 | F70: =(D70-D69)/E70 -> 8.3852 | G70: =13.5*50 -> 675 | H70: =(D70-D69)/G70 -> 0.62112593
B71: 42361 | D71: 5193.02 | E71: =DAYS360(B70,B71) -> 15 | F71: =(D71-D70)/E71 -> 8.0666667 | G71: =14*15 -> 210 | H71: =(D71-D70)/G71 -> 0.57619048
B72: 42442 | D72: 5511 | E72: =DAYS360(B71,B72) -> 80 | F72: =(D72-D71)/E72 -> 3.97475 | G72: =552+969 -> 1521 | H72: =(D72-D71)/G72 -> 0.20905983
B73: 42489 | D73: 5826.24 | E73: =DAYS360(B72,B73) -> 46 | F73: =(D73-D72)/E73 -> 6.8530435 | G73: =561+376 -> 937 | H73: =(D73-D72)/G73 -> 0.33643543
B74: 42519 | D74: 5907.41 | E74: =DAYS360(B73,B74) -> 30 | F74: =(D74-D73)/E74 -> 2.7056667 | G74: 23 | H74: =(D74-D73)/G74 -> 3.5291304
B75: 42552 | D75: 5970.92 | E75: =DAYS360(B74,B75) -> 32 | F75: =(D75-D74)/E75 -> 1.9846875 | G75: 37 | H75: =(D75-D74)/G75 -> 1.7164865
B76: 42579 | D76: 6019 | E76: =DAYS360(B75,B76) -> 27 | F76: =(D76-D75)/E76 -> 1.7807407 | G76: 0 | H76: =(D76-D75)/G76 -> #DIV/0!
B77: 42594 | D77: 6034.41 | E77: =DAYS360(B76,B77) -> 14 | F77: =(D77-D76)/E77 -> 1.1007143
B78: 42617 | D78: 6072.33 | E78: =DAYS360(B77,B78) -> 22 | F78: =(D78-D77)/E78 -> 1.7236364 | L78: =D78-D76 -> 53.33 | M78: =L78/SUM(E77:E78)*31 -> 45.923056
B79: 42665 | D79: 6276.93 | E79: =DAYS360(B78,B79) -> 48 | F79: =(D79-D78)/E79 -> 4.2625 | G79: =125+234 -> 359 | H79: =(D79-D78)/G79 -> 0.56991643
B80: 42735 | D80: 6822.39 | E80: =DAYS360(B79,B80) -> 69 | F80: =(D80-D79)/E80 -> 7.9052174 | G80: 1172 | H80: =(D80-D79)/G80 -> 0.46540956
B81: 42749 | D81: 6850.12 | E81: =DAYS360(B80,B81) -> 14 | F81: =(D81-D80)/E81 -> 1.9807143 | G81: 363 | H81: =(D81-D80)/G81 -> 0.076391185
B82: 42764 | D82: 6936.34 | E82: =DAYS360(B81,B82) -> 15 | F82: =(D82-D81)/E82 -> 5.748 | G82: 310 | H82: =(D82-D81)/G82 -> 0.27812903
B83: 42792 | D83: 7116.25 | E83: =DAYS360(B82,B83) -> 27 | F83: =(D83-D82)/E83 -> 6.6633333 | G83: 600 | H83: =(D83-D82)/G83 -> 0.29985
B84: 42841 | D84: 7549.7 | E84: =DAYS360(B83,B84) -> 50 | F84: =(D84-D83)/E84 -> 8.669 | G84: 840 | H84: =(D84-D83)/G84 -> 0.5160119
B85: 42862 | D85: 7682.85 | E85: =DAYS360(B84,B85) -> 21 | F85: =(D85-D84)/E85 -> 6.3404762 | G85: 230 | H85: =(D85-D84)/G85 -> 0.57891304
B86: 42897 | D86: 7810.93 | E86: =DAYS360(B85,B86) -> 34 | F86: =(D86-D85)/E86 -> 3.7670588
B87: 42908 | D87: 7824.01 | E87: =DAYS360(B86,B87) -> 11 | F87: =(D87-D86)/E87 -> 1.1890909
B88: 42917 | D88: 7835.31 | E88: =DAYS360(B87,B88) -> 9 | F88: =(D88-D87)/E88 -> 1.2555556 | J88: =D88-D75 -> 1864.39
B89: 42952 | D89: 7871.11 | E89: =DAYS360(B88,B89) -> 34 | F89: =(D89-D88)/E89 -> 1.0529412 | J89: =D89-D88 -> 35.8
B90: 42993 | D90: 7950 | E90: =DAYS360(B89,B90) -> 40 | F90: =(D90-D89)/E90 -> 1.97225
B91: 43015 | D91: 8045.28 | E91: =DAYS360(B90,B91) -> 22 | F91: =(D91-D90)/E91 -> 4.3309091 | G91: 160 | H91: =(D91-D90)/G91 -> 0.5955
B92: 43043 | D92: 8297.17 | E92: =DAYS360(B91,B92) -> 27 | F92: =(D92-D91)/E92 -> 9.3292593 | G92: 396 | H92: =(D92-D91)/G92 -> 0.63608586 | K92: =D92-D91 -> 251.89
B93: 43100 | D93: 8857.63 | E93: =DAYS360(B92,B93) -> 57 | F93: =(D93-D92)/E93 -> 9.8326316 | G93: 1050 | H93: =(D93-D92)/G93 -> 0.53377143 | K93: =D93-D92 -> 560.46 | N93: =D93-D80 -> 2035.24
B94: 43155 | D94: 9122.02 | E94: =DAYS360(B93,B94) -> 54 | F94: =(D94-D93)/E94 -> 4.8961111 | G94: 1320 | H94: =(D94-D93)/G94 -> 0.20029545 | N94: =D94-D93 -> 264.39
B95: 43184 | D95: 9294.37 | E95: =DAYS360(B94,B95) -> 31 | F95: =(D95-D94)/E95 -> 5.5596774 | G95: 723 | H95: =(D95-D94)/G95 -> 0.23838174 | N95: =D95-D94 -> 172.35 | P95: =D94-D83 -> 2005.77
B96: 43217 | D96: 9530.9 | E96: =DAYS360(B95,B96) -> 32 | F96: =(D96-D95)/E96 -> 7.3915625 | N96: =D96-D95 -> 236.53
B97: 43241 | D97: 9598.8 | E97: =DAYS360(B96,B97) -> 24 | F97: =(D97-D96)/E97 -> 2.8291667 | N97: =D97-D96 -> 67.9
B98: 43269 | D98: 9628.28 | E98: =DAYS360(B97,B98) -> 27 | F98: =(D98-D97)/E98 -> 1.0918519 | N98: =D98-D97 -> 29.48 | P98: =D98-D87 -> 1804.27
B99: 43285 | D99: 9644.29 | E99: =DAYS360(B98,B99) -> 16 | F99: =(D99-D98)/E99 -> 1.000625
B100: 43298 | D100: 9661.08 | E100: =DAYS360(B99,B100) -> 13 | F100: =(D100-D99)/E100 -> 1.2915385 | N100: =D100-D99 -> 16.79
B101: 43317 | D101: 9702.4 | E101: =DAYS360(B100,B101) -> 18 | F101: =(D101-D100)/E101 -> 2.2955556 | N101: =D101-D99 -> 58.11 | O101: =N101-N100 -> 41.32 | P101: =D101-D89 -> 1831.29
B102: 43364 | D102: 9762.31 | E102: =DAYS360(B101,B102) -> 46 | F102: =(D102-D101)/E102 -> 1.3023913 | N102: =D102-D101 -> 59.91 | P102: =D102-D90 -> 1812.31
B103: 43401 | D103: 9930.78 | E103: =DAYS360(B102,B103) -> 37 | F103: =(D103-D102)/E103 -> 4.5532432 | N103: =D103-D101 -> 228.38
B104: 43442 | D104: 10300.53 | E104: =DAYS360(B103,B104) -> 40 | F104: =(D104-D103)/E104 -> 9.24375 | G104: =SUM(M11:N11) -> 807 | H104: =(D104-D103)/G104 -> 0.45817844 | N104: =D104-D103 -> 369.75
B105: 43464 | D105: 10531.5 | E105: =DAYS360(B104,B105) -> 22 | F105: =(D105-D104)/E105 -> 10.498636 | N105: =D105-D104 -> 230.97 | P105: =D105-D93 -> 1673.87

Sheet 2017
A1: SÄHKÖNKULUTUSRAPORTTI | D1: 2017
A3: Imatra omakotitalo 4H+K+S | D3: Asuinala | F3: 110 | G3: m2 | H3: Taloussähkö arvio | K3: 12 | L3: kWh/d
D4: Tilavuus | F4: =2.52*F3 -> 277.2 | G4: m3 | H4: Kesäkuukausien keskikulutus (ilman ILP) | K4: =SUM(I9:K9)/92 -> 11.878587 | L4: kWh/d
A6: Jakso | D6: Tammi | E6: Helmi | F6: Maalis | G6: Huhti | H6: Touko | I6: Kesä | J6: Heinä | K6: Elo | L6: Syys | M6: Loka | N6: Marras | O6: Joulu | P6: Yhteensä
D7: 31 | E7: 28 | F7: 31 | G7: 30 | H7: 31 | I7: 30 | J7: 31 | K7: 31 | L7: 30 | M7: 31 | N7: 30 | O7: 31 | P7: =SUM(D7:O7) -> 365
A8: 2017 | B8: Keskilämpötila | C8: oC | D8: -4.7 | E8: -5.5 | F8: -0.4 | G8: 1.1 | H8: 8.3 | I8: 12.6 | J8: 15.5 | K8: 15.3 | L8: 10.3 | M8: 4.2 | N8: 0.7 | O8: -0.8 | P8: =AVERAGE(D8:O8) -> 4.7166667
A9: 2017 | B9: Sähkö yhteensä | C9: kWh | D9: 1416.83 | E9: 1261.68 | F9: 913.28 | G9: 810.4 | H9: 529.81 | I9: 409.94 | J9: 352.97 | K9: 329.92 | L9: 502.25 | M9: 763.79 | N9: 834.78 | O9: 1077.83 | P9: =SUM(D9:O9) -> 9203.48
A10: 2017 | B10: Ilmalämpöpumppu, arvio | C10: kWh | D10: 114 | E10: 180 | F10: =0.55*F11 -> 296.45 | G10: =0.55*G11 -> 262.9 | H10: =0.45*H11 -> 105.75 | I10: 50 | J10: 35.8 | K10: 49 | L10: =0.6*L11 -> 108 | M10: 252 | N10: =0.6*N11 -> 293.4 | O10: 288 | P10: =SUM(D10:O10) -> 2035.3
A11: 2017 | B11: Lämmitystarveluku toteutunut | C11: oCd | D11: 673 | E11: 630 | F11: 539 | G11: 478 | H11: 235 | I11: 44 | J11: 7 | K11: 20 | L11: 180 | M11: 396 | N11: 489 | O11: 551 | P11: =SUM(D11:O11) -> 4242
A12: 2017 | B12: Lämmitystarveluku normivuosi | C12: oCd | D12: 759 | E12: 699 | F12: 621 | G12: 403 | H12: 165 | I12: 22 | J12: 5 | K12: 28 | L12: 184 | M12: 386 | N12: 546 | O12: 692 | P12: 4510
A13: 2017 | B13: Taloussähkö (arvio) | C13: kWh | D13: =$K$3*D7 -> 372 | E13: =$K$3*E7 -> 336 | F13: =$K$3*F7 -> 372 | G13: =$K$3*G7 -> 360 | H13: =$K$3*H7 -> 372 | I13: =$K$3*I7 -> 360 | J13: =$K$3*J7 -> 372 | K13: =$K$3*K7 -> 372 | ... O13: =$K$3*O7 -> 372 | P13: =SUM(D13:O13) -> 4380
A14: 2017 | B14: Lämmityssähkö (arvio) | C14: kWh | D14: =D9-D13 -> 1044.83 | E14: =E9-E13 -> 925.68 | F14: =F9-F13 -> 541.28 | G14: =G9-G13 -> 450.4 | H14: =H10 -> 105.75 | I14: =I10 -> 50 | J14: =J10 -> 35.8 | K14: =K10 -> 49 | L14: =L9-L13 -> 142.25 | M14: =M9-M13 -> 391.79 | N14: =N9-N13 -> 474.78 | O14: =O9-O13 -> 705.83 | P14: =SUM(D14:O14) -> 4917.39
A15: 2017 | B15: Sääkorjattu lämmityssähkö | C15: kWh | D15: =IF(D14<0,0,((D12/D11))*D14) -> 1178.3447 | E15: =IF(E14<0,0,((E12/E11))*E14) -> 1027.064 | F15: =IF(F14<0,0,((F12/F11))*F14) -> 623.62686 | G15: =IF(G14<0,0,((G12/G11))*G14) -> 379.73054 | H15: =IF(H14<0,0,((H12/H11))*H14) -> 74.25 | I15: =I14 -> 50 | J15: =J14 -> 35.8 | K15: =K14 -> 49 | L15: =IF(L14<0,0,((L12/L11))*L14) -> 145.41111 | M15: =IF(M14<0,0,((M12/M11))*M14) -> 381.89631 | N15: =IF(N14<0,0,((N12/N11))*N14) -> 530.12245 | O15: =IF(O14<0,0,((O12/O11))*O14) -> 886.45074 | P15: =SUM(D15:O15) -> 5361.6967 | R15: =P14-P10 -> 2882.09
A18: Kulutus päivässä | C18: kWh/d | D18: =D9/D7 -> 45.704194 | E18: =E9/E7 -> 45.06 | F18: =F9/F7 -> 29.460645 | G18: =G9/G7 -> 27.013333 | H18: =H9/H7 -> 17.090645 | I18: =I9/I7 -> 13.664667 | J18: =J9/J7 -> 11.386129 | K18: =K9/K7 -> 10.642581 | ... O18: =O9/O7 -> 34.76871 | P18: =#REF!/365 -> #REF!
B19: Kumulatiivinen kulutus | C19: kWh | D19: =SUM(D9) -> 1416.83 | E19: =SUM($D$9:E9) -> 2678.51 | F19: =SUM($D$9:F9) -> 3591.79 | G19: =SUM($D$9:G9) -> 4402.19 | H19: =SUM($D$9:H9) -> 4932 | I19: =SUM($D$9:I9) -> 5341.94 | J19: =SUM($D$9:J9) -> 5694.91 | K19: =SUM($D$9:K9) -> 6024.83 | L19: =SUM($D$9:L9) -> 6527.08 | ... O19: =SUM($D$9:O9) -> 9203.48
B20: Kumulatiivinen kulutus ILP | C20: kWh | D20: =SUM(D10) -> 114 | E20: =SUM($D$10:E10) -> 294 | F20: =SUM($D$10:F10) -> 590.45 | G20: =SUM($D$10:G10) -> 853.35 | H20: =SUM($D$10:H10) -> 959.1 | I20: =SUM($D$10:I10) -> 1009.1 | J20: =SUM($D$10:J10) -> 1044.9 | K20: =SUM($D$10:K10) -> 1093.9 | L20: =SUM($D$10:L10) -> 1201.9 | ... O20: =SUM($D$10:O10) -> 2035.3
B21: Kumulatiivinen kulutus lämmitys | C21: kWh | D21: =SUM(D14) -> 1044.83 | E21: =SUM($D$14:E14) -> 1970.51 | F21: =SUM($D$14:F14) -> 2511.79 | G21: =SUM($D$14:G14) -> 2962.19 | H21: =SUM($D$14:H14) -> 3067.94 | I21: =SUM($D$14:I14) -> 3117.94 | J21: =SUM($D$14:J14) -> 3153.74 | K21: =SUM($D$14:K14) -> 3202.74 | L21: =SUM($D$14:L14) -> 3344.99 | ... O21: =SUM($D$14:O14) -> 4917.39
A23: Lämmitys
B24: Lämmityksen osuus kulutuksesta | D24: =D14/D9 -> 0.73744204 | E24: =E14/E9 -> 0.73368842 | F24: =F14/F9 -> 0.59267694 | G24: =G14/G9 -> 0.55577493 | H24: =H14/H9 -> 0.19959986 | I24: =I14/I9 -> 0.12196907 | J24: =J14/J9 -> 0.10142505 | K24: =K14/K9 -> 0.14852085 | ... P24: =P14/P9 -> 0.53429681
B25: Sähkönkulutus lämmitykseen | C25: kWh/oCd | D25: =D14/D11 -> 1.5524963 | E25: =E14/E11 -> 1.4693333 | F25: =F14/F11 -> 1.0042301 | G25: =G14/G11 -> 0.94225941 | H25: =H14/H11 -> 0.45 | I25: =I14/I11 -> 1.1363636 | J25: =J14/J11 -> 5.1142857 | K25: =K14/K11 -> 2.45 | ... P25: =P14/P11 -> 1.159215
B26: Sähkönkulutus lämmitykseen | C26: kWh/d | D26: =D14/D7 -> 33.704194 | E26: =E14/E7 -> 33.06 | F26: =F14/F7 -> 17.460645 | G26: =G14/G7 -> 15.013333 | H26: =H14/H7 -> 3.4112903 | I26: =I14/I7 -> 1.6666667 | J26: =J14/J7 -> 1.1548387 | K26: =K14/K7 -> 1.5806452 | ... P26: =P14/P7 -> 13.472301
B27: Norm sähkö lämmitykseen | C27: kWh/d | D27: =D15/D7 -> 38.011119 | E27: =E15/E7 -> 36.680857 | F27: =F15/F7 -> 20.116996 | G27: =G15/G7 -> 12.657685 | H27: =H15/H7 -> 2.3951613 | I27: =I15/I7 -> 1.6666667 | J27: =J15/J7 -> 1.1548387 | K27: =K15/K7 -> 1.5806452 | ... P27: =P15/P7 -> 14.68958
B28: Ominaislämmönkulutus | C28: kWh/m3 | D28: =D14/$F$4 -> 3.769228 | E28: =E14/$F$4 -> 3.3393939 | F28: =F14/$F$4 -> 1.9526696 | G28: =G14/$F$4 -> 1.6248196 | H28: =H14/$F$4 -> 0.38149351 | I28: =I14/$F$4 -> 0.18037518 | J28: =J14/$F$4 -> 0.12914863 | K28: =K14/$F$4 -> 0.17676768 | ... P28: =P14/$F$4 -> 17.739502
B29: Ominaislämmönkulutus | C29: kWh/m2 | D29: =D14/$F$3 -> 9.4984545 | E29: =E14/$F$3 -> 8.4152727 | F29: =F14/$F$3 -> 4.9207273 | G29: =G14/$F$3 -> 4.0945455 | H29: =H14/$F$3 -> 0.96136364 | I29: =I14/$F$3 -> 0.45454545 | J29: =J14/$F$3 -> 0.32545455 | K29: =K14/$F$3 -> 0.44545455 | ... P29: =P14/$F$3 -> 44.703545
B30: Norm lämmönkulutus | C30: kWh/m3 | D30: =D15/$F$4 -> 4.2508827 | E30: =E15/$F$4 -> 3.7051371 | F30: =F15/$F$4 -> 2.2497362 | G30: =G15/$F$4 -> 1.3698793 | H30: =H15/$F$4 -> 0.26785714 | I30: =I15/$F$4 -> 0.18037518 | J30: =J15/$F$4 -> 0.12914863 | K30: =K15/$F$4 -> 0.17676768 | ... P30: =P15/$F$4 -> 19.34234
B31: Norm lämmönkulutus | C31: kWh/m2 | D31: =D15/$F$3 -> 10.712224 | E31: =E15/$F$3 -> 9.3369455 | F31: =F15/$F$3 -> 5.6693351 | G31: =G15/$F$3 -> 3.4520959 | H31: =H15/$F$3 -> 0.675 | I31: =I15/$F$3 -> 0.45454545 | J31: =J15/$F$3 -> 0.32545455 | K31: =K15/$F$3 -> 0.44545455 | ... P31: =P15/$F$3 -> 48.742697
B32: Ominaislämmönkulutus | C32: Wh/m3/oCd | D32: =1000*D28/D11 -> 5.6006359 | E32: =1000*E28/E11 -> 5.3006253 | F32: =1000*F28/F11 -> 3.6227635 | G32: =1000*G28/G11 -> 3.3992042 | H32: =1000*H28/H11 -> 1.6233766 | I32: =1000*I28/I11 -> 4.0994359 | J32: =1000*J28/J11 -> 18.449804 | K32: =1000*K28/K11 -> 8.8383838 | ... P32: =1000*P28/P11 -> 4.1818723
A34: Vuosikulutusarvio
B36: Lämmityssähkö ILPillä | D36: =4400*1.3 -> 5720 | E36: kWh | F36: =D36/$D$38 -> 0.56633663 | G36: Arvio lämmityssähkö ilman ILP | K36: ='2007'!D34 -> 8566 | L36: kWh | M36: Vuosikulutusarvio ilma ILP
B37: Taloussähkö | D37: =K3*365 -> 4380 | E37: kWh | F37: =D37/$D$38 -> 0.43366337 | G37: Arvio ILPin säästämästä sähköstä | K37: =K36-D36 -> 2846 | L37: kWh | N37: ='2007'!I36 -> 14540 | O37: kWh
B38: Yhteensä | D38: =SUM(D36:D37) -> 10100 | E38: kWh | G38: Säästöarvio lämmityssähkönkulutuksesta | K38: =K37/K36 -> 0.33224375
G39: Säästöarvio kokonaissähkönkulutuksesta | K39: =K37/(SUM(D37)+K36) -> 0.21983624
A49: ILP | D49: lukema | E49: päivät | F49: kulutus | G49: astepäivät
B50: 41633 | D50: 495.16
B51: 41645 | D51: 584.7 | E51: =DAYS360(B50,B51) -> 11 | F51: =(D51-D50)/E51 -> 8.14 | G51: 195 | H51: =(D51-D50)/G51 -> 0.45917949
B52: 41692 | D52: 1079.44 | E52: =DAYS360(B51,B52) -> 46 | F52: =(D52-D51)/E52 -> 10.755217 | G52: 1116 | H52: =(D52-D51)/G52 -> 0.44331541
B53: 41720 | D53: 1376.73 | E53: =DAYS360(B52,B53) -> 30 | F53: =(D53-D52)/E53 -> 9.9096667 | G53: 459 | H53: =(D53-D52)/G53 -> 0.64769063
B54: 41734 | D54: 1545.36 | E54: =DAYS360(B53,B54) -> 13 | F54: =(D54-D53)/E54 -> 12.971538 | G54: 173 | H54: =(D54-D53)/G54 -> 0.97473988 | N54: jäähdytys
B55: 41791 | D55: 2153 | E55: =DAYS360(B54,B55) -> 56 | F55: =(D55-D54)/E55 -> 10.850714 | G55: 537 | H55: =(D55-D54)/G55 -> 1.1315456 | L55: 41851 | N55: 2274.96 | O55: =N55-D57 -> 13.27
B56: 41814 | D56: 2233.47 | E56: =DAYS360(B55,B56) -> 23 | F56: =(D56-D55)/E56 -> 3.4986957 | G56: 78.2 | H56: =(D56-D55)/G56 -> 1.0290281
B57: 41825 | D57: 2261.69 | E57: =DAYS360(B56,B57) -> 11 | F57: =(D57-D56)/E57 -> 2.5654545
B58: 41852 | D58: 2274.96 | E58: =DAYS360(B57,B58) -> 26 | F58: =(D58-D57)/E58 -> 0.51038462
B59: 41882 | D59: 2314.32 | E59: =DAYS360(B58,B59) -> 30 | F59: =(D59-D58)/E59 -> 1.312 | G59: 13 | I59: =D59-D58 -> 39.36
B60: 41889 | D60: 2330.23 | E60: =DAYS360(B59,B60) -> 7 | F60: =(D60-D59)/E60 -> 2.2728571 | G60: =3.8*7 -> 26.6 | H60: =(D60-D59)/G60 -> 0.5981203
B61: 41929 | D61: 2507 | E61: =DAYS360(B60,B61) -> 40 | F61: =(D61-D60)/E61 -> 4.41925 | G61: =7*40 -> 280 | H61: =(D61-D60)/G61 -> 0.63132143
B62: 41951 | D62: 2695.68 | E62: =DAYS360(B61,B62) -> 21 | F62: =(D62-D61)/E62 -> 8.9847619 | G62: =21*12.5 -> 262.5 | H62: =(D62-D61)/G62 -> 0.71878095
B63: 42035 | D63: 3422.93 | E63: =DAYS360(B62,B63) -> 83 | F63: =(D63-D62)/E63 -> 8.7620482 | G63: 1643 | H63: =(D63-D62)/G63 -> 0.44263542 | L63: =D63-D50 -> 2927.77 | N63: =B63-B50 -> 402 | P63: =L63/N63*365 -> 2658.2986
B64: 42099 | D64: 3996.35 | E64: =DAYS360(B63,B64) -> 65 | F64: =(D64-D63)/E64 -> 8.8218462 | G64: =524+505+80 -> 1109 | H64: =(D64-D63)/G64 -> 0.51706041 | L64: =D64-D63 -> 573.42
B65: 42127 | D65: 4186.01 | E65: =DAYS360(B64,B65) -> 28 | F65: =(D65-D64)/E65 -> 6.7735714 | G65: 372 | H65: =(D65-D64)/G65 -> 0.50983871 | L65: =D65-D64 -> 189.66
B66: 42148 | D66: 4288.13 | E66: =DAYS360(B65,B66) -> 21 | F66: =(D66-D65)/E66 -> 4.8628571 | G66: 125 | H66: =(D66-D65)/G66 -> 0.81696 | L66: =D66-D65 -> 102.12
B67: 42180 | D67: 4366.53 | E67: =DAYS360(B66,B67) -> 31 | F67: =(D67-D66)/E67 -> 2.5290323 | G67: 8 | H67: =(D67-D66)/G67 -> 9.8 | L67: =D67-D66 -> 78.4
B68: 42233 | D68: 4444.18 | E68: =DAYS360(B67,B68) -> 52 | F68: =(D68-D67)/E68 -> 1.4932692 | G68: 5 | H68: =(D68-D67)/G68 -> 15.53
B69: 42295 | D69: 4652.76 | E69: =DAYS360(B68,B69) -> 61 | F69: =(D69-D68)/E69 -> 3.4193443 | G69: =70+18*(17-4) -> 304 | H69: =(D69-D68)/G69 -> 0.68611842 | L69: =D69-D61 -> 2145.76
B70: 42346 | D70: 5072.02 | E70: =DAYS360(B69,B70) -> 50 | F70: =(D70-D69)/E70 -> 8.3852 | G70: =13.5*50 -> 675 | H70: =(D70-D69)/G70 -> 0.62112593
B71: 42361 | D71: 5193.02 | E71: =DAYS360(B70,B71) -> 15 | F71: =(D71-D70)/E71 -> 8.0666667 | G71: =14*15 -> 210 | H71: =(D71-D70)/G71 -> 0.57619048
B72: 42442 | D72: 5511 | E72: =DAYS360(B71,B72) -> 80 | F72: =(D72-D71)/E72 -> 3.97475 | G72: =552+969 -> 1521 | H72: =(D72-D71)/G72 -> 0.20905983
B73: 42489 | D73: 5826.24 | E73: =DAYS360(B72,B73) -> 46 | F73: =(D73-D72)/E73 -> 6.8530435 | G73: =561+376 -> 937 | H73: =(D73-D72)/G73 -> 0.33643543
B74: 42519 | D74: 5907.41 | E74: =DAYS360(B73,B74) -> 30 | F74: =(D74-D73)/E74 -> 2.7056667 | G74: 23 | H74: =(D74-D73)/G74 -> 3.5291304
B75: 42552 | D75: 5970.92 | E75: =DAYS360(B74,B75) -> 32 | F75: =(D75-D74)/E75 -> 1.9846875 | G75: 37 | H75: =(D75-D74)/G75 -> 1.7164865
B76: 42579 | D76: 6019 | E76: =DAYS360(B75,B76) -> 27 | F76: =(D76-D75)/E76 -> 1.7807407 | G76: 0 | H76: =(D76-D75)/G76 -> #DIV/0!
B77: 42594 | D77: 6034.41 | E77: =DAYS360(B76,B77) -> 14 | F77: =(D77-D76)/E77 -> 1.1007143
B78: 42617 | D78: 6072.33 | E78: =DAYS360(B77,B78) -> 22 | F78: =(D78-D77)/E78 -> 1.7236364 | L78: =D78-D76 -> 53.33 | M78: =L78/SUM(E77:E78)*31 -> 45.923056
B79: 42665 | D79: 6276.93 | E79: =DAYS360(B78,B79) -> 48 | F79: =(D79-D78)/E79 -> 4.2625 | G79: =125+234 -> 359 | H79: =(D79-D78)/G79 -> 0.56991643
B80: 42735 | D80: 6822.39 | E80: =DAYS360(B79,B80) -> 69 | F80: =(D80-D79)/E80 -> 7.9052174 | G80: 1172 | H80: =(D80-D79)/G80 -> 0.46540956
B81: 42749 | D81: 6850.12 | E81: =DAYS360(B80,B81) -> 14 | F81: =(D81-D80)/E81 -> 1.9807143 | G81: 363 | H81: =(D81-D80)/G81 -> 0.076391185
B82: 42764 | D82: 6936.34 | E82: =DAYS360(B81,B82) -> 15 | F82: =(D82-D81)/E82 -> 5.748 | G82: 310 | H82: =(D82-D81)/G82 -> 0.27812903
B83: 42792 | D83: 7116.25 | E83: =DAYS360(B82,B83) -> 27 | F83: =(D83-D82)/E83 -> 6.6633333 | G83: 600 | H83: =(D83-D82)/G83 -> 0.29985
B84: 42841 | D84: 7549.7 | E84: =DAYS360(B83,B84) -> 50 | F84: =(D84-D83)/E84 -> 8.669 | G84: 840 | H84: =(D84-D83)/G84 -> 0.5160119
B85: 42862 | D85: 7682.85 | E85: =DAYS360(B84,B85) -> 21 | F85: =(D85-D84)/E85 -> 6.3404762 | G85: 230 | H85: =(D85-D84)/G85 -> 0.57891304
B86: 42897 | D86: 7810.93 | E86: =DAYS360(B85,B86) -> 34 | F86: =(D86-D85)/E86 -> 3.7670588
B87: 42908 | D87: 7824.01 | E87: =DAYS360(B86,B87) -> 11 | F87: =(D87-D86)/E87 -> 1.1890909
B88: 42917 | D88: 7835.31 | E88: =DAYS360(B87,B88) -> 9 | F88: =(D88-D87)/E88 -> 1.2555556 | J88: =D88-D75 -> 1864.39
B89: 42952 | D89: 7871.11 | E89: =DAYS360(B88,B89) -> 34 | F89: =(D89-D88)/E89 -> 1.0529412 | J89: =D89-D88 -> 35.8
B90: 42993 | D90: 7950 | E90: =DAYS360(B89,B90) -> 40 | F90: =(D90-D89)/E90 -> 1.97225
B91: 43015 | D91: 8045.28 | E91: =DAYS360(B90,B91) -> 22 | F91: =(D91-D90)/E91 -> 4.3309091 | G91: 160 | H91: =(D91-D90)/G91 -> 0.5955
B92: 43043 | D92: 8297.17 | E92: =DAYS360(B91,B92) -> 27 | F92: =(D92-D91)/E92 -> 9.3292593 | G92: 396 | H92: =(D92-D91)/G92 -> 0.63608586 | K92: =D92-D91 -> 251.89
B93: 43100 | D93: 8857.63 | E93: =DAYS360(B92,B93) -> 57 | F93: =(D93-D92)/E93 -> 9.8326316 | G93: 1050 | H93: =(D93-D92)/G93 -> 0.53377143 | K93: =D93-D92 -> 560.46 | N93: =D93-D80 -> 2035.24

Sheet 2016
A1: SÄHKÖNKULUTUSRAPORTTI | D1: 2016
A3: Imatra omakotitalo 4H+K+S | D3: Asuinala | F3: 110 | G3: m2 | H3: Taloussähkö arvio | K3: 13.5 | L3: kWh/d
D4: Tilavuus | F4: =2.52*F3 -> 277.2 | G4: m3 | H4: Kesäkuukausien keskikulutus (ilman ILP) | K4: =SUM(I11:K11)/92 -> 13.206522 | L4: kWh/d
A6: Jakso | D6: Tammi | E6: Helmi | F6: Maalis | G6: Huhti | H6: Touko | I6: Kesä | J6: Heinä | K6: Elo | L6: Syys | M6: Loka | N6: Marras | O6: Joulu | P6: Yhteensä
D7: 31 | E7: 28 | F7: 31 | G7: 30 | H7: 31 | I7: 30 | J7: 31 | K7: 31 | L7: 30 | M7: 31 | N7: 30 | O7: 31 | P7: =SUM(D7:O7) -> 365
A8: 2016 | B8: Keskilämpötila | C8: oC | D8: -13.9 | E8: -2.3 | F8: -2.2 | G8: 3.32 | H8: 13.71 | I8: 15.1 | J8: 17.1 | K8: 15.4 | L8: 11.5 | M8: 3.6 | N8: -2.4 | O8: -2.6 | P8: =AVERAGE(D8:O8) -> 4.6941667
A9: 2016 | B9: Sähkö päivä | C9: kWh | D9: 1977.55 | E9: 1085.82 | F9: 1036.4 | G9: 690.63 | H9: 412.44 | I9: 394 | J9: 383 | K9: =243+76+119 -> 438 | L9: 498 | M9: 792 | N9: 1184 | O9: 1270 | P9: =SUM(D9:O9) -> 10161.84
A10: 2016 | B10: Sähkö yö | C10: kWh | P10: =SUM(D10:O10) -> 0
A11: 2016 | B11: Sähkö yhteensä | C11: kWh | D11: =SUM(D9:D10) -> 1977.55 | E11: =SUM(E9:E10) -> 1085.82 | F11: =SUM(F9:F10) -> 1036.4 | G11: =SUM(G9:G10) -> 690.63 | H11: =SUM(H9:H10) -> 412.44 | I11: =SUM(I9:I10) -> 394 | J11: =SUM(J9:J10) -> 383 | K11: =SUM(K9:K10) -> 438 | ... O11: =SUM(O9:O10) -> 1270 | P11: =SUM(D11:O11) -> 10161.84
A12: 2016 | B12: Ilmalämpöpumppu, arvio | C12: kWh | D12: =0.2*D13 -> 193.8 | E12: 200 | F12: =0.3*F13 -> 168.3 | G12: =0.2*G13 -> 75.2 | H12: 81 | I12: 63.5 | J12: 48 | K12: 46 | L12: 60 | M12: =0.5*M13 -> 207.5 | N12: =0.5*N13 -> 291 | O12: =0.465*O13 -> 283.185 | P12: =SUM(D12:O12) -> 1717.485
A13: 2016 | B13: Lämmitystarveluku toteutunut | C13: oCd | D13: 969 | E13: 552 | F13: 561 | G13: 376 | H13: 23 | I13: 37 | J13: 6 | K13: 12 | L13: 125 | M13: 415 | N13: 582 | O13: 609 | P13: =SUM(D13:O13) -> 4267
A14: 2016 | B14: Lämmitystarveluku normivuosi | C14: oCd | D14: 759 | E14: 699 | F14: 621 | G14: 403 | H14: 165 | I14: 22 | J14: 5 | K14: 28 | L14: 184 | M14: 386 | N14: 546 | O14: 692 | P14: 4510
A15: 2016 | B15: Taloussähkö (arvio) | C15: kWh | D15: =$K$3*D7 -> 418.5 | E15: =$K$3*E7 -> 378 | F15: =$K$3*F7 -> 418.5 | G15: =$K$3*G7 -> 405 | H15: =$K$3*H7 -> 418.5 | I15: =$K$3*I7 -> 405 | J15: =$K$3*J7 -> 418.5 | K15: =$K$3*K7 -> 418.5 | ... O15: =$K$3*O7 -> 418.5 | P15: =SUM(D15:O15) -> 4927.5
A16: 2016 | B16: Lämmityssähkö (arvio) | C16: kWh | D16: =D11-D15 -> 1559.05 | E16: =E11-E15 -> 707.82 | F16: =F11-F15 -> 617.9 | G16: =G11-G15 -> 285.63 | H16: 81 | I16: 78 | J16: 40 | K16: 30 | L16: =L11-L15 -> 93 | M16: =M11-M15 -> 373.5 | N16: =N11-N15 -> 779 | O16: =O11-O15 -> 851.5 | P16: =SUM(D16:O16) -> 5496.4
A17: 2016 | B17: Sääkorjattu lämmityssähkö | C17: kWh | D17: =IF(D16<0,0,((D14/D13))*D16) -> 1221.1754 | E17: =IF(E16<0,0,((E14/E13))*E16) -> 896.31554 | F17: =IF(F16<0,0,((F14/F13))*F16) -> 683.98556 | G17: =IF(G16<0,0,((G14/G13))*G16) -> 306.14066 | H17: 81 | I17: =I16 -> 78 | J17: =J16 -> 40 | K17: =K16 -> 30 | L17: =IF(L16<0,0,((L14/L13))*L16) -> 136.896 | M17: =IF(M16<0,0,((M14/M13))*M16) -> 347.4 | N17: =IF(N16<0,0,((N14/N13))*N16) -> 730.81443 | O17: =IF(O16<0,0,((O14/O13))*O16) -> 967.55008 | P17: =SUM(D17:O17) -> 5519.2777 | R17: =P16-P12 -> 3778.915
A20: Kulutus päivässä | C20: kWh/d | D20: =D11/D7 -> 63.791935 | E20: =E11/E7 -> 38.779286 | F20: =F11/F7 -> 33.432258 | G20: =G11/G7 -> 23.021 | H20: =H11/H7 -> 13.304516 | I20: =I11/I7 -> 13.133333 | J20: =J11/J7 -> 12.354839 | K20: =K11/K7 -> 14.129032 | ... O20: =O11/O7 -> 40.967742 | P20: =P10/365 -> 0
B21: Kumulatiivinen kulutus | C21: kWh | D21: =SUM(D11) -> 1977.55 | E21: =SUM($D$11:E11) -> 3063.37 | F21: =SUM($D$11:F11) -> 4099.77 | G21: =SUM($D$11:G11) -> 4790.4 | H21: =SUM($D$11:H11) -> 5202.84 | I21: =SUM($D$11:I11) -> 5596.84 | J21: =SUM($D$11:J11) -> 5979.84 | K21: =SUM($D$11:K11) -> 6417.84 | L21: =SUM($D$11:L11) -> 6915.84 | ... O21: =SUM($D$11:O11) -> 10161.84
B22: Kumulatiivinen kulutus ILP | C22: kWh | D22: =SUM(D12) -> 193.8 | E22: =SUM($D$12:E12) -> 393.8 | F22: =SUM($D$12:F12) -> 562.1 | G22: =SUM($D$12:G12) -> 637.3 | H22: =SUM($D$12:H12) -> 718.3 | I22: =SUM($D$12:I12) -> 781.8 | J22: =SUM($D$12:J12) -> 829.8 | K22: =SUM($D$12:K12) -> 875.8 | L22: =SUM($D$12:L12) -> 935.8 | ... O22: =SUM($D$12:O12) -> 1717.485
B23: Kumulatiivinen kulutus lämmitys | C23: kWh | D23: =SUM(D16) -> 1559.05 | E23: =SUM($D$16:E16) -> 2266.87 | F23: =SUM($D$16:F16) -> 2884.77 | G23: =SUM($D$16:G16) -> 3170.4 | H23: =SUM($D$16:H16) -> 3251.4 | I23: =SUM($D$16:I16) -> 3329.4 | J23: =SUM($D$16:J16) -> 3369.4 | K23: =SUM($D$16:K16) -> 3399.4 | L23: =SUM($D$16:L16) -> 3492.4 | ... O23: =SUM($D$16:O16) -> 5496.4
A25: Lämmitys
B26: Lämmityksen osuus kulutuksesta | D26: =D16/D11 -> 0.7883745 | E26: =E16/E11 -> 0.651876 | F26: =F16/F11 -> 0.59619838 | G26: =G16/G11 -> 0.41357891 | H26: =H16/H11 -> 0.1963922 | I26: =I16/I11 -> 0.19796954 | J26: =J16/J11 -> 0.10443864 | K26: =K16/K11 -> 0.068493151 | ... P26: =P16/P11 -> 0.5408863
B27: Sähkönkulutus lämmitykseen | C27: kWh/oCd | D27: =D16/D13 -> 1.6089267 | E27: =E16/E13 -> 1.2822826 | F27: =F16/F13 -> 1.101426 | G27: =G16/G13 -> 0.75965426 | H27: =H16/H13 -> 3.5217391 | I27: =I16/I13 -> 2.1081081 | J27: =J16/J13 -> 6.6666667 | K27: =K16/K13 -> 2.5 | ... P27: =P16/P13 -> 1.2881181
B28: Sähkönkulutus lämmitykseen | C28: kWh/d | D28: =D16/D7 -> 50.291935 | E28: =E16/E7 -> 25.279286 | F28: =F16/F7 -> 19.932258 | G28: =G16/G7 -> 9.521 | H28: =H16/H7 -> 2.6129032 | I28: =I16/I7 -> 2.6 | J28: =J16/J7 -> 1.2903226 | K28: =K16/K7 -> 0.96774194 | ... P28: =P16/P7 -> 15.05863
B29: Norm sähkö lämmitykseen | C29: kWh/d | D29: =D17/D7 -> 39.392754 | E29: =E17/E7 -> 32.011269 | F29: =F17/F7 -> 22.06405 | G29: =G17/G7 -> 10.204689 | H29: =H17/H7 -> 2.6129032 | I29: =I17/I7 -> 2.6 | J29: =J17/J7 -> 1.2903226 | K29: =K17/K7 -> 0.96774194 | ... P29: =P17/P7 -> 15.121309
B30: Ominaislämmönkulutus | C30: kWh/m3 | D30: =D16/$F$4 -> 5.6242785 | E30: =E16/$F$4 -> 2.5534632 | F30: =F16/$F$4 -> 2.2290765 | G30: =G16/$F$4 -> 1.0304113 | H30: =H16/$F$4 -> 0.29220779 | I30: =I16/$F$4 -> 0.28138528 | J30: =J16/$F$4 -> 0.14430014 | K30: =K16/$F$4 -> 0.10822511 | ... P30: =P16/$F$4 -> 19.828283
B31: Ominaislämmönkulutus | C31: kWh/m2 | D31: =D16/$F$3 -> 14.173182 | E31: =E16/$F$3 -> 6.4347273 | F31: =F16/$F$3 -> 5.6172727 | G31: =G16/$F$3 -> 2.5966364 | H31: =H16/$F$3 -> 0.73636364 | I31: =I16/$F$3 -> 0.70909091 | J31: =J16/$F$3 -> 0.36363636 | K31: =K16/$F$3 -> 0.27272727 | ... P31: =P16/$F$3 -> 49.967273
B32: Norm lämmönkulutus | C32: kWh/m3 | D32: =D17/$F$4 -> 4.4053946 | E32: =E17/$F$4 -> 3.2334616 | F32: =F17/$F$4 -> 2.4674804 | G32: =G17/$F$4 -> 1.1044036 | H32: =H17/$F$4 -> 0.29220779 | I32: =I17/$F$4 -> 0.28138528 | J32: =J17/$F$4 -> 0.14430014 | K32: =K17/$F$4 -> 0.10822511 | ... P32: =P17/$F$4 -> 19.910814
B33: Norm lämmönkulutus | C33: kWh/m2 | D33: =D17/$F$3 -> 11.101594 | E33: =E17/$F$3 -> 8.1483231 | F33: =F17/$F$3 -> 6.2180506 | G33: =G17/$F$3 -> 2.783097 | H33: =H17/$F$3 -> 0.73636364 | I33: =I17/$F$3 -> 0.70909091 | J33: =J17/$F$3 -> 0.36363636 | K33: =K17/$F$3 -> 0.27272727 | ... P33: =P17/$F$3 -> 50.175252
B34: Ominaislämmönkulutus | C34: Wh/m3/oCd | D34: =1000*D30/D13 -> 5.804209 | E34: =1000*E30/E13 -> 4.6258391 | F34: =1000*F30/F13 -> 3.9733984 | G34: =1000*G30/G13 -> 2.7404555 | H34: =1000*H30/H13 -> 12.704687 | I34: =1000*I30/I13 -> 7.6050076 | J34: =1000*J30/J13 -> 24.050024 | K34: =1000*K30/K13 -> 9.018759 | ... P34: =1000*P30/P13 -> 4.6468907
A36: Vuosikulutusarvio
B38: Lämmityssähkö ILPillä | D38: =4400*1.3 -> 5720 | E38: kWh | F38: =D38/$D$40 -> 0.53721531 | G38: Arvio lämmityssähkö ilman ILP | K38: ='2007'!D34 -> 8566 | L38: kWh | M38: Vuosikulutusarvio ilma ILP
B39: Taloussähkö | D39: =K3*365 -> 4927.5 | E39: kWh | F39: =D39/$D$40 -> 0.46278469 | G39: Arvio ILPin säästämästä sähköstä | K39: =K38-D38 -> 2846 | L39: kWh | N39: ='2007'!I36 -> 14540 | O39: kWh
B40: Yhteensä | D40: =SUM(D38:D39) -> 10647.5 | E40: kWh | G40: Säästöarvio lämmityssähkönkulutuksesta | K40: =K39/K38 -> 0.33224375
G41: Säästöarvio kokonaissähkönkulutuksesta | K41: =K39/(SUM(D39)+K38) -> 0.21091637
A51: ILP | D51: lukema | E51: päivät | F51: kulutus | G51: astepäivät
B52: 41633 | D52: 495.16
B53: 41645 | D53: 584.7 | E53: =DAYS360(B52,B53) -> 11 | F53: =(D53-D52)/E53 -> 8.14 | G53: 195 | H53: =(D53-D52)/G53 -> 0.45917949
B54: 41692 | D54: 1079.44 | E54: =DAYS360(B53,B54) -> 46 | F54: =(D54-D53)/E54 -> 10.755217 | G54: 1116 | H54: =(D54-D53)/G54 -> 0.44331541
B55: 41720 | D55: 1376.73 | E55: =DAYS360(B54,B55) -> 30 | F55: =(D55-D54)/E55 -> 9.9096667 | G55: 459 | H55: =(D55-D54)/G55 -> 0.64769063
B56: 41734 | D56: 1545.36 | E56: =DAYS360(B55,B56) -> 13 | F56: =(D56-D55)/E56 -> 12.971538 | G56: 173 | H56: =(D56-D55)/G56 -> 0.97473988 | N56: jäähdytys
B57: 41791 | D57: 2153 | E57: =DAYS360(B56,B57) -> 56 | F57: =(D57-D56)/E57 -> 10.850714 | G57: 537 | H57: =(D57-D56)/G57 -> 1.1315456 | L57: 41851 | N57: 2274.96 | O57: =N57-D59 -> 13.27
B58: 41814 | D58: 2233.47 | E58: =DAYS360(B57,B58) -> 23 | F58: =(D58-D57)/E58 -> 3.4986957 | G58: 78.2 | H58: =(D58-D57)/G58 -> 1.0290281
B59: 41825 | D59: 2261.69 | E59: =DAYS360(B58,B59) -> 11 | F59: =(D59-D58)/E59 -> 2.5654545
B60: 41852 | D60: 2274.96 | E60: =DAYS360(B59,B60) -> 26 | F60: =(D60-D59)/E60 -> 0.51038462
B61: 41882 | D61: 2314.32 | E61: =DAYS360(B60,B61) -> 30 | F61: =(D61-D60)/E61 -> 1.312 | G61: 13 | I61: =D61-D60 -> 39.36
B62: 41889 | D62: 2330.23 | E62: =DAYS360(B61,B62) -> 7 | F62: =(D62-D61)/E62 -> 2.2728571 | G62: =3.8*7 -> 26.6 | H62: =(D62-D61)/G62 -> 0.5981203
B63: 41929 | D63: 2507 | E63: =DAYS360(B62,B63) -> 40 | F63: =(D63-D62)/E63 -> 4.41925 | G63: =7*40 -> 280 | H63: =(D63-D62)/G63 -> 0.63132143
B64: 41951 | D64: 2695.68 | E64: =DAYS360(B63,B64) -> 21 | F64: =(D64-D63)/E64 -> 8.9847619 | G64: =21*12.5 -> 262.5 | H64: =(D64-D63)/G64 -> 0.71878095
B65: 42035 | D65: 3422.93 | E65: =DAYS360(B64,B65) -> 83 | F65: =(D65-D64)/E65 -> 8.7620482 | G65: 1643 | H65: =(D65-D64)/G65 -> 0.44263542 | L65: =D65-D52 -> 2927.77 | N65: =B65-B52 -> 402 | P65: =L65/N65*365 -> 2658.2986
B66: 42099 | D66: 3996.35 | E66: =DAYS360(B65,B66) -> 65 | F66: =(D66-D65)/E66 -> 8.8218462 | G66: =524+505+80 -> 1109 | H66: =(D66-D65)/G66 -> 0.51706041 | L66: =D66-D65 -> 573.42
B67: 42127 | D67: 4186.01 | E67: =DAYS360(B66,B67) -> 28 | F67: =(D67-D66)/E67 -> 6.7735714 | G67: 372 | H67: =(D67-D66)/G67 -> 0.50983871 | L67: =D67-D66 -> 189.66
B68: 42148 | D68: 4288.13 | E68: =DAYS360(B67,B68) -> 21 | F68: =(D68-D67)/E68 -> 4.8628571 | G68: 125 | H68: =(D68-D67)/G68 -> 0.81696 | L68: =D68-D67 -> 102.12
B69: 42180 | D69: 4366.53 | E69: =DAYS360(B68,B69) -> 31 | F69: =(D69-D68)/E69 -> 2.5290323 | G69: 8 | H69: =(D69-D68)/G69 -> 9.8 | L69: =D69-D68 -> 78.4
B70: 42233 | D70: 4444.18 | E70: =DAYS360(B69,B70) -> 52 | F70: =(D70-D69)/E70 -> 1.4932692 | G70: 5 | H70: =(D70-D69)/G70 -> 15.53
B71: 42295 | D71: 4652.76 | E71: =DAYS360(B70,B71) -> 61 | F71: =(D71-D70)/E71 -> 3.4193443 | G71: =70+18*(17-4) -> 304 | H71: =(D71-D70)/G71 -> 0.68611842 | L71: =D71-D63 -> 2145.76
B72: 42346 | D72: 5072.02 | E72: =DAYS360(B71,B72) -> 50 | F72: =(D72-D71)/E72 -> 8.3852 | G72: =13.5*50 -> 675 | H72: =(D72-D71)/G72 -> 0.62112593
B73: 42361 | D73: 5193.02 | E73: =DAYS360(B72,B73) -> 15 | F73: =(D73-D72)/E73 -> 8.0666667 | G73: =14*15 -> 210 | H73: =(D73-D72)/G73 -> 0.57619048
B74: 42442 | D74: 5511 | E74: =DAYS360(B73,B74) -> 80 | F74: =(D74-D73)/E74 -> 3.97475 | G74: =552+969 -> 1521 | H74: =(D74-D73)/G74 -> 0.20905983
B75: 42489 | D75: 5826.24 | E75: =DAYS360(B74,B75) -> 46 | F75: =(D75-D74)/E75 -> 6.8530435 | G75: =561+376 -> 937 | H75: =(D75-D74)/G75 -> 0.33643543
B76: 42519 | D76: 5907.41 | E76: =DAYS360(B75,B76) -> 30 | F76: =(D76-D75)/E76 -> 2.7056667 | G76: 23 | H76: =(D76-D75)/G76 -> 3.5291304
B77: 42552 | D77: 5970.92 | E77: =DAYS360(B76,B77) -> 32 | F77: =(D77-D76)/E77 -> 1.9846875 | G77: 37 | H77: =(D77-D76)/G77 -> 1.7164865
B78: 42579 | D78: 6019 | E78: =DAYS360(B77,B78) -> 27 | F78: =(D78-D77)/E78 -> 1.7807407 | G78: 0 | H78: =(D78-D77)/G78 -> #DIV/0!
B79: 42594 | D79: 6034.41 | E79: =DAYS360(B78,B79) -> 14 | F79: =(D79-D78)/E79 -> 1.1007143
B80: 42617 | D80: 6072.33 | E80: =DAYS360(B79,B80) -> 22 | F80: =(D80-D79)/E80 -> 1.7236364 | L80: =D80-D78 -> 53.33 | M80: =L80/SUM(E79:E80)*31 -> 45.923056
B81: 42665 | D81: 6276.93 | E81: =DAYS360(B80,B81) -> 48 | F81: =(D81-D80)/E81 -> 4.2625 | G81: =125+234 -> 359 | H81: =(D81-D80)/G81 -> 0.56991643
B82: 42735 | D82: 6822.39 | E82: =DAYS360(B81,B82) -> 69 | F82: =(D82-D81)/E82 -> 7.9052174 | G82: 1172 | H82: =(D82-D81)/G82 -> 0.46540956

Sheet 2015
A1: SÄHKÖNKULUTUSRAPORTTI | D1: 2015
A3: Imatra omakotitalo 4H+K+S | D3: Asuinala | F3: 110 | G3: m2 | H3: Taloussähkö arvio | K3: 13.5 | L3: kWh/d
D4: Tilavuus | F4: =2.52*F3 -> 277.2 | G4: m3 | H4: Kesäkuukausien keskikulutus (ilman ILP) | K4: =SUM(I11:K11)/92 -> 12.555761 | L4: kWh/d
A6: Jakso | D6: Tammi | E6: Helmi | F6: Maalis | G6: Huhti | H6: Touko | I6: Kesä | J6: Heinä | K6: Elo | L6: Syys | M6: Loka | N6: Marras | O6: Joulu | P6: Yhteensä
D7: 31 | E7: 28 | F7: 31 | G7: 30 | H7: 31 | I7: 30 | J7: 31 | K7: 31 | L7: 30 | M7: 31 | N7: 30 | O7: 31 | P7: =SUM(D7:O7) -> 365
A8: 2015 | B8: Keskilämpötila | C8: oC | D8: -4.8 | E8: -1.7 | F8: 0.7 | G8: 4.1 | H8: 9.5 | I8: 13.6 | J8: 15.4 | K8: 16.7 | L8: 12.3 | M8: 4.4 | N8: 2.6 | O8: 0.75 | P8: =AVERAGE(D8:O8) -> 6.1291667
A9: 2015 | B9: Sähkö päivä | C9: kWh | D9: 1367.99 | E9: 1053.38 | F9: 918.54 | G9: 816.05 | H9: 551.14 | I9: 426.4 | J9: 373.54 | K9: 355.19 | L9: 401 | M9: 802 | N9: 887 | O9: 1130 | P9: =SUM(D9:O9) -> 9082.23
A10: 2015 | B10: Sähkö yö | C10: kWh | P10: =SUM(D10:O10) -> 0
A11: 2015 | B11: Sähkö yhteensä | C11: kWh | D11: =SUM(D9:D10) -> 1367.99 | E11: =SUM(E9:E10) -> 1053.38 | F11: =SUM(F9:F10) -> 918.54 | G11: =SUM(G9:G10) -> 816.05 | H11: =SUM(H9:H10) -> 551.14 | I11: =SUM(I9:I10) -> 426.4 | J11: =SUM(J9:J10) -> 373.54 | K11: =SUM(K9:K10) -> 355.19 | ... O11: =SUM(O9:O10) -> 1130 | P11: =SUM(D11:O11) -> 9082.23
A12: 2015 | B12: Ilmalämpöpumppu, arvio | C12: kWh | D12: =0.44*D13 -> 296.56 | E12: =0.54*E13 -> 282.96 | F12: =0.58*F13 -> 292.9 | G12: 190 | H12: 102 | I12: 78 | J12: 40 | K12: 30 | L12: =0.7*L13 -> 49 | M12: =0.7*M13 -> 273 | N12: =0.62*N13 -> 267.22 | O12: =0.58*O13 -> 292.9 | P12: =SUM(D12:O12) -> 2194.54
A13: 2015 | B13: Lämmitystarveluku toteutunut | C13: oCd | D13: 674 | E13: 524 | F13: 505 | G13: 388 | H13: 184 | I13: 8 | J13: 5 | K13: 0 | L13: 70 | M13: 390 | N13: 431 | O13: 505 | P13: =SUM(D13:O13) -> 3684
A14: 2015 | B14: Lämmitystarveluku normivuosi | C14: oCd | D14: 759 | E14: 699 | F14: 621 | G14: 403 | H14: 165 | I14: 22 | J14: 5 | K14: 28 | L14: 184 | M14: 386 | N14: 546 | O14: 692 | P14: 4510
A15: 2015 | B15: Taloussähkö (arvio) | C15: kWh | D15: =$K$3*D7 -> 418.5 | E15: =$K$3*E7 -> 378 | F15: =$K$3*F7 -> 418.5 | G15: =$K$3*G7 -> 405 | H15: =$K$3*H7 -> 418.5 | I15: =$K$3*I7 -> 405 | J15: =$K$3*J7 -> 418.5 | K15: =$K$3*K7 -> 418.5 | ... O15: =$K$3*O7 -> 418.5 | P15: =SUM(D15:O15) -> 4927.5
A16: 2015 | B16: Lämmityssähkö (arvio) | C16: kWh | D16: =D11-D15 -> 949.49 | E16: =E11-E15 -> 675.38 | F16: =F11-F15 -> 500.04 | G16: =G11-G15 -> 411.05 | H16: 150 | I16: 78 | J16: 40 | K16: 30 | L16: =L11-L15 -> -4 | M16: =M11-M15 -> 383.5 | N16: =N11-N15 -> 482 | O16: =O11-O15 -> 711.5 | P16: =SUM(D16:O16) -> 4406.96
A17: 2015 | B17: Sääkorjattu lämmityssähkö | C17: kWh | D17: =IF(D16<0,0,((D14/D13))*D16) -> 1069.2328 | E17: =IF(E16<0,0,((E14/E13))*E16) -> 900.9363 | F17: =IF(F16<0,0,((F14/F13))*F16) -> 614.90067 | G17: =IF(G16<0,0,((G14/G13))*G16) -> 426.94111 | H17: =IF(H16<0,0,((H14/H13))*H16) -> 134.51087 | I17: =I16 -> 78 | J17: =J16 -> 40 | K17: =K16 -> 30 | L17: =IF(L16<0,0,((L14/L13))*L16) -> 0 | M17: =IF(M16<0,0,((M14/M13))*M16) -> 379.56667 | N17: =IF(N16<0,0,((N14/N13))*N16) -> 610.60789 | O17: =IF(O16<0,0,((O14/O13))*O16) -> 974.96634 | P17: =SUM(D17:O17) -> 5259.6626 | R17: =P16-P12 -> 2212.42
A20: Kulutus päivässä | C20: kWh/d | D20: =D11/D7 -> 44.12871 | E20: =E11/E7 -> 37.620714 | F20: =F11/F7 -> 29.630323 | G20: =G11/G7 -> 27.201667 | H20: =H11/H7 -> 17.77871 | I20: =I11/I7 -> 14.213333 | J20: =J11/J7 -> 12.049677 | K20: =K11/K7 -> 11.457742 | ... O20: =O11/O7 -> 36.451613 | P20: =P10/365 -> 0
B21: Kumulatiivinen kulutus | C21: kWh | D21: =SUM(D11) -> 1367.99 | E21: =SUM($D$11:E11) -> 2421.37 | F21: =SUM($D$11:F11) -> 3339.91 | G21: =SUM($D$11:G11) -> 4155.96 | H21: =SUM($D$11:H11) -> 4707.1 | I21: =SUM($D$11:I11) -> 5133.5 | J21: =SUM($D$11:J11) -> 5507.04 | K21: =SUM($D$11:K11) -> 5862.23 | L21: =SUM($D$11:L11) -> 6263.23 | ... O21: =SUM($D$11:O11) -> 9082.23
B22: Kumulatiivinen kulutus ILP | C22: kWh | D22: =SUM(D12) -> 296.56 | E22: =SUM($D$12:E12) -> 579.52 | F22: =SUM($D$12:F12) -> 872.42 | G22: =SUM($D$12:G12) -> 1062.42 | H22: =SUM($D$12:H12) -> 1164.42 | I22: =SUM($D$12:I12) -> 1242.42 | J22: =SUM($D$12:J12) -> 1282.42 | K22: =SUM($D$12:K12) -> 1312.42 | L22: =SUM($D$12:L12) -> 1361.42 | ... O22: =SUM($D$12:O12) -> 2194.54
B23: Kumulatiivinen kulutus lämmitys | C23: kWh | D23: =SUM(D16) -> 949.49 | E23: =SUM($D$16:E16) -> 1624.87 | F23: =SUM($D$16:F16) -> 2124.91 | G23: =SUM($D$16:G16) -> 2535.96 | H23: =SUM($D$16:H16) -> 2685.96 | I23: =SUM($D$16:I16) -> 2763.96 | J23: =SUM($D$16:J16) -> 2803.96 | K23: =SUM($D$16:K16) -> 2833.96 | L23: =SUM($D$16:L16) -> 2829.96 | ... O23: =SUM($D$16:O16) -> 4406.96
A25: Lämmitys
B26: Lämmityksen osuus kulutuksesta | D26: =D16/D11 -> 0.69407671 | E26: =E16/E11 -> 0.64115514 | F26: =F16/F11 -> 0.54438566 | G26: =G16/G11 -> 0.50370688 | H26: =H16/H11 -> 0.27216315 | I26: =I16/I11 -> 0.18292683 | J26: =J16/J11 -> 0.10708358 | K26: =K16/K11 -> 0.084461837 | ... P26: =P16/P11 -> 0.48522885
B27: Sähkönkulutus lämmitykseen | C27: kWh/oCd | D27: =D16/D13 -> 1.4087389 | E27: =E16/E13 -> 1.2888931 | F27: =F16/F13 -> 0.99017822 | G27: =G16/G13 -> 1.0594072 | H27: =H16/H13 -> 0.81521739 | I27: =I16/I13 -> 9.75 | J27: =J16/J13 -> 8 | K27: =K16/K13 -> #DIV/0! | ... P27: =P16/P13 -> 1.1962432
B28: Sähkönkulutus lämmitykseen | C28: kWh/d | D28: =D16/D7 -> 30.62871 | E28: =E16/E7 -> 24.120714 | F28: =F16/F7 -> 16.130323 | G28: =G16/G7 -> 13.701667 | H28: =H16/H7 -> 4.8387097 | I28: =I16/I7 -> 2.6 | J28: =J16/J7 -> 1.2903226 | K28: =K16/K7 -> 0.96774194 | ... P28: =P16/P7 -> 12.073863
B29: Norm sähkö lämmitykseen | C29: kWh/d | D29: =D17/D7 -> 34.491381 | E29: =E17/E7 -> 32.176296 | F29: =F17/F7 -> 19.835506 | G29: =G17/G7 -> 14.23137 | H29: =H17/H7 -> 4.3390603 | I29: =I17/I7 -> 2.6 | J29: =J17/J7 -> 1.2903226 | K29: =K17/K7 -> 0.96774194 | ... P29: =P17/P7 -> 14.410035
B30: Ominaislämmönkulutus | C30: kWh/m3 | D30: =D16/$F$4 -> 3.4252886 | E30: =E16/$F$4 -> 2.4364358 | F30: =F16/$F$4 -> 1.8038961 | G30: =G16/$F$4 -> 1.4828644 | H30: =H16/$F$4 -> 0.54112554 | I30: =I16/$F$4 -> 0.28138528 | J30: =J16/$F$4 -> 0.14430014 | K30: =K16/$F$4 -> 0.10822511 | ... P30: =P16/$F$4 -> 15.898124
B31: Ominaislämmönkulutus | C31: kWh/m2 | D31: =D16/$F$3 -> 8.6317273 | E31: =E16/$F$3 -> 6.1398182 | F31: =F16/$F$3 -> 4.5458182 | G31: =G16/$F$3 -> 3.7368182 | H31: =H16/$F$3 -> 1.3636364 | I31: =I16/$F$3 -> 0.70909091 | J31: =J16/$F$3 -> 0.36363636 | K31: =K16/$F$3 -> 0.27272727 | ... P31: =P16/$F$3 -> 40.063273
B32: Norm lämmönkulutus | C32: kWh/m3 | D32: =D17/$F$4 -> 3.8572612 | E32: =E17/$F$4 -> 3.2501309 | F32: =F17/$F$4 -> 2.2182564 | G32: =G17/$F$4 -> 1.5401916 | H32: =H17/$F$4 -> 0.48524845 | I32: =I17/$F$4 -> 0.28138528 | J32: =J17/$F$4 -> 0.14430014 | K32: =K17/$F$4 -> 0.10822511 | ... P32: =P17/$F$4 -> 18.974252
B33: Norm lämmönkulutus | C33: kWh/m2 | D33: =D17/$F$3 -> 9.7202982 | E33: =E17/$F$3 -> 8.19033 | F33: =F17/$F$3 -> 5.5900061 | G33: =G17/$F$3 -> 3.8812828 | H33: =H17/$F$3 -> 1.2228261 | I33: =I17/$F$3 -> 0.70909091 | J33: =J17/$F$3 -> 0.36363636 | K33: =K17/$F$3 -> 0.27272727 | ... P33: =P17/$F$3 -> 47.815115
B34: Ominaislämmönkulutus | C34: Wh/m3/oCd | D34: =1000*D30/D13 -> 5.0820306 | E34: =1000*E30/E13 -> 4.6496866 | F34: =1000*F30/F13 -> 3.5720715 | G34: =1000*G30/G13 -> 3.8218154 | H34: =1000*H30/H13 -> 2.9408997 | I34: =1000*I30/I13 -> 35.17316 | J34: =1000*J30/J13 -> 28.860029 | K34: =1000*K30/K13 -> #DIV/0! | ... P34: =1000*P30/P13 -> 4.3154517
A36: Vuosikulutusarvio
B38: Lämmityssähkö ILPillä | D38: =4400*1.3 -> 5720 | E38: kWh | F38: =D38/$D$40 -> 0.53721531 | G38: Arvio lämmityssähkö ilman ILP | K38: ='2007'!D34 -> 8566 | L38: kWh | M38: Vuosikulutusarvio ilma ILP
B39: Taloussähkö | D39: =K3*365 -> 4927.5 | E39: kWh | F39: =D39/$D$40 -> 0.46278469 | G39: Arvio ILPin säästämästä sähköstä | K39: =K38-D38 -> 2846 | L39: kWh | N39: ='2007'!I36 -> 14540 | O39: kWh
B40: Yhteensä | D40: =SUM(D38:D39) -> 10647.5 | E40: kWh | G40: Säästöarvio lämmityssähkönkulutuksesta | K40: =K39/K38 -> 0.33224375
G41: Säästöarvio kokonaissähkönkulutuksesta | K41: =K39/(SUM(D39)+K38) -> 0.21091637
A51: ILP | D51: lukema | E51: päivät | F51: kulutus | G51: astepäivät
B52: 41633 | D52: 495.16
B53: 41645 | D53: 584.7 | E53: =DAYS360(B52,B53) -> 11 | F53: =(D53-D52)/E53 -> 8.14 | G53: 195 | H53: =(D53-D52)/G53 -> 0.45917949
B54: 41692 | D54: 1079.44 | E54: =DAYS360(B53,B54) -> 46 | F54: =(D54-D53)/E54 -> 10.755217 | G54: 1116 | H54: =(D54-D53)/G54 -> 0.44331541
B55: 41720 | D55: 1376.73 | E55: =DAYS360(B54,B55) -> 30 | F55: =(D55-D54)/E55 -> 9.9096667 | G55: 459 | H55: =(D55-D54)/G55 -> 0.64769063
B56: 41734 | D56: 1545.36 | E56: =DAYS360(B55,B56) -> 13 | F56: =(D56-D55)/E56 -> 12.971538 | G56: 173 | H56: =(D56-D55)/G56 -> 0.97473988 | N56: jäähdytys
B57: 41791 | D57: 2153 | E57: =DAYS360(B56,B57) -> 56 | F57: =(D57-D56)/E57 -> 10.850714 | G57: 537 | H57: =(D57-D56)/G57 -> 1.1315456 | L57: 41851 | N57: 2274.96 | O57: =N57-D59 -> 13.27
B58: 41814 | D58: 2233.47 | E58: =DAYS360(B57,B58) -> 23 | F58: =(D58-D57)/E58 -> 3.4986957 | G58: 78.2 | H58: =(D58-D57)/G58 -> 1.0290281
B59: 41825 | D59: 2261.69 | E59: =DAYS360(B58,B59) -> 11 | F59: =(D59-D58)/E59 -> 2.5654545
B60: 41852 | D60: 2274.96 | E60: =DAYS360(B59,B60) -> 26 | F60: =(D60-D59)/E60 -> 0.51038462
B61: 41882 | D61: 2314.32 | E61: =DAYS360(B60,B61) -> 30 | F61: =(D61-D60)/E61 -> 1.312 | G61: 13 | I61: =D61-D60 -> 39.36
B62: 41889 | D62: 2330.23 | E62: =DAYS360(B61,B62) -> 7 | F62: =(D62-D61)/E62 -> 2.2728571 | G62: =3.8*7 -> 26.6 | H62: =(D62-D61)/G62 -> 0.5981203
B63: 41929 | D63: 2507 | E63: =DAYS360(B62,B63) -> 40 | F63: =(D63-D62)/E63 -> 4.41925 | G63: =7*40 -> 280 | H63: =(D63-D62)/G63 -> 0.63132143
B64: 41951 | D64: 2695.68 | E64: =DAYS360(B63,B64) -> 21 | F64: =(D64-D63)/E64 -> 8.9847619 | G64: =21*12.5 -> 262.5 | H64: =(D64-D63)/G64 -> 0.71878095
B65: 42035 | D65: 3422.93 | E65: =DAYS360(B64,B65) -> 83 | F65: =(D65-D64)/E65 -> 8.7620482 | G65: 1643 | H65: =(D65-D64)/G65 -> 0.44263542 | L65: =D65-D52 -> 2927.77 | N65: =B65-B52 -> 402 | P65: =L65/N65*365 -> 2658.2986
B66: 42099 | D66: 3996.35 | E66: =DAYS360(B65,B66) -> 65 | F66: =(D66-D65)/E66 -> 8.8218462 | G66: =524+505+80 -> 1109 | H66: =(D66-D65)/G66 -> 0.51706041 | L66: =D66-D65 -> 573.42
B67: 42127 | D67: 4186.01 | E67: =DAYS360(B66,B67) -> 28 | F67: =(D67-D66)/E67 -> 6.7735714 | G67: 372 | H67: =(D67-D66)/G67 -> 0.50983871 | L67: =D67-D66 -> 189.66
B68: 42148 | D68: 4288.13 | E68: =DAYS360(B67,B68) -> 21 | F68: =(D68-D67)/E68 -> 4.8628571 | G68: 125 | H68: =(D68-D67)/G68 -> 0.81696 | L68: =D68-D67 -> 102.12
B69: 42180 | D69: 4366.53 | E69: =DAYS360(B68,B69) -> 31 | F69: =(D69-D68)/E69 -> 2.5290323 | G69: 8 | H69: =(D69-D68)/G69 -> 9.8 | L69: =D69-D68 -> 78.4
B70: 42233 | D70: 4444.18 | E70: =DAYS360(B69,B70) -> 52 | F70: =(D70-D69)/E70 -> 1.4932692 | G70: 5 | H70: =(D70-D69)/G70 -> 15.53
B71: 42295 | D71: 4652.76 | E71: =DAYS360(B70,B71) -> 61 | F71: =(D71-D70)/E71 -> 3.4193443 | G71: =70+18*(17-4) -> 304 | H71: =(D71-D70)/G71 -> 0.68611842 | L71: =D71-D63 -> 2145.76
B72: 42346 | D72: 5072.02 | E72: =DAYS360(B71,B72) -> 50 | F72: =(D72-D71)/E72 -> 8.3852 | G72: =13.5*50 -> 675 | H72: =(D72-D71)/G72 -> 0.62112593
B73: 42361 | D73: 5193.02 | E73: =DAYS360(B72,B73) -> 15 | F73: =(D73-D72)/E73 -> 8.0666667 | G73: =14*15 -> 210 | H73: =(D73-D72)/G73 -> 0.57619048

Sheet 2014
A1: SÄHKÖNKULUTUSRAPORTTI | D1: 2014
A3: Imatra omakotitalo 4H+K+S | D3: Asuinala | F3: 110 | G3: m2 | H3: Taloussähkö arvio | K3: 13.5 | L3: kWh/d
D4: Tilavuus | F4: =2.52*F3 -> 277.2 | G4: m3 | H4: Kesäkuukausien keskikulutus (ilman ILP) | K4: =SUM(I11:K11)/92 -> 12.847826 | L4: kWh/d
A6: Jakso | D6: Tammi | E6: Helmi | F6: Maalis | G6: Huhti | H6: Touko | I6: Kesä | J6: Heinä | K6: Elo | L6: Syys | M6: Loka | N6: Marras | O6: Joulu | P6: Yhteensä
D7: 31 | E7: 28 | F7: 31 | G7: 30 | H7: 31 | I7: 30 | J7: 31 | K7: 31 | L7: 30 | M7: 31 | N7: 30 | O7: 31 | P7: =SUM(D7:O7) -> 365
A8: 2015 | B8: Keskilämpötila | C8: oC | D8: -9.5 | E8: -1.4 | F8: 0.8 | G8: 4.9 | H8: 10.6 | I8: 13.4 | J8: 20 | K8: 17 | L8: 11.8 | M8: 3.9 | N8: 0.5 | O8: -2.5 | P8: =AVERAGE(D8:O8) -> 5.7916667
A9: 2014 | B9: Sähkö päivä | C9: kWh | D9: 962 | E9: 609 | F9: 592 | G9: 471 | H9: 406 | I9: 291 | J9: 191 | K9: =25+293 -> 318 | L9: 439 | M9: 831 | N9: 976 | O9: 1245 | P9: =SUM(D9:O9) -> 7331
A10: 2014 | B10: Sähkö yö | C10: kWh | D10: 726 | E10: 491 | F10: 499 | G10: 444 | H10: 342 | I10: 196 | J10: 160 | K10: 26 | L10: 0 | M10: 0 | N10: 0 | P10: =SUM(D10:O10) -> 2884
A11: 2014 | B11: Sähkö yhteensä | C11: kWh | D11: =SUM(D9:D10) -> 1688 | E11: =SUM(E9:E10) -> 1100 | F11: =SUM(F9:F10) -> 1091 | G11: =SUM(G9:G10) -> 915 | H11: =SUM(H9:H10) -> 748 | I11: =SUM(I9:I10) -> 487 | J11: =SUM(J9:J10) -> 351 | K11: =SUM(K9:K10) -> 344 | ... O11: =SUM(O9:O10) -> 1245 | P11: =SUM(D11:O11) -> 10215
A12: 2014 | B12: Ilmalämpöpumppu, arvio | C12: kWh | D12: =0.459*D13 -> 377.298 | E12: =0.443*E13 -> 228.145 | F12: =0.648*F13 -> 327.24 | G12: =1.132*G13 -> 384.88 | H12: =1.132*H13 -> 223.004 | I12: =1.029*I13 -> 36.015 | J12: 4 | K12: 39 | L12: 132 | M12: =0.63*M13 -> 255.78 | N12: =0.72*N13 -> 356.4 | O12: =0.46*O13 -> 278.76 | P12: =SUM(D12:O12) -> 2642.522
A13: 2014 | B13: Lämmitystarveluku toteutunut | C13: oCd | D13: 822 | E13: 515 | F13: 505 | G13: 340 | H13: 197 | I13: 35 | J13: 0 | K13: 13 | L13: 114 | M13: 406 | N13: 495 | O13: 606 | P13: =SUM(D13:O13) -> 4048
A14: 2014 | B14: Lämmitystarveluku normivuosi | C14: oCd | D14: 759 | E14: 699 | F14: 621 | G14: 403 | H14: 165 | I14: 22 | J14: 5 | K14: 28 | L14: 184 | M14: 386 | N14: 546 | O14: 692 | P14: 4510
A15: 2014 | B15: Taloussähkö (arvio) | C15: kWh | D15: =$K$3*D7 -> 418.5 | E15: =$K$3*E7 -> 378 | F15: =$K$3*F7 -> 418.5 | G15: =$K$3*G7 -> 405 | H15: =$K$3*H7 -> 418.5 | I15: =$K$3*I7 -> 405 | J15: =$K$3*J7 -> 418.5 | K15: =$K$3*K7 -> 418.5 | ... O15: =$K$3*O7 -> 418.5 | P15: =SUM(D15:O15) -> 4927.5
A16: 2014 | B16: Lämmityssähkö (arvio) | C16: kWh | D16: =D11-D15 -> 1269.5 | E16: =E11-E15 -> 722 | F16: =F11-F15 -> 672.5 | G16: =G11-G15 -> 510 | H16: =H11-H15 -> 329.5 | I16: 20 | J16: 0 | K16: 60 | L16: =L11-L15 -> 34 | M16: =M11-M15 -> 412.5 | N16: =N11-N15 -> 571 | O16: =O11-O15 -> 826.5 | P16: =SUM(D16:O16) -> 5427.5
A17: 2014 | B17: Sääkorjattu lämmityssähkö | C17: kWh | D17: =IF(D16<0,0,((D14/D13))*D16) -> 1172.2026 | E17: =IF(E16<0,0,((E14/E13))*E16) -> 979.95728 | F17: =IF(F16<0,0,((F14/F13))*F16) -> 826.97525 | G17: =IF(G16<0,0,((G14/G13))*G16) -> 604.5 | H17: =IF(H16<0,0,((H14/H13))*H16) -> 275.97716 | I17: =I16 -> 20 | J17: 0 | K17: 60 | L17: =IF(L16<0,0,((L14/L13))*L16) -> 54.877193 | M17: =IF(M16<0,0,((M14/M13))*M16) -> 392.1798 | N17: =IF(N16<0,0,((N14/N13))*N16) -> 629.8303 | O17: =IF(O16<0,0,((O14/O13))*O16) -> 943.79208 | P17: =SUM(D17:O17) -> 5960.2916
A20: Kulutus päivässä | C20: kWh/d | D20: =D11/D7 -> 54.451613 | E20: =E11/E7 -> 39.285714 | F20: =F11/F7 -> 35.193548 | G20: =G11/G7 -> 30.5 | H20: =H11/H7 -> 24.129032 | I20: =I11/I7 -> 16.233333 | J20: =J11/J7 -> 11.322581 | K20: =K11/K7 -> 11.096774 | ... O20: =O11/O7 -> 40.16129 | P20: =P10/365 -> 7.9013699
B21: Kumulatiivinen kulutus | C21: kWh | D21: =SUM(D11) -> 1688 | E21: =SUM($D$11:E11) -> 2788 | F21: =SUM($D$11:F11) -> 3879 | G21: =SUM($D$11:G11) -> 4794 | H21: =SUM($D$11:H11) -> 5542 | I21: =SUM($D$11:I11) -> 6029 | J21: =SUM($D$11:J11) -> 6380 | K21: =SUM($D$11:K11) -> 6724 | L21: =SUM($D$11:L11) -> 7163 | ... O21: =SUM($D$11:O11) -> 10215
B22: Kumulatiivinen kulutus ILP | C22: kWh | D22: =SUM(D12) -> 377.298 | E22: =SUM($D$12:E12) -> 605.443 | F22: =SUM($D$12:F12) -> 932.683 | G22: =SUM($D$12:G12) -> 1317.563 | H22: =SUM($D$12:H12) -> 1540.567 | I22: =SUM($D$12:I12) -> 1576.582 | J22: =SUM($D$12:J12) -> 1580.582 | K22: =SUM($D$12:K12) -> 1619.582 | L22: =SUM($D$12:L12) -> 1751.582 | ... O22: =SUM($D$12:O12) -> 2642.522
B23: Kumulatiivinen kulutus lämmitys | C23: kWh | D23: =SUM(D16) -> 1269.5 | E23: =SUM($D$16:E16) -> 1991.5 | F23: =SUM($D$16:F16) -> 2664 | G23: =SUM($D$16:G16) -> 3174 | H23: =SUM($D$16:H16) -> 3503.5 | I23: =SUM($D$16:I16) -> 3523.5 | J23: =SUM($D$16:J16) -> 3523.5 | K23: =SUM($D$16:K16) -> 3583.5 | L23: =SUM($D$16:L16) -> 3617.5 | ... O23: =SUM($D$16:O16) -> 5427.5
A25: Lämmitys
B26: Lämmityksen osuus kulutuksesta | D26: =D16/D11 -> 0.75207346 | E26: =E16/E11 -> 0.65636364 | F26: =F16/F11 -> 0.61640697 | G26: =G16/G11 -> 0.55737705 | H26: =H16/H11 -> 0.44050802 | I26: =I16/I11 -> 0.041067762 | J26: =J16/J11 -> 0 | K26: =K16/K11 -> 0.1744186 | ... P26: =P16/P11 -> 0.53132648
B27: Sähkönkulutus lämmitykseen | C27: kWh/oCd | D27: =D16/D13 -> 1.5444039 | E27: =E16/E13 -> 1.4019417 | F27: =F16/F13 -> 1.3316832 | G27: =G16/G13 -> 1.5 | H27: =H16/H13 -> 1.6725888 | I27: =I16/I13 -> 0.57142857 | J27: =J16/J13 -> #DIV/0! | K27: =K16/K13 -> 4.6153846 | ... P27: =P16/P13 -> 1.3407856
B28: Sähkönkulutus lämmitykseen | C28: kWh/d | D28: =D16/D7 -> 40.951613 | E28: =E16/E7 -> 25.785714 | F28: =F16/F7 -> 21.693548 | G28: =G16/G7 -> 17 | H28: =H16/H7 -> 10.629032 | I28: =I16/I7 -> 0.66666667 | J28: =J16/J7 -> 0 | K28: =K16/K7 -> 1.9354839 | ... P28: =P16/P7 -> 14.869863
B29: Norm sähkö lämmitykseen | C29: kWh/d | D29: =D17/D7 -> 37.812986 | E29: =E17/E7 -> 34.998474 | F29: =F17/F7 -> 26.676621 | G29: =G17/G7 -> 20.15 | H29: =H17/H7 -> 8.9024889 | I29: =I17/I7 -> 0.66666667 | J29: =J17/J7 -> 0 | K29: =K17/K7 -> 1.9354839 | ... P29: =P17/P7 -> 16.329566
B30: Ominaislämmönkulutus | C30: kWh/m3 | D30: =D16/$F$4 -> 4.5797258 | E30: =E16/$F$4 -> 2.6046176 | F30: =F16/$F$4 -> 2.4260462 | G30: =G16/$F$4 -> 1.8398268 | H30: =H16/$F$4 -> 1.1886724 | I30: =I16/$F$4 -> 0.072150072 | J30: =J16/$F$4 -> 0 | K30: =K16/$F$4 -> 0.21645022 | ... P30: =P16/$F$4 -> 19.579726
B31: Ominaislämmönkulutus | C31: kWh/m2 | D31: =D16/$F$3 -> 11.540909 | E31: =E16/$F$3 -> 6.5636364 | F31: =F16/$F$3 -> 6.1136364 | G31: =G16/$F$3 -> 4.6363636 | H31: =H16/$F$3 -> 2.9954545 | I31: =I16/$F$3 -> 0.18181818 | J31: =J16/$F$3 -> 0 | K31: =K16/$F$3 -> 0.54545455 | ... P31: =P16/$F$3 -> 49.340909
B32: Norm lämmönkulutus | C32: kWh/m3 | D32: =D17/$F$4 -> 4.2287249 | E32: =E17/$F$4 -> 3.5351994 | F32: =F17/$F$4 -> 2.9833162 | G32: =G17/$F$4 -> 2.1807359 | H32: =H17/$F$4 -> 0.99558859 | I32: =I17/$F$4 -> 0.072150072 | J32: =J17/$F$4 -> 0 | K32: =K17/$F$4 -> 0.21645022 | ... P32: =P17/$F$4 -> 21.501774
B33: Norm lämmönkulutus | C33: kWh/m2 | D33: =D17/$F$3 -> 10.656387 | E33: =E17/$F$3 -> 8.9087026 | F33: =F17/$F$3 -> 7.5179568 | G33: =G17/$F$3 -> 5.4954545 | H33: =H17/$F$3 -> 2.5088832 | I33: =I17/$F$3 -> 0.18181818 | J33: =J17/$F$3 -> 0 | K33: =K17/$F$3 -> 0.54545455 | ... P33: =P17/$F$3 -> 54.184469
B34: Ominaislämmönkulutus | C34: Wh/m3/oCd | D34: =1000*D30/D13 -> 5.5714426 | E34: =1000*E30/E13 -> 5.0575099 | F34: =1000*F30/F13 -> 4.8040518 | G34: =1000*G30/G13 -> 5.4112554 | H34: =1000*H30/H13 -> 6.0338702 | I34: =1000*I30/I13 -> 2.0614306 | J34: =1000*J30/J13 -> #DIV/0! | K34: =1000*K30/K13 -> 16.650017 | ... P34: =1000*P30/P13 -> 4.8368888
A36: Vuosikulutusarvio
B38: Lämmityssähkö ILPillä | D38: =4400*1.3 -> 5720 | E38: kWh | F38: =D38/$D$40 -> 0.53721531 | G38: Arvio lämmityssähkö ilman ILP | K38: ='2007'!D34 -> 8566 | L38: kWh | M38: Vuosikulutusarvio ilma ILP
B39: Taloussähkö | D39: =K3*365 -> 4927.5 | E39: kWh | F39: =D39/$D$40 -> 0.46278469 | G39: Arvio ILPin säästämästä sähköstä | K39: =K38-D38 -> 2846 | L39: kWh | N39: ='2007'!I36 -> 14540 | O39: kWh
B40: Yhteensä | D40: =SUM(D38:D39) -> 10647.5 | E40: kWh | G40: Säästöarvio lämmityssähkönkulutuksesta | K40: =K39/K38 -> 0.33224375
G41: Säästöarvio kokonaissähkönkulutuksesta | K41: =K39/(SUM(D39)+K38) -> 0.21091637
A51: ILP | D51: lukema | E51: päivät | F51: kulutus | G51: astepäivät
B52: 41633 | D52: 495.16
B53: 41645 | D53: 584.7 | E53: =DAYS360(B52,B53) -> 11 | F53: =(D53-D52)/E53 -> 8.14 | G53: 195 | H53: =(D53-D52)/G53 -> 0.45917949
B54: 41692 | D54: 1079.44 | E54: =DAYS360(B53,B54) -> 46 | F54: =(D54-D53)/E54 -> 10.755217 | G54: 1116 | H54: =(D54-D53)/G54 -> 0.44331541
B55: 41720 | D55: 1376.73 | E55: =DAYS360(B54,B55) -> 30 | F55: =(D55-D54)/E55 -> 9.9096667 | G55: 459 | H55: =(D55-D54)/G55 -> 0.64769063
B56: 41734 | D56: 1545.36 | E56: =DAYS360(B55,B56) -> 13 | F56: =(D56-D55)/E56 -> 12.971538 | G56: 173 | H56: =(D56-D55)/G56 -> 0.97473988 | N56: jäähdytys
B57: 41791 | D57: 2153 | E57: =DAYS360(B56,B57) -> 56 | F57: =(D57-D56)/E57 -> 10.850714 | G57: 537 | H57: =(D57-D56)/G57 -> 1.1315456 | L57: 41851 | N57: 2274.96 | O57: =N57-D59 -> 13.27
B58: 41814 | D58: 2233.47 | E58: =DAYS360(B57,B58) -> 23 | F58: =(D58-D57)/E58 -> 3.4986957 | G58: 78.2 | H58: =(D58-D57)/G58 -> 1.0290281
B59: 41825 | D59: 2261.69 | E59: =DAYS360(B58,B59) -> 11 | F59: =(D59-D58)/E59 -> 2.5654545
B60: 41852 | D60: 2274.96 | E60: =DAYS360(B59,B60) -> 26 | F60: =(D60-D59)/E60 -> 0.51038462
B61: 41882 | D61: 2314.32 | E61: =DAYS360(B60,B61) -> 30 | F61: =(D61-D60)/E61 -> 1.312 | G61: 13 | I61: =D61-D60 -> 39.36
B62: 41889 | D62: 2330.23 | E62: =DAYS360(B61,B62) -> 7 | F62: =(D62-D61)/E62 -> 2.2728571 | G62: =3.8*7 -> 26.6 | H62: =(D62-D61)/G62 -> 0.5981203
B63: 41929 | D63: 2507 | E63: =DAYS360(B62,B63) -> 40 | F63: =(D63-D62)/E63 -> 4.41925 | G63: =7*40 -> 280 | H63: =(D63-D62)/G63 -> 0.63132143
B64: 41951 | D64: 2695.68 | E64: =DAYS360(B63,B64) -> 21 | F64: =(D64-D63)/E64 -> 8.9847619 | G64: =21*12.5 -> 262.5 | H64: =(D64-D63)/G64 -> 0.71878095
B65: 42035 | D65: 3422.93 | E65: =DAYS360(B64,B65) -> 83 | F65: =(D65-D64)/E65 -> 8.7620482 | G65: =O13+N13/30*22+674 -> 1643 | H65: =(D65-D64)/G65 -> 0.44263542 | L65: =D65-D52 -> 2927.77 | N65: =B65-B52 -> 402 | P65: =L65/N65*365 -> 2658.2986

Sheet 2013
A1: SÄHKÖNKULUTUSRAPORTTI | D1: 2013
A3: Imatra omakotitalo 4H+K+S | D3: Asuinala | F3: 110 | G3: m2 | H3: Taloussähkö arvio | K3: =K4+2 -> 13.532609 | L3: kWh/d
D4: Tilavuus | F4: =2.52*F3 -> 277.2 | G4: m3 | H4: Kesäkuukausien keskikulutus (ilman ILP) | K4: =SUM(I11:K11)/92 -> 11.532609 | L4: kWh/d
A6: Jakso | D6: Tammi | E6: Helmi | F6: Maalis | G6: Huhti | H6: Touko | I6: Kesä | J6: Heinä | K6: Elo | L6: Syys | M6: Loka | N6: Marras | O6: Joulu | P6: Yhteensä
D7: 31 | E7: 28 | F7: 31 | G7: 30 | H7: 31 | I7: 30 | J7: 31 | K7: 31 | L7: 30 | M7: 31 | N7: 30 | O7: 31 | P7: =SUM(D7:O7) -> 365
A8: 2013 | B8: Keskilämpötila | C8: oC | D8: -7.4 | E8: -3.7 | F8: -7.8 | G8: 2.6 | H8: 13.1 | I8: 18.3 | J8: 17.6 | K8: 16.6 | L8: 11.2 | M8: 5.7 | N8: 2.3 | O8: -0.5 | P8: =AVERAGE(D8:O8) -> 5.6666667
A9: 2013 | B9: Sähkö päivä | C9: kWh | D9: 827 | E9: 577 | F9: 807 | G9: 508 | H9: 280 | I9: 170 | J9: 182 | K9: 223 | L9: 312 | M9: 452 | N9: 568 | O9: 678 | P9: =SUM(D9:O9) -> 5584 | S9: =P9/$P$11 -> 0.55250532
A10: 2013 | B10: Sähkö yö | C10: kWh | D10: 781 | E10: 504 | F10: 703 | G10: 464 | H10: 220 | I10: 159 | J10: 152 | K10: 175 | L10: 208 | M10: 312 | N10: 379 | O10: 467 | P10: =SUM(D10:O10) -> 4524 | S10: =P10/$P$11 -> 0.4476243
A11: 2013 | B11: Sähkö yhteensä | C11: kWh | D11: =SUM(D9:D10) -> 1608 | E11: =SUM(E9:E10) -> 1081 | F11: =SUM(F9:F10) -> 1510 | G11: =SUM(G9:G10) -> 972 | H11: =SUM(H9:H10) -> 500 | I11: =SUM(I9:I10) -> 329 | J11: =SUM(J9:J10) -> 334 | K11: =SUM(K9:K10) -> 398 | ... N11: =SUM(N9:N10) -> 947 | O11: 1143.69 | P11: =SUM(D11:O11) -> 10106.69 | S11: =P11/$P$11 -> 1
A12: 2013 | B12: Ilmalämpöpumppu, arvio | C12: kWh | D12: =0.488*D13 -> 368.928 | E12: =0.488*E13 -> 283.528 | F12: =0.488*F13 -> 375.76 | G12: =3*30 -> 90 | H12: 20 | I12: 0 | J12: 0 | K12: 0 | L12: =0.488*L13 -> 46.848 | M12: =0.488*M13 -> 170.8 | N12: =0.488*N13 -> 214.72 | O12: 171 | P12: =SUM(D12:O12) -> 1741.584 | S12: =P12/$P$11 -> 0.17231992
A13: 2013 | B13: Lämmitystarveluku toteutunut | C13: oCd | D13: 756 | E13: 581 | F13: 770 | G13: 433 | H13: 64 | I13: 0 | J13: 0 | K13: 0 | L13: 96 | M13: 350 | N13: 440 | O13: 541 | P13: =SUM(D13:O13) -> 4031
A14: 2013 | B14: Lämmitystarveluku normivuosi | C14: oCd | D14: 771 | E14: 702 | F14: 624 | G14: 425 | H14: 177 | I14: 26 | J14: 6 | K14: 34 | L14: 204 | M14: 404 | N14: 548 | O14: 691 | P14: =SUM(D14:O14) -> 4612
A15: 2013 | B15: Taloussähkö (arvio) | C15: kWh | D15: =$K$3*D7 -> 419.51087 | E15: =$K$3*E7 -> 378.91304 | F15: =$K$3*F7 -> 419.51087 | G15: =$K$3*G7 -> 405.97826 | H15: =$K$3*H7 -> 419.51087 | I15: =$K$3*I7 -> 405.97826 | J15: =$K$3*J7 -> 419.51087 | K15: =$K$3*K7 -> 419.51087 | ... O15: =$K$3*O7 -> 419.51087 | P15: =SUM(D15:O15) -> 4939.4022
A16: 2013 | B16: Lämmityssähkö (arvio) | C16: kWh | D16: =D11-D15 -> 1188.4891 | E16: =E11-E15 -> 702.08696 | F16: =F11-F15 -> 1090.4891 | G16: =G11-G15 -> 566.02174 | H16: =H11-H15 -> 80.48913 | I16: 20 | J16: 0 | K16: 60 | L16: =L11-L15 -> 114.02174 | M16: =M11-M15 -> 344.48913 | N16: =N11-N15 -> 541.02174 | O16: =O11-O15 -> 724.17913 | P16: =SUM(D16:O16) -> 5431.2878
A17: 2013 | B17: Sääkorjattu lämmityssähkö | C17: kWh | D17: =IF(D16<0,0,((D14/D13))*D16) -> 1212.0703 | E17: =IF(E16<0,0,((E14/E13))*E16) -> 848.30472 | F17: =IF(F16<0,0,((F14/F13))*F16) -> 883.72106 | G17: =IF(G16<0,0,((G14/G13))*G16) -> 555.56406 | H17: =IF(H16<0,0,((H14/H13))*H16) -> 222.60275 | I17: =I16 -> 20 | J17: 0 | K17: 60 | L17: =IF(L16<0,0,((L14/L13))*L16) -> 242.2962 | M17: =IF(M16<0,0,((M14/M13))*M16) -> 397.63888 | N17: =IF(N16<0,0,((N14/N13))*N16) -> 673.81798 | O17: =IF(O16<0,0,((O14/O13))*O16) -> 924.96817 | P17: =SUM(D17:O17) -> 6040.9841 | R17: =P16-P12 -> 3689.7038
A20: Kulutus päivässä | C20: kWh/d | D20: =D11/D7 -> 51.870968 | E20: =E11/E7 -> 38.607143 | F20: =F11/F7 -> 48.709677 | G20: =G11/G7 -> 32.4 | H20: =H11/H7 -> 16.129032 | I20: =I11/I7 -> 10.966667 | J20: =J11/J7 -> 10.774194 | K20: =K11/K7 -> 12.83871 | ... O20: =O11/O7 -> 36.893226 | P20: =P10/365 -> 12.394521
B21: Kumulatiivinen kulutus | C21: kWh | D21: =SUM(D11) -> 1608 | E21: =SUM($D$11:E11) -> 2689 | F21: =SUM($D$11:F11) -> 4199 | G21: =SUM($D$11:G11) -> 5171 | H21: =SUM($D$11:H11) -> 5671 | I21: =SUM($D$11:I11) -> 6000 | J21: =SUM($D$11:J11) -> 6334 | K21: =SUM($D$11:K11) -> 6732 | L21: =SUM($D$11:L11) -> 7252 | ... O21: =SUM($D$11:O11) -> 10106.69
B22: Kumulatiivinen kulutus ILP | C22: kWh | D22: =SUM(D12) -> 368.928 | E22: =SUM($D$12:E12) -> 652.456 | F22: =SUM($D$12:F12) -> 1028.216 | G22: =SUM($D$12:G12) -> 1118.216 | H22: =SUM($D$12:H12) -> 1138.216 | I22: =SUM($D$12:I12) -> 1138.216 | J22: =SUM($D$12:J12) -> 1138.216 | K22: =SUM($D$12:K12) -> 1138.216 | L22: =SUM($D$12:L12) -> 1185.064 | ... O22: =SUM($D$12:O12) -> 1741.584
B23: Kumulatiivinen kulutus lämmitys | C23: kWh | D23: =SUM(D16) -> 1188.4891 | E23: =SUM($D$16:E16) -> 1890.5761 | F23: =SUM($D$16:F16) -> 2981.0652 | G23: =SUM($D$16:G16) -> 3547.087 | H23: =SUM($D$16:H16) -> 3627.5761 | I23: =SUM($D$16:I16) -> 3647.5761 | J23: =SUM($D$16:J16) -> 3647.5761 | K23: =SUM($D$16:K16) -> 3707.5761 | L23: =SUM($D$16:L16) -> 3821.5978 | ... O23: =SUM($D$16:O16) -> 5431.2878
A25: Lämmitys
B26: Lämmityksen osuus kulutuksesta | D26: =D16/D11 -> 0.73911016 | E26: =E16/E11 -> 0.64947915 | F26: =F16/F11 -> 0.72217823 | G26: =G16/G11 -> 0.58232689 | H26: =H16/H11 -> 0.16097826 | I26: =I16/I11 -> 0.060790274 | J26: =J16/J11 -> 0 | K26: =K16/K11 -> 0.15075377 | ... P26: =P16/P11 -> 0.53739531
B27: Sähkönkulutus lämmitykseen | C27: kWh/oCd | D27: =D16/D13 -> 1.5720756 | E27: =E16/E13 -> 1.2084113 | F27: =F16/F13 -> 1.4162196 | G27: =G16/G13 -> 1.3072096 | H27: =H16/H13 -> 1.2576427 | I27: =I16/I13 -> #DIV/0! | J27: =J16/J13 -> #DIV/0! | K27: =K16/K13 -> #DIV/0! | ... P27: =P16/P13 -> 1.3473798
B28: Sähkönkulutus lämmitykseen | C28: kWh/d | D28: =D16/D7 -> 38.338359 | E28: =E16/E7 -> 25.074534 | F28: =F16/F7 -> 35.177069 | G28: =G16/G7 -> 18.867391 | H28: =H16/H7 -> 2.5964236 | I28: =I16/I7 -> 0.66666667 | J28: =J16/J7 -> 0 | K28: =K16/K7 -> 1.9354839 | ... P28: =P16/P7 -> 14.880241
B29: Norm sähkö lämmitykseen | C29: kWh/d | D29: =D17/D7 -> 39.099041 | E29: =E17/E7 -> 30.296597 | F29: =F17/F7 -> 28.507131 | G29: =G17/G7 -> 18.518802 | H29: =H17/H7 -> 7.1807339 | I29: =I17/I7 -> 0.66666667 | J29: =J17/J7 -> 0 | K29: =K17/K7 -> 1.9354839 | ... P29: =P17/P7 -> 16.550641
B30: Ominaislämmönkulutus | C30: kWh/m3 | D30: =D16/$F$4 -> 4.2874788 | E30: =E16/$F$4 -> 2.5327812 | F30: =F16/$F$4 -> 3.9339435 | G30: =G16/$F$4 -> 2.0419255 | H30: =H16/$F$4 -> 0.29036483 | I30: =I16/$F$4 -> 0.072150072 | J30: =J16/$F$4 -> 0 | K30: =K16/$F$4 -> 0.21645022 | ... P30: =P16/$F$4 -> 19.59339
B31: Ominaislämmönkulutus | C31: kWh/m2 | D31: =D16/$F$3 -> 10.804447 | E31: =E16/$F$3 -> 6.3826087 | F31: =F16/$F$3 -> 9.9135375 | G31: =G16/$F$3 -> 5.1456522 | H31: =H16/$F$3 -> 0.73171937 | I31: =I16/$F$3 -> 0.18181818 | J31: =J16/$F$3 -> 0 | K31: =K16/$F$3 -> 0.54545455 | ... P31: =P16/$F$3 -> 49.375344
B32: Norm lämmönkulutus | C32: kWh/m3 | D32: =D17/$F$4 -> 4.3725478 | E32: =E17/$F$4 -> 3.0602623 | F32: =F17/$F$4 -> 3.1880269 | G32: =G17/$F$4 -> 2.0041994 | H32: =H17/$F$4 -> 0.80304023 | I32: =I17/$F$4 -> 0.072150072 | J32: =J17/$F$4 -> 0 | K32: =K17/$F$4 -> 0.21645022 | ... P32: =P17/$F$4 -> 21.792872
B33: Norm lämmönkulutus | C33: kWh/m2 | D33: =D17/$F$3 -> 11.018821 | E33: =E17/$F$3 -> 7.7118611 | F33: =F17/$F$3 -> 8.0338278 | G33: =G17/$F$3 -> 5.0505824 | H33: =H17/$F$3 -> 2.0236614 | I33: =I17/$F$3 -> 0.18181818 | J33: =J17/$F$3 -> 0 | K33: =K17/$F$3 -> 0.54545455 | ... P33: =P17/$F$3 -> 54.918037
B34: Ominaislämmönkulutus | C34: Wh/m3/oCd | D34: =1000*D30/D13 -> 5.6712683 | E34: =1000*E30/E13 -> 4.3593481 | F34: =1000*F30/F13 -> 5.1090175 | G34: =1000*G30/G13 -> 4.7157632 | H34: =1000*H30/H13 -> 4.5369504 | I34: =1000*I30/I13 -> #DIV/0! | J34: =1000*J30/J13 -> #DIV/0! | K34: =1000*K30/K13 -> #DIV/0! | ... P34: =1000*P30/P13 -> 4.8606774
A36: Vuosikulutusarvio
B38: Lämmityssähkö ILPillä | D38: =4400*1.3 -> 5720 | E38: kWh | F38: =D38/$D$40 -> 0.53661546 | G38: Arvio lämmityssähkö ilman ILP | K38: ='2007'!D34 -> 8566 | L38: kWh | M38: Vuosikulutusarvio ilma ILP
B39: Taloussähkö | D39: =K3*365 -> 4939.4022 | E39: kWh | F39: =D39/$D$40 -> 0.46338454 | G39: Arvio ILPin säästämästä sähköstä | K39: =K38-D38 -> 2846 | L39: kWh | N39: ='2007'!I36 -> 14540 | O39: kWh
B40: Yhteensä | D40: =SUM(D38:D39) -> 10659.402 | E40: kWh | G40: Säästöarvio lämmityssähkönkulutuksesta | K40: =K39/K38 -> 0.33224375
G41: Säästöarvio kokonaissähkönkulutuksesta | K41: =K39/(SUM(D39)+K38) -> 0.21073049

Sheet 2012
A1: SÄHKÖNKULUTUSRAPORTTI | D1: 2012
A3: Imatra omakotitalo 4H+K+S | D3: Asuinala | F3: 110 | G3: m2 | H3: Taloussähkö arvio | K3: =3+K4 -> 16.304348 | L3: kWh/d
D4: Tilavuus | F4: =2.52*F3 -> 277.2 | G4: m3 | H4: Kesäkuukausien keskikulutus (ilman ILP) | K4: =SUM(I11:K11)/92 -> 13.304348 | L4: kWh/d
A6: Jakso | D6: Tammi | E6: Helmi | F6: Maalis | G6: Huhti | H6: Touko | I6: Kesä | J6: Heinä | K6: Elo | L6: Syys | M6: Loka | N6: Marras | O6: Joulu | P6: Yhteensä
D7: 31 | E7: 28 | F7: 31 | G7: 30 | H7: 31 | I7: 30 | J7: 31 | K7: 31 | L7: 30 | M7: 31 | N7: 30 | O7: 31 | P7: =SUM(D7:O7) -> 365
A8: 2012 | B8: Keskilämpötila | C8: oC | D8: -7.1 | E8: -11.9 | F8: -2 | G8: 2.3 | H8: 10.8 | I8: 13.8 | J8: 17.4 | K8: 14.3 | L8: 10.8 | M8: 4.5 | N8: 1.8 | O8: -10.1 | P8: =AVERAGE(D8:O8) -> 3.7166667
A9: 2012 | B9: Sähkö päivä | C9: kWh | D9: 784 | E9: 947 | F9: 561 | G9: 400 | H9: 299 | I9: 221 | J9: 208 | K9: 276 | L9: 338 | M9: 465 | N9: 515 | O9: 992 | P9: =SUM(D9:O9) -> 6006 | R9: =O9/$O$11 -> 0.51134021
A10: 2012 | B10: Sähkö yö | C10: kWh | D10: 652 | E10: 753 | F10: 527 | G10: 381 | H10: 256 | I10: 166 | J10: 165 | K10: 188 | L10: 201 | M10: 299 | N10: 410 | O10: 948 | P10: =SUM(D10:O10) -> 4946 | R10: =O10/$O$11 -> 0.48865979
A11: 2012 | B11: Sähkö yhteensä | C11: kWh | D11: =SUM(D9:D10) -> 1436 | E11: =SUM(E9:E10) -> 1700 | F11: =SUM(F9:F10) -> 1088 | G11: =SUM(G9:G10) -> 781 | H11: =SUM(H9:H10) -> 555 | I11: =SUM(I9:I10) -> 387 | J11: =SUM(J9:J10) -> 373 | K11: =SUM(K9:K10) -> 464 | ... O11: =SUM(O9:O10) -> 1940 | P11: =SUM(D11:O11) -> 10952 | R11: =O11/$O$11 -> 1
A12: 2012 | B12: Ilmalämpöpumppu | C12: kWh | P12: 1965 | R12: =O12/$O$11 -> 0
A13: 2012 | B13: Lämmitystarveluku toteutunut | C13: oCd | D13: 744 | E13: 830 | F13: 581 | G13: 422 | H13: 121 | I13: 15 | J13: 0 | K13: 37 | L13: 154 | M13: 385 | N13: 463 | O13: 836 | P13: =SUM(D13:O13) -> 4588 | R13: =(P13-'2010'!P13)/'2010'!P13 -> -0.08968254
A14: 2012 | B14: Lämmitystarveluku normivuosi | C14: oCd | D14: 771 | E14: 702 | F14: 624 | G14: 425 | H14: 177 | I14: 26 | J14: 6 | K14: 34 | L14: 204 | M14: 404 | N14: 548 | O14: 691 | P14: =SUM(D14:O14) -> 4612 | R14: =(P13-P14)/P14 -> -0.0052038161
A15: 2012 | B15: Taloussähkö (arvio) | C15: kWh | D15: =$K$3*D7 -> 505.43478 | E15: =$K$3*E7 -> 456.52174 | F15: =$K$3*F7 -> 505.43478 | G15: =$K$3*G7 -> 489.13043 | H15: =$K$3*H7 -> 505.43478 | I15: =$K$3*I7 -> 489.13043 | J15: =$K$3*J7 -> 505.43478 | K15: =$K$3*K7 -> 505.43478 | ... O15: =$K$3*O7 -> 505.43478 | P15: =SUM(D15:O15) -> 5951.087
A16: 2012 | B16: Lämmityssähkö (arvio) | C16: kWh | D16: =D11-D15 -> 930.56522 | E16: =E11-E15 -> 1243.4783 | F16: =F11-F15 -> 582.56522 | G16: =G11-G15 -> 291.86957 | H16: =H11-H15 -> 49.565217 | I16: 20 | J16: 0 | K16: 60 | L16: =L11-L15 -> 49.869565 | M16: =M11-M15 -> 258.56522 | N16: =N11-N15 -> 435.86957 | O16: =O11-O15 -> 1434.5652 | P16: =SUM(D16:O16) -> 5356.913
A17: 2012 | B17: Sääkorjattu lämmityssähkö | C17: kWh | D17: =IF(D16<0,0,((D14/D13))*D16) -> 964.33573 | E17: =IF(E16<0,0,((E14/E13))*E16) -> 1051.7129 | F17: =IF(F16<0,0,((F14/F13))*F16) -> 625.68106 | G17: =IF(G16<0,0,((G14/G13))*G16) -> 293.94447 | H17: =IF(H16<0,0,((H14/H13))*H16) -> 72.504492 | I17: =I16 -> 20 | J17: 0 | K17: 60 | L17: =IF(L16<0,0,((L14/L13))*L16) -> 66.060982 | M17: =IF(M16<0,0,((M14/M13))*M16) -> 271.32558 | N17: =IF(N16<0,0,((N14/N13))*N16) -> 515.88882 | O17: =IF(O16<0,0,((O14/O13))*O16) -> 1185.7471 | P17: =SUM(D17:O17) -> 5127.2012 | R17: =(P17-'2010'!P17)/'2010'!P17 -> -0.20472781
