Workbook
Name Print_Area_0: '2007'!$A$1:$P$26
Name Print_Area_0: '2008'!$A$1:$P$28
Name Print_Area_0: '2009'!$A$1:$P$28
Name Print_Area_0: '2010'!$A$1:$P$28
Name Print_Area_0: '2011'!$A$1:$P$28
Name Print_Area_0: '2012'!$A$1:$P$28
Name Print_Area_0: '2013'!$A$1:$P$28
Name Print_Area_0: '2014'!$A$1:$P$28
Name Print_Area_0: '2015'!$A$1:$P$28
Name Print_Area_0: '2016'!$A$1:$P$28
Name Print_Area_0: '2017'!$A$1:$P$28
Name Print_Area_0: '2018'!$A$1:$P$28
Name Print_Area_0: '2019'!$A$1:$P$28
Name Print_Area_0: '2020'!$A$1:$P$28
Name Print_Area_0: '2021'!$A$1:$P$29
Name Print_Area_0: '2022'!$A$1:$P$29
Name Print_Area_0: '2023'!$A$1:$P$29
Name Print_Area_0: '2024'!$A$1:$P$29
Name Print_Area_0: '2025'!$A$1:$P$29
Name Print_Area_0: '2026'!$A$1:$P$29
Name Print_Area_0: 'Naapurit I'!$A$1:$P$15
Name Print_Area_0: 'Naapurit II'!$A$1:$P$15
Name Print_Area_0_0: '2007'!$A$1:$P$26
Name Print_Area_0_0: '2008'!$A$1:$P$28
Name Print_Area_0_0: '2009'!$A$1:$P$28
Name Print_Area_0_0: '2010'!$A$1:$P$28
Name Print_Area_0_0: '2011'!$A$1:$P$28
Name Print_Area_0_0: '2012'!$A$1:$P$28
Name Print_Area_0_0: '2013'!$A$1:$P$28
Name Print_Area_0_0: '2014'!$A$1:$P$28
Name Print_Area_0_0: '2015'!$A$1:$P$28
Name Print_Area_0_0: '2016'!$A$1:$P$28
Name Print_Area_0_0: '2017'!$A$1:$P$28
Name Print_Area_0_0: '2018'!$A$1:$P$28
Name Print_Area_0_0: '2019'!$A$1:$P$28
Name Print_Area_0_0: '2020'!$A$1:$P$28
Name Print_Area_0_0: '2021'!$A$1:$P$29
Name Print_Area_0_0: '2022'!$A$1:$P$29
Name Print_Area_0_0: '2023'!$A$1:$P$29
Name Print_Area_0_0: '2024'!$A$1:$P$29
Name Print_Area_0_0: '2025'!$A$1:$P$29
Name Print_Area_0_0: '2026'!$A$1:$P$29
Name Print_Area_0_0: 'Naapurit I'!$A$1:$P$15
Name Print_Area_0_0: 'Naapurit II'!$A$1:$P$15

Sheet 2026
A1: SÄHKÖNKULUTUSRAPORTTI | D1: 2026 | R1: http://suja.kapsi.fi/asema-taulukko.php?asema=101130
R2: https://hlv.fi/asiakaspalvelu/lammitystarveluvut/
A3: Hyvinkää rivitalo 4H+K+S | D3: Asuinala | F3: 96 | G3: m2 | H3: Taloussähkö arvio (ilman lvv) | K3: 10 | L3: kWh/d | M3: Kesäkuukaudet | O3: =(SUM(I11:K11))/92 -> 7.6792391 | P3: kWh/d | R3: https://ilmatieteenlaitos.fi/havaintojen-lataus#!/
D4: Tilavuus | F4: =2.52*F3 -> 241.92 | G4: m3
A6: Jakso | D6: Tammi | E6: Helmi | F6: Maalis | G6: Huhti | H6: Touko | I6: Kesä | J6: Heinä | K6: Elo | L6: Syys | M6: Loka | N6: Marras | O6: Joulu | P6: Yhteensä
B7: päivät kuukaudessa | D7: 31 | E7: 28 | F7: 31 | G7: 30 | H7: 31 | I7: 30 | J7: 31 | K7: 31 | L7: 30 | M7: 31 | N7: 30 | O7: 31 | P7: =SUM(D7:O7) -> 365
A8: 2025 | B8: Keskilämpötila | C8: oC | D8: -10.2 | E8: -11.2 | F8: 2.8 | G8: 4.6 | H8: 11.6 | I8: 16.2 | J8: 16.7 | P8: =AVERAGE(D8:O8) -> 4.3571429
A9: 2025 | B9: Sähkö päivä | C9: kWh | D9: 751.42 | E9: 692.26 | F9: 367.59 | G9: 394.35 | H9: 277.46 | I9: 237.72 | J9: 208.63 | P9: =SUM(D9:O9) -> 2929.43 | R9: =P9/$P$11 -> 0.63071332
A10: 2025 | B10: Sähkö yö | C10: kWh | D10: 486.37 | E10: 478.32 | F10: 237.03 | G10: 149.65 | H10: 103.69 | I10: 118.78 | J10: 141.36 | P10: =SUM(D10:O10) -> 1715.2 | R10: =P10/$P$11 -> 0.36928668
A11: 2025 | B11: Sähkö yhteensä | C11: kWh | D11: =SUM(D9:D10) -> 1237.79 | E11: =SUM(E9:E10) -> 1170.58 | F11: =SUM(F9:F10) -> 604.62 | G11: =SUM(G9:G10) -> 544 | H11: =SUM(H9:H10) -> 381.15 | I11: =SUM(I9:I10) -> 356.5 | J11: =SUM(J9:J10) -> 349.99 | K11: =SUM(K9:K10) -> 0 | ... O11: =SUM(O9:O10) -> 0 | P11: =SUM(D11:O11) -> 4644.63 | R11: =P11/$P$11 -> 1
A12: 2025 | B12: Ilmalämpöpumppu | C12: kWh | D12: =(6701.86-5942.19) -> 759.67 | E12: =(7469.3-6701.86) -> 767.44 | F12: =(7737.11-7469.3) -> 267.81 | G12: =(7904.89-7737.11) -> 167.78 | H12: =(7949.93-7904.89) -> 45.04 | I12: =(7958.81-7949.93) -> 8.88 | J12: =15.83-1.68-9.17 -> 4.98 | P12: =SUM(D12:O12) -> 2021.6 | R12: =P12/$P$11 -> 0.43525534 | W12: ILP kulutus | X12: =P12+'2025'!X12 -> 40263.887 | Y12: kWh | Z12: =X12*1000/400 -> 100659.72 | AA12: h
A13: 2025 | B13: Lämmitystarveluku toteutunut | C13: oCd | D13: =830/1.02 -> 813.72549 | E13: =786/1.02 -> 770.58824 | F13: =433/1.02 -> 424.5098 | G13: =356/1.02 -> 349.01961 | H13: =66/1.02 -> 64.705882 | I13: 0 | J13: 0 | P13: =SUM(D13:O13) -> 2422.549 | R13: =(P14-P13)/P14 -> 0.41695571 | W13: ILP säästö | X13: =X12*2.7-X12 -> 68448.609 | Y13: kWh
A14: 2025 | B14: Lämmitystarveluku normivuosi | C14: oCd | D14: 693 | E14: 641 | F14: 588 | G14: 379 | H14: 154 | I14: 19 | J14: 4 | K14: 21 | L14: 165 | M14: 378 | N14: 494 | O14: 619 | P14: 4155
A15: 2025 | B15: Lämminvesivaraaja | C15: kWh | D15: 158 | E15: 137.5 | F15: 132.5 | G15: 148.5 | H15: 156 | I15: 135 | J15: 135 | P15: =SUM(D15:O15) -> 1002.5 | R15: =P15/$P$11 -> 0.21584066
A16: 2025 | B16: Lämmityssähkö (arvio) | C16: kWh | D16: =D12 -> 759.67 | E16: =E12 -> 767.44 | F16: =F12 -> 267.81 | G16: =G12 -> 167.78 | H16: =H12 -> 45.04 | I16: =I12 -> 8.88 | J16: =J12 -> 4.98 | K16: =K12 -> 0 | ... O16: =O12 -> 0 | P16: =SUM(D16:O16) -> 2021.6
A17: 2025 | B17: Sääkorjattu lämmityssähkö | C17: kWh | D17: =IF(D16<0,0,((D14/D13))*D16) -> 646.96426 | E17: =IF(E16<0,0,((E14/E13))*E16) -> 638.3812 | F17: =IF(F16<0,0,((F14/F13))*F16) -> 370.95087 | G17: =IF(G16<0,0,((G14/G13))*G16) -> 182.19211 | H17: =IF(H16=0,0,((H14/H13))*H16) -> 107.1952 | I17: =I16 -> 8.88 | J17: =J16 -> 4.98 | K17: =K16 -> 0 | L17: =IF(L16=0,0,((L14/L13))*L16) -> 0 | M17: =IF(M16=0,0,((M14/M13))*M16) -> 0 | N17: =IF(N16=0,0,((N14/N13))*N16) -> 0 | O17: =IF(O16=0,0,((O14/O13))*O16) -> 0 | P17: =SUM(D17:O17) -> 1959.5436 | R17: =(P14-P13)/P14 -> 0.41695571
A20: Kulutus päivässä | C20: kWh/d | D20: =D11/D7 -> 39.92871 | E20: =E11/E7 -> 41.806429 | F20: =F11/F7 -> 19.503871 | G20: =G11/G7 -> 18.133333 | H20: =H11/H7 -> 12.295161 | I20: =I11/I7 -> 11.883333 | J20: =J11/J7 -> 11.29 | K20: =K11/K7 -> 0 | ... O20: =O11/O7 -> 0 | P20: =P11/365 -> 12.725014
B21: Kumulatiivinen kulutus | C21: kWh | D21: =SUM(D11) -> 1237.79 | E21: =SUM($D$11:E11) -> 2408.37 | F21: =SUM($D$11:F11) -> 3012.99 | G21: =SUM($D$11:G11) -> 3556.99 | H21: =SUM($D$11:H11) -> 3938.14 | I21: =SUM($D$11:I11) -> 4294.64 | J21: =SUM($D$11:J11) -> 4644.63 | K21: =SUM($D$11:K11) -> 4644.63 | L21: =SUM($D$11:L11) -> 4644.63 | ... O21: =SUM($D$11:O11) -> 4644.63
B22: Kumulatiivinen kulutus ILP | C22: kWh | D22: =SUM(D12) -> 759.67 | E22: =SUM($D$12:E12) -> 1527.11 | F22: =SUM($D$12:F12) -> 1794.92 | G22: =SUM($D$12:G12) -> 1962.7 | H22: =SUM($D$12:H12) -> 2007.74 | I22: =SUM($D$12:I12) -> 2016.62 | J22: =SUM($D$12:J12) -> 2021.6 | K22: =SUM($D$12:K12) -> 2021.6 | L22: =SUM($D$12:L12) -> 2021.6 | ... O22: =SUM($D$12:O12) -> 2021.6
B23: Kumulatiivinen kulutus lämmitys | C23: kWh | D23: =SUM(D16) -> 759.67 | E23: =SUM($D$16:E16) -> 1527.11 | F23: =SUM($D$16:F16) -> 1794.92 | G23: =SUM($D$16:G16) -> 1962.7 | H23: =SUM($D$16:H16) -> 2007.74 | I23: =SUM($D$16:I16) -> 2016.62 | J23: =SUM($D$16:J16) -> 2021.6 | K23: =SUM($D$16:K16) -> 2021.6 | L23: =SUM($D$16:L16) -> 2021.6 | ... O23: =SUM($D$16:O16) -> 2021.6
B24: Taloussähkö ilman LKV | C24: kWh/d | D24: =(D11-D16-D15)/D7 -> 10.326452 | E24: =(E11-E16-E15)/E7 -> 9.4871429 | F24: =(F11-F16-F15)/F7 -> 6.5906452 | G24: =(G11-G16-G15)/G7 -> 7.5906667 | H24: =(H11-H16-H15)/H7 -> 5.81 | I24: =(I11-I16-I15)/I7 -> 7.0873333 | J24: =(J11-J16-J15)/J7 -> 6.7745161 | K24: =(K11-K16-K15)/K7 -> 0 | ... O24: =(O11-O16-O15)/O7 -> 0 | P24: =(P11-P16-P15) -> 1620.53
B25: Liukuva 12 kk kulutus | C25: kWh | D25: =D21+'2025'!$P$11-'2025'!D21 -> 7400.06 | E25: =E21+'2025'!$P$11-'2025'!E21 -> 7738.62 | F25: =F21+'2025'!$P$11-'2025'!F21 -> 7666.74 | G25: =G21+'2025'!$P$11-'2025'!G21 -> 7619.5 | H25: =H21+'2025'!$P$11-'2025'!H21 -> 7491.7 | I25: =I21+'2025'!$P$11-'2025'!I21 -> 7429.54 | J25: =J21+'2025'!$P$11-'2025'!J21 -> 7381.46 | K25: =K21+'2025'!$P$11-'2025'!K21 -> 7094.38 | ... O25: =O21+'2025'!$P$11-'2025'!O21 -> 4644.63
B26: Liukuva 12 kk kulutus ILP | C26: kWh | D26: =D22+SUM('2025'!E12:$O12) -> 2517.19 | E26: =E22+SUM('2025'!F12:$O12) -> 2905.76 | F26: =F22+SUM('2025'!G12:$O12) -> 2901.28 | G26: =G22+SUM('2025'!H12:$O12) -> 2908 | H26: =H22+SUM('2025'!I12:$O12) -> 2864.48 | I26: =I22+SUM('2025'!J12:$O12) -> 2843.85 | J26: =J22+SUM('2025'!K12:$O12) -> 2843.67 | K26: =K22+SUM('2025'!L12:$O12) -> 2822.53 | ... N26: =N22+SUM('2025'!O12:$O12) -> 2319.27 | O26: =O22 -> 2021.6
A27: Lämmitys
B28: Lämmityksen osuus kulutuksesta | D28: =D16/D11 -> 0.61373092 | E28: =E16/E11 -> 0.65560662 | F28: =F16/F11 -> 0.44293937 | G28: =G16/G11 -> 0.30841912 | H28: =H16/H11 -> 0.1181687 | I28: =I16/I11 -> 0.024908836 | J28: =J16/J11 -> 0.014228978 | K28: =K16/K11 -> #DIV/0! | ... P28: =P16/P11 -> 0.43525534
B29: Sähkönkulutus lämmitykseen | C29: kWh/oCd | D29: =D16/D13 -> 0.93357036 | E29: =E16/E13 -> 0.9959145 | F29: =F16/F13 -> 0.63086882 | G29: =G16/G13 -> 0.48071798 | H29: =H16/H13 -> 0.69607273 | L29: =L16/L13 -> #DIV/0! | M29: =M16/M13 -> #DIV/0! | N29: =N16/N13 -> #DIV/0! | O29: =O16/O13 -> #DIV/0! | P29: =P16/P13 -> 0.83449292
B30: Sähkönkulutus lämmitykseen | C30: kWh/d | D30: =D16/D7 -> 24.505484 | E30: =E16/E7 -> 27.408571 | F30: =F16/F7 -> 8.6390323 | G30: =G16/G7 -> 5.5926667 | H30: =H16/H7 -> 1.4529032 | I30: =I16/I7 -> 0.296 | J30: =J16/J7 -> 0.16064516 | K30: =K16/K7 -> 0 | ... P30: =P16/P7 -> 5.5386301
B31: Norm sähkö lämmitykseen | C31: kWh/d | D31: =D17/D7 -> 20.869815 | E31: =E17/E7 -> 22.799328 | F31: =F17/F7 -> 11.966157 | G31: =G17/G7 -> 6.0730704 | H31: =H17/H7 -> 3.4579097 | I31: =I17/I7 -> 0.296 | J31: =J17/J7 -> 0.16064516 | K31: =K17/K7 -> 0 | ... P31: =P17/P7 -> 5.3686127
B32: Ominaislämmönkulutus | C32: kWh/m3 | D32: =D16/$F$4 -> 3.1401703 | E32: =E16/$F$4 -> 3.1722884 | F32: =F16/$F$4 -> 1.1070188 | G32: =G16/$F$4 -> 0.69353505 | H32: =H16/$F$4 -> 0.18617725 | I32: =I16/$F$4 -> 0.036706349 | J32: =J16/$F$4 -> 0.020585317 | K32: =K16/$F$4 -> 0 | ... P32: =P16/$F$4 -> 8.3564815
B33: Ominaislämmönkulutus | C33: kWh/m2 | D33: =D16/$F$3 -> 7.9132292 | E33: =E16/$F$3 -> 7.9941667 | F33: =F16/$F$3 -> 2.7896875 | G33: =G16/$F$3 -> 1.7477083 | H33: =H16/$F$3 -> 0.46916667 | I33: =I16/$F$3 -> 0.0925 | J33: =J16/$F$3 -> 0.051875 | K33: =K16/$F$3 -> 0 | ... P33: =P16/$F$3 -> 21.058333
B34: Norm lämmönkulutus | C34: kWh/m3 | D34: =D17/$F$4 -> 2.6742901 | E34: =E17/$F$4 -> 2.6388112 | F34: =F17/$F$4 -> 1.5333617 | G34: =G17/$F$4 -> 0.75310893 | H34: =H17/$F$4 -> 0.44310185 | I34: =I17/$F$4 -> 0.036706349 | J34: =J17/$F$4 -> 0.020585317 | K34: =K17/$F$4 -> 0 | ... P34: =P17/$F$4 -> 8.0999654
B35: Norm lämmönkulutus | C35: kWh/m2 | D35: =D17/$F$3 -> 6.739211 | E35: =E17/$F$3 -> 6.6498041 | F35: =F17/$F$3 -> 3.8640715 | G35: =G17/$F$3 -> 1.8978345 | H35: =H17/$F$3 -> 1.1166167 | I35: =I17/$F$3 -> 0.0925 | J35: =J17/$F$3 -> 0.051875 | K35: =K17/$F$3 -> 0 | ... P35: =P17/$F$3 -> 20.411913
B36: Ominaislämmönkulutus | C36: Wh/m3/oCd | D36: =1000*D32/D13 -> 3.8590045 | E36: =1000*E32/E13 -> 4.1167101 | F36: =1000*F32/F13 -> 2.607758 | G36: =1000*G32/G13 -> 1.9870948 | H36: =1000*H32/H13 -> 2.8772848 | L36: =1000*L32/L13 -> #DIV/0! | M36: =1000*M32/M13 -> #DIV/0! | N36: =1000*N32/N13 -> #DIV/0! | O36: =1000*O32/O13 -> #DIV/0! | P36: =1000*P32/P13 -> 3.4494582
A38: Vuosikulutusarvio
B40: Lämmityssähkö ILPillä | D40: 2800 | E40: kWh | G40: Arvio lämmityssähkö ilman ILP | K40: 6800 | L40: kWh | M40: Vuosikulutusarvio ilma ILP
B41: Lämminvesi | D41: 2300 | E41: kWh | G41: Arvio ILPin säästämästä sähköstä | K41: =K40-D40 -> 4000 | L41: kWh | N41: =D43-D40+K40 -> 12400 | O41: kWh
B42: Taloussähkö | D42: 3300 | E42: kWh | G42: Säästöarvio lämmityssähkönkulutuksesta | K42: =K41/K40 -> 0.58823529
B43: Yhteensä | D43: =SUM(D40:D42) -> 8400 | E43: kWh | G43: Säästöarvio kokonaissähkönkulutuksesta | K43: =K41/(SUM(D41:D42)+K40) -> 0.32258065
A46: Pörssisähkön hinta + kate 0 snt/kWh
B47: Pörssisähkön tuntikulutuksella painotettu keskihinta | D47: 14.81 | E47: 17.12 | F47: 3.03 | G47: 4.38 | H47: 4.02 | I47: 3.81 | J47: 1.72
...

Sheet Sähkönkulutus

Sheet Norm.Lämmityssähkö

Sheet Astepäiväseuranta
A1: Lämmitystarveluvut Hyvinkäällä
A3: kk / vuosi | B3: 2026 | C3: 2025 | D3: 2024 | E3: 2023 | F3: 2022 | G3: 2021 | H3: 2020 | I3: 2019 | J3: 2018 | K3: 2017 | L3: 2016 | M3: 2015 | N3: 2014 | O3: 2013 | P3: 2012 | Q3: 2011 | R3: 2010 | S3: 2009 | T3: 2008 | U3: 2007 | V3: 2006 | W3: 2005 | X3: 2004 | Y3: 2003 | Z3: 2002 | AA3: 2001 | AB3: 2000 | AC3: 1999 | AD3: 1998 | AE3: normaali | AF3: Uusi | AG3: 2023
A4: Tammi | B4: 813.72549 | C4: 592.15686 | D4: 813.72549 | E4: 590 | F4: 654.90196 | G4: 679.41176 | H4: 490.19608 | I4: 764.70588 | J4: 621.56863 | K4: 634.31373 | L4: 905 | M4: 627 | N4: 788 | O4: 725 | P4: 717 | Q4: 717 | R4: 942 | S4: 681 | T4: 560 | U4: 636 | V4: 695 | W4: 576 | X4: 759 | Y4: 858 | Z4: 662 | AA4: 607 | AB4: 636 | AC4: 724 | AD4: 600 | AE4: 743 | AF4: 712 | AG4: 693
A5: Helmi | B5: 770.58824 | C5: 568.62745 | D5: 625.4902 | E5: 558 | F5: 547.05882 | G5: 707.84314 | H5: 499.01961 | I5: 503.92157 | J5: 725.4902 | K5: 590.19608 | L5: 526 | M5: 502 | N5: 485 | O5: 565 | P5: 749 | Q5: 821 | R5: 743 | S5: 636 | T5: 505 | U5: 781 | V5: 743 | W5: 648 | X5: 654 | Y5: 640 | Z5: 516 | AA5: 707 | AB5: 577 | AC5: 695 | AD5: 622 | AE5: 693 | AF5: 664 | AG5: 641
A6: Maalis | B6: 424.5098 | C6: 470.58824 | D6: 518.62745 | E6: 596 | F6: 537.2549 | G6: 565.68627 | H6: 486.27451 | I6: 556.86275 | J6: 703.92157 | K6: 513.72549 | L6: 535 | M6: 499 | N6: 496 | O6: 760 | P6: 544 | Q6: 590 | R6: 616 | S6: 602 | T6: 564 | U6: 457 | V6: 743 | W6: 732 | X6: 567 | Y6: 564 | Z6: 538 | AA6: 651 | AB6: 577 | AC6: 580 | AD6: 672 | AE6: 621 | AF6: 598 | AG6: 588
A7: Huhti | B7: 343 | C7: 320.58824 | D7: 406.86275 | E7: 326 | F7: 416.66667 | G7: 379.41176 | H7: 395.09804 | I7: 312.7451 | J7: 372.54902 | K7: 450.98039 | L7: 370 | M7: 366 | N7: 350 | O7: 444 | P7: 401 | Q7: 321 | R7: 380 | S7: 370 | T7: 321 | U7: 338 | V7: 377 | W7: 386 | X7: 360 | Y7: 428 | Z7: 319 | AA7: 317 | AB7: 283 | AC7: 327 | AD7: 409 | AE7: 422 | AF7: 387 | AG7: 379
A8: Touko | B8: 65 | C8: 164.70588 | D8: 91.176471 | E8: 122 | F8: 156.86275 | G8: 157.84314 | H8: 195.09804 | I8: 157.84314 | J8: 44.117647 | K8: 214.70588 | L8: 46 | M8: 184 | N8: 198 | O8: 60 | P8: 135 | Q8: 117 | R8: 139 | S8: 108 | T8: 159 | U8: 102 | V8: 135 | W8: 163 | X8: 187 | Y8: 119 | Z8: 103 | AA8: 183 | AB8: 110 | AC8: 249 | AD8: 158 | AE8: 174 | AF8: 156 | AG8: 154
A9: Kesä | B9: 0 | C9: 0 | D9: 0 | E9: 27 | F9: 0 | G9: 0 | H9: 0 | I9: 0 | J9: 24.509804 | K9: 52.941176 | L9: 37 | M9: 15 | N9: 51 | O9: 0 | P9: 16 | Q9: 0 | R9: 0 | S9: 56 | T9: 8 | U9: 0 | V9: 23 | W9: 17 | X9: 24 | Y9: 8 | Z9: 0 | AA9: 0 | AB9: 0 | AC9: 0 | AD9: 0 | AE9: 25 | AF9: 20 | AG9: 19
A10: Heinä | C10: 0 | D10: 0 | E10: 0 | F10: 0 | G10: 0 | H10: 4.9019608 | I10: 10.784314 | J10: 0 | K10: 11.764706 | L10: 5 | M10: 0 | N10: 5 | O10: 0 | P10: 0 | Q10: 0 | R10: 0 | S10: 0 | T10: 0 | U10: 0 | V10: 0 | W10: 0 | X10: 0 | Y10: 0 | Z10: 0 | AA10: 0 | AB10: 0 | AC10: 0 | AD10: 0 | AE10: 7 | AF10: 4 | AG10: 4
A11: Elo | C11: 24.038462 | D11: 0 | E11: 21 | F11: 6.8627451 | G11: 20 | H11: 10.784314 | I11: 0 | J11: 0 | K11: 34.313725 | L11: 12 | M11: 5 | N11: 23 | O11: 11 | P11: 31 | Q11: 0 | R11: 39 | S11: 11 | T11: 33 | U11: 47 | V11: 0 | W11: 16 | X11: 29 | Y11: 43 | Z11: 0 | AA11: 0 | AB11: 0 | AC11: 0 | AD11: 0 | AE11: 36 | AF11: 30 | AG11: 21
A12: Syys | C12: 82.352941 | D12: 57.843137 | E12: 165 | F12: 223.52941 | G12: 222.54902 | H12: 94.117647 | I12: 176.47059 | J12: 122.54902 | K12: 184.31373 | L12: 140.19608 | M12: 115 | N12: 163 | O12: 121 | P12: 142 | Q12: 73 | R12: 153 | S12: 106 | T12: 225 | U12: 166 | V12: 72 | W12: 104 | X12: 121 | Y12: 131 | Z12: 200 | AA12: 120 | AB12: 242 | AC12: 134 | AD12: 169 | AE12: 217 | AF12: 187 | AG12: 165
A13: Loka | C13: 317.64706 | D13: 307.84314 | E13: 378 | F13: 314.70588 | G13: 297.05882 | H13: 279.41176 | I13: 390.19608 | J13: 362.7451 | K13: 385.29412 | L13: 403.92157 | M13: 404 | N13: 381 | O13: 346 | P13: 374 | Q13: 318 | R13: 410 | S13: 452 | T13: 304 | U13: 347 | V13: 326 | W13: 318 | X13: 374 | Y13: 435 | Z13: 541 | AA13: 297 | AB13: 272 | AC13: 334 | AD13: 375 | AE13: 398 | AF13: 375 | AG13: 378
A14: Marras | C14: 418.62745 | D14: 445.09804 | E14: 543 | F14: 460.78431 | G14: 478.43137 | H14: 393.13725 | I14: 478.43137 | J14: 441.17647 | K14: 460.78431 | L14: 542.15686 | M14: 393 | N14: 463 | O14: 431 | P14: 435 | Q14: 401 | R14: 585 | S14: 461 | T14: 465 | U14: 529 | V14: 494 | W14: 414 | X14: 530 | Y14: 443 | Z14: 617 | AA14: 540 | AB14: 398 | AC14: 463 | AD14: 628 | AE14: 538 | AF14: 518 | AG14: 494
A15: Joulu | C15: 497.05882 | D15: 559.80392 | E15: 701 | F15: 617.64706 | G15: 751 | H15: 520 | I15: 510 | J15: 605.88235 | K15: 529.41176 | L15: 574.5098 | M15: 419 | N15: 590 | O15: 496 | P15: 767 | Q15: 491 | R15: 838 | S15: 734 | T15: 537 | U15: 496 | V15: 461 | W15: 663 | X15: 557 | Y15: 579 | Z15: 808 | AA15: 778 | AB15: 508 | AC15: 624 | AD15: 621 | AE15: 681 | AF15: 655 | AG15: 619
A16: Yhteensä | B16: =SUM(B4:B15) -> 2416.8235 | C16: =SUM(C4:C15) -> 3456.3914 | D16: =SUM(D4:D15) -> 3826.4706 | E16: =SUM(E4:E15) -> 4027 | F16: =SUM(F4:F15) -> 3936.2745 | G16: =SUM(G4:G15) -> 4259.2353 | H16: =SUM(H4:H15) -> 3368.0392 | I16: =SUM(I4:I15) -> 3861.9608 | ... U16: =SUM(U4:U15) -> 3899 | V16: 4069 | W16: 4037 | X16: 4162 | Y16: 4248 | Z16: 4304 | AA16: 4200 | AB16: 3602 | AC16: 4129 | AD16: 4254 | AE16: 4555 | AF16: =SUM(AF4:AF15) -> 4306 | AG16: 4155 | AI16: =AVERAGE(N16:AD16) -> 4103.4706
AI17: =AVERAGE(N16:W16) -> 4086
A18: Ero normivuoteen | C18: =(C16-$AF$16)/$AF$16 -> -0.19730808 | D18: =(D16-$AF$16)/$AF$16 -> -0.11136308 | E18: =(E16-$AF$16)/$AF$16 -> -0.064793312 | F18: =(F16-$AF$16)/$AF$16 -> -0.085862863 | G18: =(G16-$AF$16)/$AF$16 -> -0.010860359 | H18: =(H16-$AF$16)/$AF$16 -> -0.21782647 | I18: =(I16-$AF$16)/$AF$16 -> -0.10312104 | J18: =(J16-$AF$16)/$AF$16 -> -0.06537162 | ... N18: =(N16-$AF$16)/$AF$16 -> -0.072689271 | O18: =(O16-$AE$16)/$AE$16 -> -0.13084523 | P18: =(P16-$AE$16)/$AE$16 -> -0.053567508 | Q18: =(Q16-$AE$16)/$AE$16 -> -0.15499451 | R18: =(R16-$AE$16)/$AE$16 -> 0.063666301 | S18: =(S16-$AE$16)/$AE$16 -> -0.074204171 | T18: =(T16-$AE$16)/$AE$16 -> -0.19187706 | U18: =(U16-$AE$16)/$AE$16 -> -0.14401756 | V18: =(V16-$AE$16)/$AE$16 -> -0.10669594 | ... AD18: =(AD16-$AE$16)/$AE$16 -> -0.066081229
A19: Ero 5-vuoden keskiarvoon | C19: =(C16-D21)/D21 -> -0.10995831 | D19: =(D16-E21)/E21 -> -0.016458383 | E19: =(E16-F21)/F21 -> 0.035217465 | F19: =(F16-G21)/G21 -> 0.0053575667 | G19: =(G16-H21)/H21 -> 0.096947226 | H19: =(H16-I21)/I21 -> -0.13970901 | I19: =(I16-J21)/J21 -> -0.020107303 | J19: =(J16-K21)/K21 -> 0.024542088 | ... Y19: =(Y16-Z21)/Z21 -> 0.036653814
A20: 5-vuoden keskiarvo
A21: Liukuva 60 kk | C21: =AVERAGE(C16:G16) -> 3901.0744 | D21: =AVERAGE(D16:H16) -> 3883.4039 | E21: =AVERAGE(E16:I16) -> 3890.502 | F21: =AVERAGE(F16:J16) -> 3890.0039 | G21: =AVERAGE(G16:K16) -> 3915.298 | H21: =AVERAGE(H16:L16) -> 3882.8078 | I21: =AVERAGE(I16:M16) -> 3915 | J21: =AVERAGE(J16:N16) -> 3941.2078 | ... Z21: =AVERAGE(Z16:AD16) -> 4097.8

Sheet 2025
A1: SÄHKÖNKULUTUSRAPORTTI | D1: 2025 | R1: http://suja.kapsi.fi/asema-taulukko.php?asema=101130
R2: https://hlv.fi/asiakaspalvelu/lammitystarveluvut/
A3: Hyvinkää rivitalo 4H+K+S | D3: Asuinala | F3: 96 | G3: m2 | H3: Taloussähkö arvio (ilman lvv) | K3: 10 | L3: kWh/d | M3: Kesäkuukaudet | O3: =(SUM(I11:K11))/92 -> 11.997935 | P3: kWh/d | R3: https://ilmatieteenlaitos.fi/havaintojen-lataus#!/
D4: Tilavuus | F4: =2.52*F3 -> 241.92 | G4: m3
A6: Jakso | D6: Tammi | E6: Helmi | F6: Maalis | G6: Huhti | H6: Touko | I6: Kesä | J6: Heinä | K6: Elo | L6: Syys | M6: Loka | N6: Marras | O6: Joulu | P6: Yhteensä
B7: päivät kuukaudessa | D7: 31 | E7: 28 | F7: 31 | G7: 30 | H7: 31 | I7: 30 | J7: 31 | K7: 31 | L7: 30 | M7: 31 | N7: 30 | O7: 31 | P7: =SUM(D7:O7) -> 365
A8: 2025 | B8: Keskilämpötila | C8: oC | D8: -1.8 | E8: -3.3 | F8: 1.8 | G8: 5.3 | H8: 8.9 | I8: 13.9 | J8: 19.8 | K8: 14.6 | L8: 12.7 | M8: 6.2 | N8: 3.1 | O8: 0.8 | P8: =AVERAGE(D8:O8) -> 6.8333333
A9: 2025 | B9: Sähkö päivä | C9: kWh | D9: 519.74 | E9: 492.9 | F9: 373.59 | G9: 352.95 | H9: 366.08 | I9: 266.64 | J9: 194.3 | K9: 178.91 | L9: 212.07 | M9: 342.78 | N9: 384.3 | O9: 477.41 | P9: =SUM(D9:O9) -> 4161.67 | R9: =P9/$P$11 -> 0.58964121
A10: 2025 | B10: Sähkö yö | C10: kWh | D10: 375.96 | E10: 339.12 | F10: 302.91 | G10: 238.29 | H10: 142.87 | I10: 152.02 | J10: 203.77 | K10: 108.17 | L10: 163 | M10: 238.52 | N10: 292.26 | O10: 339.41 | P10: =SUM(D10:O10) -> 2896.3 | R10: =P10/$P$11 -> 0.41035879
A11: 2025 | B11: Sähkö yhteensä | C11: kWh | D11: =SUM(D9:D10) -> 895.7 | E11: =SUM(E9:E10) -> 832.02 | F11: =SUM(F9:F10) -> 676.5 | G11: =SUM(G9:G10) -> 591.24 | H11: =SUM(H9:H10) -> 508.95 | I11: =SUM(I9:I10) -> 418.66 | J11: =SUM(J9:J10) -> 398.07 | K11: =SUM(K9:K10) -> 287.08 | ... O11: =SUM(O9:O10) -> 816.82 | P11: =SUM(D11:O11) -> 7057.97 | R11: =P11/$P$11 -> 1
A12: 2025 | B12: Ilmalämpöpumppu | C12: kWh | D12: =(4147.33-3742.63) -> 404.7 | E12: =(4526.2-4147.33) -> 378.87 | F12: =(4798.49-4526.2) -> 272.29 | G12: =(4959.55-4798.49) -> 161.06 | H12: =(5048.11-4959.55) -> 88.56 | I12: =(5080.62-5048.11)-3 -> 29.51 | J12: =(5118.31-5080.62)--2.32-34.85 -> 5.16 | K12: =(5141.26-5118.31)-1.81 -> 21.14 | L12: =(5207.35-5141.26) -> 66.09 | M12: =(5372.04-5207.35) -> 164.69 | N12: =(5644.52-5372.04) -> 272.48 | O12: =(5942.19-5644.52) -> 297.67 | P12: =SUM(D12:O12) -> 2162.22 | R12: =P12/$P$11 -> 0.30635154 | W12: ILP kulutus | X12: =P12+'2024'!X12 -> 38242.287 | Y12: kWh | Z12: =X12*1000/400 -> 95605.719 | AA12: h
A13: 2025 | B13: Lämmitystarveluku toteutunut | C13: oCd | D13: =604/1.02 -> 592.15686 | E13: =580/1.02 -> 568.62745 | F13: =480/1.02 -> 470.58824 | G13: =327/1.02 -> 320.58824 | H13: =168/1.02 -> 164.70588 | I13: 0 | J13: 0 | K13: =25/1.04 -> 24.038462 | L13: =84/1.02 -> 82.352941 | M13: =324/1.02 -> 317.64706 | N13: =427/1.02 -> 418.62745 | O13: =507/1.02 -> 497.05882 | P13: =SUM(D13:O13) -> 3456.3914 | R13: =(P14-P13)/P14 -> 0.16813685 | W13: ILP säästö | X13: =X12*2.7-X12 -> 65011.889 | Y13: kWh
A14: 2025 | B14: Lämmitystarveluku normivuosi | C14: oCd | D14: 693 | E14: 641 | F14: 588 | G14: 379 | H14: 154 | I14: 19 | J14: 4 | K14: 21 | L14: 165 | M14: 378 | N14: 494 | O14: 619 | P14: 4155
A15: 2025 | B15: Lämminvesivaraaja | C15: kWh | D15: 171 | E15: 152.5 | F15: 150 | G15: 157 | H15: 180 | I15: 170 | J15: 159 | K15: 118 | L15: 124 | M15: 153 | N15: 156 | O15: 180 | P15: =SUM(D15:O15) -> 1870.5 | R15: =P15/$P$11 -> 0.26501955
A16: 2025 | B16: Lämmityssähkö (arvio) | C16: kWh | D16: =D12 -> 404.7 | E16: =E12 -> 378.87 | F16: =F12 -> 272.29 | G16: =G12 -> 161.06 | H16: =H12 -> 88.56 | I16: =I12 -> 29.51 | J16: =J12 -> 5.16 | K16: =K12 -> 21.14 | ... O16: =O12 -> 297.67 | P16: =SUM(D16:O16) -> 2162.22
A17: 2025 | B17: Sääkorjattu lämmityssähkö | C17: kWh | D17: =IF(D16<0,0,((D14/D13))*D16) -> 473.61961 | E17: =IF(E16<0,0,((E14/E13))*E16) -> 427.09101 | F17: =IF(F16<0,0,((F14/F13))*F16) -> 340.22635 | G17: =IF(G16<0,0,((G14/G13))*G16) -> 190.40543 | H17: =IF(H16=0,0,((H14/H13))*H16) -> 82.8036 | I17: =I16 -> 29.51 | J17: =J16 -> 5.16 | K17: =K16 -> 21.14 | L17: =IF(L16=0,0,((L14/L13))*L16) -> 132.41604 | M17: =IF(M16=0,0,((M14/M13))*M16) -> 195.9811 | N17: =IF(N16=0,0,((N14/N13))*N16) -> 321.53916 | O17: =IF(O16=0,0,((O14/O13))*O16) -> 370.69602 | P17: =SUM(D17:O17) -> 2590.5883 | R17: =(P14-P13)/P14 -> 0.16813685
A20: Kulutus päivässä | C20: kWh/d | D20: =D11/D7 -> 28.893548 | E20: =E11/E7 -> 29.715 | F20: =F11/F7 -> 21.822581 | G20: =G11/G7 -> 19.708 | H20: =H11/H7 -> 16.417742 | I20: =I11/I7 -> 13.955333 | J20: =J11/J7 -> 12.840968 | K20: =K11/K7 -> 9.2606452 | ... O20: =O11/O7 -> 26.349032 | P20: =P11/365 -> 19.336904
B21: Kumulatiivinen kulutus | C21: kWh | D21: =SUM(D11) -> 895.7 | E21: =SUM($D$11:E11) -> 1727.72 | F21: =SUM($D$11:F11) -> 2404.22 | G21: =SUM($D$11:G11) -> 2995.46 | H21: =SUM($D$11:H11) -> 3504.41 | I21: =SUM($D$11:I11) -> 3923.07 | J21: =SUM($D$11:J11) -> 4321.14 | K21: =SUM($D$11:K11) -> 4608.22 | L21: =SUM($D$11:L11) -> 4983.29 | ... O21: =SUM($D$11:O11) -> 7057.97
B22: Kumulatiivinen kulutus ILP | C22: kWh | D22: =SUM(D12) -> 404.7 | E22: =SUM($D$12:E12) -> 783.57 | F22: =SUM($D$12:F12) -> 1055.86 | G22: =SUM($D$12:G12) -> 1216.92 | H22: =SUM($D$12:H12) -> 1305.48 | I22: =SUM($D$12:I12) -> 1334.99 | J22: =SUM($D$12:J12) -> 1340.15 | K22: =SUM($D$12:K12) -> 1361.29 | L22: =SUM($D$12:L12) -> 1427.38 | ... O22: =SUM($D$12:O12) -> 2162.22
B23: Kumulatiivinen kulutus lämmitys | C23: kWh | D23: =SUM(D16) -> 404.7 | E23: =SUM($D$16:E16) -> 783.57 | F23: =SUM($D$16:F16) -> 1055.86 | G23: =SUM($D$16:G16) -> 1216.92 | H23: =SUM($D$16:H16) -> 1305.48 | I23: =SUM($D$16:I16) -> 1334.99 | J23: =SUM($D$16:J16) -> 1340.15 | K23: =SUM($D$16:K16) -> 1361.29 | L23: =SUM($D$16:L16) -> 1427.38 | ... O23: =SUM($D$16:O16) -> 2162.22
B24: Taloussähkö ilman LKV | C24: kWh/d | D24: =(D11-D16-D15)/D7 -> 10.322581 | E24: =(E11-E16-E15)/E7 -> 10.7375 | F24: =(F11-F16-F15)/F7 -> 8.2003226 | G24: =(G11-G16-G15)/G7 -> 9.106 | H24: =(H11-H16-H15)/H7 -> 7.7545161 | I24: =(I11-I16-I15)/I7 -> 7.305 | J24: =(J11-J16-J15)/J7 -> 7.5454839 | K24: =(K11-K16-K15)/K7 -> 4.7722581 | ... O24: =(O11-O16-O15)/O7 -> 10.940323 | P24: =(P11-P16-P15) -> 3025.25
B25: Liukuva 12 kk kulutus | C25: kWh | D25: =D21+'2024'!$P$11-'2024'!D21 -> 7038.71 | E25: =E21+'2024'!$P$11-'2024'!E21 -> 6919.71 | F25: =F21+'2024'!$P$11-'2024'!F21 -> 6798.89 | G25: =G21+'2024'!$P$11-'2024'!G21 -> 6760.57 | H25: =H21+'2024'!$P$11-'2024'!H21 -> 6841.4 | I25: =I21+'2024'!$P$11-'2024'!I21 -> 7020.31 | J25: =J21+'2024'!$P$11-'2024'!J21 -> 7118.44 | K25: =K21+'2024'!$P$11-'2024'!K21 -> 7064.92 | ... O25: =O21+'2024'!$P$11-'2024'!O21 -> 7057.97
B26: Liukuva 12 kk kulutus ILP | C26: kWh | D26: =D22+SUM('2024'!E12:$O12) -> 2408.8818 | E26: =E22+SUM('2024'!F12:$O12) -> 2266.0918 | F26: =F22+SUM('2024'!G12:$O12) -> 2192.3618 | G26: =G22+SUM('2024'!H12:$O12) -> 2113.7218 | H26: =H22+SUM('2024'!I12:$O12) -> 2162.3418 | I26: =I22+SUM('2024'!J12:$O12) -> 2185.0718 | J26: =J22+SUM('2024'!K12:$O12) -> 2190.2318 | K26: =K22+SUM('2024'!L12:$O12) -> 2205.9518 | ... N26: =N22+SUM('2024'!O12:$O12) -> 2256.0618 | O26: =O22 -> 2162.22
A27: Lämmitys
B28: Lämmityksen osuus kulutuksesta | D28: =D16/D11 -> 0.45182539 | E28: =E16/E11 -> 0.45536165 | F28: =F16/F11 -> 0.40249815 | G28: =G16/G11 -> 0.27241053 | H28: =H16/H11 -> 0.17400531 | I28: =I16/I11 -> 0.070486791 | J28: =J16/J11 -> 0.012962544 | K28: =K16/K11 -> 0.07363801 | ... P28: =P16/P11 -> 0.30635154
B29: Sähkönkulutus lämmitykseen | C29: kWh/oCd | D29: =D16/D13 -> 0.68343377 | E29: =E16/E13 -> 0.66628862 | F29: =F16/F13 -> 0.57861625 | G29: =G16/G13 -> 0.50238899 | H29: =H16/H13 -> 0.53768571 | L29: =L16/L13 -> 0.80252143 | M29: =M16/M13 -> 0.51846852 | N29: =N16/N13 -> 0.65088899 | O29: =O16/O13 -> 0.59886272 | P29: =P16/P13 -> 0.62557151
B30: Sähkönkulutus lämmitykseen | C30: kWh/d | D30: =D16/D7 -> 13.054839 | E30: =E16/E7 -> 13.531071 | F30: =F16/F7 -> 8.7835484 | G30: =G16/G7 -> 5.3686667 | H30: =H16/H7 -> 2.8567742 | I30: =I16/I7 -> 0.98366667 | J30: =J16/J7 -> 0.16645161 | K30: =K16/K7 -> 0.68193548 | ... P30: =P16/P7 -> 5.9238904
B31: Norm sähkö lämmitykseen | C31: kWh/d | D31: =D17/D7 -> 15.278052 | E31: =E17/E7 -> 15.25325 | F31: =F17/F7 -> 10.975044 | G31: =G17/G7 -> 6.3468476 | H31: =H17/H7 -> 2.6710839 | I31: =I17/I7 -> 0.98366667 | J31: =J17/J7 -> 0.16645161 | K31: =K17/K7 -> 0.68193548 | ... P31: =P17/P7 -> 7.0975022
B32: Ominaislämmönkulutus | C32: kWh/m3 | D32: =D16/$F$4 -> 1.6728671 | E32: =E16/$F$4 -> 1.5660962 | F32: =F16/$F$4 -> 1.1255374 | G32: =G16/$F$4 -> 0.66575728 | H32: =H16/$F$4 -> 0.36607143 | I32: =I16/$F$4 -> 0.12198247 | J32: =J16/$F$4 -> 0.021329365 | K32: =K16/$F$4 -> 0.087384259 | ... P32: =P16/$F$4 -> 8.937748
B33: Ominaislämmönkulutus | C33: kWh/m2 | D33: =D16/$F$3 -> 4.215625 | E33: =E16/$F$3 -> 3.9465625 | F33: =F16/$F$3 -> 2.8363542 | G33: =G16/$F$3 -> 1.6777083 | H33: =H16/$F$3 -> 0.9225 | I33: =I16/$F$3 -> 0.30739583 | J33: =J16/$F$3 -> 0.05375 | K33: =K16/$F$3 -> 0.22020833 | ... P33: =P16/$F$3 -> 22.523125
B34: Norm lämmönkulutus | C34: kWh/m3 | D34: =D17/$F$4 -> 1.957753 | E34: =E17/$F$4 -> 1.7654225 | F34: =F17/$F$4 -> 1.4063589 | G34: =G17/$F$4 -> 0.78705947 | H34: =H17/$F$4 -> 0.34227679 | I34: =I17/$F$4 -> 0.12198247 | J34: =J17/$F$4 -> 0.021329365 | K34: =K17/$F$4 -> 0.087384259 | ... P34: =P17/$F$4 -> 10.70845
B35: Norm lämmönkulutus | C35: kWh/m2 | D35: =D17/$F$3 -> 4.9335376 | E35: =E17/$F$3 -> 4.4488646 | F35: =F17/$F$3 -> 3.5440245 | G35: =G17/$F$3 -> 1.9833899 | H35: =H17/$F$3 -> 0.8625375 | I35: =I17/$F$3 -> 0.30739583 | J35: =J17/$F$3 -> 0.05375 | K35: =K17/$F$3 -> 0.22020833 | ... P35: =P17/$F$3 -> 26.985295
B36: Ominaislämmönkulutus | C36: Wh/m3/oCd | D36: =1000*D32/D13 -> 2.8250404 | E36: =1000*E32/E13 -> 2.7541692 | F36: =1000*F32/F13 -> 2.3917669 | G36: =1000*G32/G13 -> 2.0766741 | H36: =1000*H32/H13 -> 2.2225765 | L36: =1000*L32/L13 -> 3.3173009 | M36: =1000*M32/M13 -> 2.1431404 | N36: =1000*N32/N13 -> 2.6905134 | O36: =1000*O32/O13 -> 2.4754577 | P36: =1000*P32/P13 -> 2.5858611
A38: Vuosikulutusarvio
B40: Lämmityssähkö ILPillä | D40: 2800 | E40: kWh | G40: Arvio lämmityssähkö ilman ILP | K40: 6800 | L40: kWh | M40: Vuosikulutusarvio ilma ILP
B41: Lämminvesi | D41: 2300 | E41: kWh | G41: Arvio ILPin säästämästä sähköstä | K41: =K40-D40 -> 4000 | L41: kWh | N41: =D43-D40+K40 -> 12400 | O41: kWh
B42: Taloussähkö | D42: 3300 | E42: kWh | G42: Säästöarvio lämmityssähkönkulutuksesta | K42: =K41/K40 -> 0.58823529
B43: Yhteensä | D43: =SUM(D40:D42) -> 8400 | E43: kWh | G43: Säästöarvio kokonaissähkönkulutuksesta | K43: =K41/(SUM(D41:D42)+K40) -> 0.32258065
A46: Pörssisähkön hinta + kate 0,5 snt/kWh
B47: Pörssisähkön tuntikulutuksella painotettu keskihinta | D47: 6.44 | E47: 6.19 | F47: 5.45 | G47: 4.58 | H47: 2.19 | I47: 1.74 | J47: 2.89 | K47: 5.66 | L47: 4.29 | M47: 5.25 | N47: 6.26 | O47: 4.63
...

Sheet 2024
A1: SÄHKÖNKULUTUSRAPORTTI | D1: 2024 | R1: http://suja.kapsi.fi/asema-taulukko.php?asema=101130
R2: https://hlv.fi/asiakaspalvelu/lammitystarveluvut/
A3: Hyvinkää rivitalo 4H+K+S | D3: Asuinala | F3: 96 | G3: m2 | H3: Taloussähkö arvio (ilman lvv) | K3: 10 | L3: kWh/d | M3: Kesäkuukaudet | O3: =(SUM(I11:K11))/92 -> 9.5683696 | P3: kWh/d | R3: https://ilmatieteenlaitos.fi/havaintojen-lataus#!/
D4: Tilavuus | F4: =2.52*F3 -> 241.92 | G4: m3
A6: Jakso | D6: Tammi | E6: Helmi | F6: Maalis | G6: Huhti | H6: Touko | I6: Kesä | J6: Heinä | K6: Elo | L6: Syys | M6: Loka | N6: Marras | O6: Joulu | P6: Yhteensä
B7: päivät kuukaudessa | D7: 31 | E7: 29 | F7: 31 | G7: 30 | H7: 31 | I7: 30 | J7: 31 | K7: 31 | L7: 30 | M7: 31 | N7: 30 | O7: 31 | P7: =SUM(D7:O7) -> 366
A8: 2024 | B8: Keskilämpötila | C8: oC | D8: -9.6 | E8: -4.5 | F8: 0 | G8: 3.1 | H8: 13.4 | I8: 16.6 | J8: 18.2 | K8: 16.6 | L8: 13.3 | M8: 6.7 | N8: 2 | O8: -1 | P8: =AVERAGE(D8:O8) -> 6.2333333
A9: 2024 | B9: Sähkö päivä | C9: kWh | D9: 742.72 | E9: 559 | F9: 455.68 | G9: 427.15 | H9: 244.3 | I9: 131.53 | J9: 187.24 | K9: 195.72 | L9: 203.48 | M9: 316.39 | N9: 388.58 | O9: 504.27 | P9: =SUM(D9:O9) -> 4356.06 | R9: =P9/$P$11 -> 0.58565252
A10: 2024 | B10: Sähkö yö | C10: kWh | D10: 552.23 | E10: 392.02 | F10: 341.64 | G10: 202.41 | H10: 183.82 | I10: 108.22 | J10: 112.7 | K10: 144.88 | L10: 171.69 | M10: 228.32 | N10: 290.92 | O10: 353.05 | P10: =SUM(D10:O10) -> 3081.9 | R10: =P10/$P$11 -> 0.41434748
A11: 2024 | B11: Sähkö yhteensä | C11: kWh | D11: =SUM(D9:D10) -> 1294.95 | E11: =SUM(E9:E10) -> 951.02 | F11: =SUM(F9:F10) -> 797.32 | G11: =SUM(G9:G10) -> 629.56 | H11: =SUM(H9:H10) -> 428.12 | I11: =SUM(I9:I10) -> 239.75 | J11: =SUM(J9:J10) -> 299.94 | K11: =SUM(K9:K10) -> 340.6 | ... O11: =SUM(O9:O10) -> 857.32 | P11: =SUM(D11:O11) -> 7437.96 | R11: =P11/$P$11 -> 1
A12: 2024 | B12: Ilmalämpöpumppu | C12: kWh | D12: =(1728.54-955.116) -> 773.424 | E12: =(2250.2-1728.54) -> 521.66 | F12: =(2596.22-2250.2) -> 346.02 | G12: =(2835.92-2596.22) -> 239.7 | H12: =(2875.86-2835.92) -> 39.94 | I12: =(2903.11-2896.33) -> 6.78 | J12: 0 | K12: =(2920.64-2915.22) -> 5.42 | L12: =(2961.92-2920.64) -> 41.28 | M12: =(3107.28-2961.92) -> 145.36 | N12: =(3373.79-3107.28) -> 266.51 | O12: =(3695.84-3373.79)/25.5*31 -> 391.51176 | P12: =SUM(D12:O12) -> 2777.6058 | R12: =P12/$P$11 -> 0.3734365 | W12: ILP kulutus | X12: =P12+'2023'!X12 -> 36080.067 | Y12: kWh | Z12: =X12*1000/400 -> 90200.169 | AA12: h
A13: 2024 | B13: Lämmitystarveluku toteutunut | C13: oCd | D13: =830/1.02 -> 813.72549 | E13: =638/1.02 -> 625.4902 | F13: =529/1.02 -> 518.62745 | G13: =415/1.02 -> 406.86275 | H13: =93/1.02 -> 91.176471 | I13: 0 | J13: 0 | K13: 0 | L13: =59/1.02 -> 57.843137 | M13: =(314)/1.02 -> 307.84314 | N13: =454/1.02 -> 445.09804 | O13: =571/1.02 -> 559.80392 | P13: =SUM(D13:O13) -> 3826.4706 | R13: =(P14-P13)/P14 -> 0.07906845 | W13: ILP säästö | X13: =X12*2.7-X12 -> 61336.115 | Y13: kWh
A14: 2024 | B14: Lämmitystarveluku normivuosi | C14: oCd | D14: 693 | E14: 641 | F14: 588 | G14: 379 | H14: 154 | I14: 19 | J14: 4 | K14: 21 | L14: 165 | M14: 378 | N14: 494 | O14: 619 | P14: 4155
A15: 2024 | B15: Lämminvesivaraaja | C15: kWh | D15: 154 | E15: 139 | F15: 176 | G15: 150.5 | H15: 141 | I15: 88.5 | J15: 110.5 | K15: 127.5 | L15: 127 | M15: 145 | N15: 140 | O15: 171 | P15: =SUM(D15:O15) -> 1670 | R15: =P15/$P$11 -> 0.22452393
A16: 2024 | B16: Lämmityssähkö (arvio) | C16: kWh | D16: =D12+60 -> 833.424 | E16: =E12 -> 521.66 | F16: =F12 -> 346.02 | G16: =G12 -> 239.7 | H16: =H12 -> 39.94 | I16: =I12 -> 6.78 | J16: =J12 -> 0 | K16: =K12 -> 5.42 | L16: =L12 -> 41.28 | ... O16: =O12 -> 391.51176 | P16: =SUM(D16:O16) -> 2837.6058
A17: 2024 | B17: Sääkorjattu lämmityssähkö | C17: kWh | D17: =IF(D16<0,0,((D14/D13))*D16) -> 709.77601 | E17: =IF(E16<0,0,((E14/E13))*E16) -> 534.59521 | F17: =IF(F16<0,0,((F14/F13))*F16) -> 392.30426 | G17: =IF(G16<0,0,((G14/G13))*G16) -> 223.28488 | H17: =IF(H16=0,0,((H14/H13))*H16) -> 67.459948 | I17: =I16 -> 6.78 | J17: =J16 -> 0 | K17: =K16 -> 5.42 | L17: =IF(L16=0,0,((L14/L13))*L16) -> 117.75295 | M17: =IF(M16=0,0,((M14/M13))*M16) -> 178.48727 | N17: =IF(N16=0,0,((N14/N13))*N16) -> 295.79088 | O17: =IF(O16=0,0,((O14/O13))*O16) -> 432.91191 | P17: =SUM(D17:O17) -> 2964.5633 | R17: =(P14-P13)/P14 -> 0.07906845
A20: Kulutus päivässä | C20: kWh/d | D20: =D11/D7 -> 41.772581 | E20: =E11/E7 -> 32.793793 | F20: =F11/F7 -> 25.72 | G20: =G11/G7 -> 20.985333 | H20: =H11/H7 -> 13.810323 | I20: =I11/I7 -> 7.9916667 | J20: =J11/J7 -> 9.6754839 | K20: =K11/K7 -> 10.987097 | ... O20: =O11/O7 -> 27.655484 | P20: =P11/365 -> 20.377973
B21: Kumulatiivinen kulutus | C21: kWh | D21: =SUM(D11) -> 1294.95 | E21: =SUM($D$11:E11) -> 2245.97 | F21: =SUM($D$11:F11) -> 3043.29 | G21: =SUM($D$11:G11) -> 3672.85 | H21: =SUM($D$11:H11) -> 4100.97 | I21: =SUM($D$11:I11) -> 4340.72 | J21: =SUM($D$11:J11) -> 4640.66 | K21: =SUM($D$11:K11) -> 4981.26 | L21: =SUM($D$11:L11) -> 5356.43 | ... O21: =SUM($D$11:O11) -> 7437.96
B22: Kumulatiivinen kulutus ILP | C22: kWh | D22: =SUM(D12) -> 773.424 | E22: =SUM($D$12:E12) -> 1295.084 | F22: =SUM($D$12:F12) -> 1641.104 | G22: =SUM($D$12:G12) -> 1880.804 | H22: =SUM($D$12:H12) -> 1920.744 | I22: =SUM($D$12:I12) -> 1927.524 | J22: =SUM($D$12:J12) -> 1927.524 | K22: =SUM($D$12:K12) -> 1932.944 | L22: =SUM($D$12:L12) -> 1974.224 | ... O22: =SUM($D$12:O12) -> 2777.6058
B23: Kumulatiivinen kulutus lämmitys | C23: kWh | D23: =SUM(D16) -> 833.424 | E23: =SUM($D$16:E16) -> 1355.084 | F23: =SUM($D$16:F16) -> 1701.104 | G23: =SUM($D$16:G16) -> 1940.804 | H23: =SUM($D$16:H16) -> 1980.744 | I23: =SUM($D$16:I16) -> 1987.524 | J23: =SUM($D$16:J16) -> 1987.524 | K23: =SUM($D$16:K16) -> 1992.944 | L23: =SUM($D$16:L16) -> 2034.224 | ... O23: =SUM($D$16:O16) -> 2837.6058
B24: Taloussähkö ilman LKV | C24: kWh/d | D24: =(D11-D16-D15)/D7 -> 9.9201935 | E24: =(E11-E16-E15)/E7 -> 10.012414 | F24: =(F11-F16-F15)/F7 -> 8.8806452 | G24: =(G11-G16-G15)/G7 -> 7.9786667 | H24: =(H11-H16-H15)/H7 -> 7.9735484 | I24: =(I11-I16-I15)/I7 -> 4.8156667 | J24: =(J11-J16-J15)/J7 -> 6.1109677 | K24: =(K11-K16-K15)/K7 -> 6.6993548 | ... O24: =(O11-O16-O15)/O7 -> 9.5099431 | P24: =(P11-P16-P15) -> 2930.3542
B25: Liukuva 12 kk kulutus | C25: kWh | D25: =D21+'2023'!$P$11-'2023'!D21 -> 7996.09 | E25: =E21+'2023'!$P$11-'2023'!E21 -> 8094.64 | F25: =F21+'2023'!$P$11-'2023'!F21 -> 8046.18 | G25: =G21+'2023'!$P$11-'2023'!G21 -> 8139.31 | H25: =H21+'2023'!$P$11-'2023'!H21 -> 8046.21 | I25: =I21+'2023'!$P$11-'2023'!I21 -> 7954.88 | J25: =J21+'2023'!$P$11-'2023'!J21 -> 7950.24 | K25: =K21+'2023'!$P$11-'2023'!K21 -> 7910.4 | ... O25: =O21+'2023'!$P$11-'2023'!O21 -> 7437.96
B26: Liukuva 12 kk kulutus ILP | C26: kWh | D26: =D22+SUM('2023'!E12:$O12) -> 2936.69 | E26: =E22+SUM('2023'!F12:$O12) -> 3079.449 | F26: =F22+SUM('2023'!G12:$O12) -> 3058.89 | G26: =G22+SUM('2023'!H12:$O12) -> 3144.46 | H26: =H22+SUM('2023'!I12:$O12) -> 3116.47 | I26: =I22+SUM('2023'!J12:$O12) -> 3109.52 | J26: =J22+SUM('2023'!K12:$O12) -> 3102.13 | K26: =K22+SUM('2023'!L12:$O12) -> 3099.12 | ... N26: =N22+SUM('2023'!O12:$O12) -> 2933.581 | O26: =O22 -> 2777.6058
A27: Lämmitys
B28: Lämmityksen osuus kulutuksesta | D28: =D16/D11 -> 0.64359551 | E28: =E16/E11 -> 0.54852684 | F28: =F16/F11 -> 0.43397883 | G28: =G16/G11 -> 0.38074211 | H28: =H16/H11 -> 0.0932916 | I28: =I16/I11 -> 0.028279458 | J28: =J16/J11 -> 0 | K28: =K16/K11 -> 0.015913095 | ... P28: =P16/P11 -> 0.38150323
B29: Sähkönkulutus lämmitykseen | C29: kWh/oCd | D29: =D16/D13 -> 1.0242078 | E29: =E16/E13 -> 0.83400188 | F29: =F16/F13 -> 0.66718412 | G29: =G16/G13 -> 0.58914217 | H29: =H16/H13 -> 0.43805161 | L29: =L16/L13 -> 0.71365424 | M29: =M16/M13 -> 0.47218854 | N29: =N16/N13 -> 0.59876696 | O29: =O16/O13 -> 0.69937303 | P29: =P16/P13 -> 0.74157261
B30: Sähkönkulutus lämmitykseen | C30: kWh/d | D30: =D16/D7 -> 26.884645 | E30: =E16/E7 -> 17.988276 | F30: =F16/F7 -> 11.161935 | G30: =G16/G7 -> 7.99 | H30: =H16/H7 -> 1.2883871 | I30: =I16/I7 -> 0.226 | J30: =J16/J7 -> 0 | K30: =K16/K7 -> 0.17483871 | ... P30: =P16/P7 -> 7.7530212
B31: Norm sähkö lämmitykseen | C31: kWh/d | D31: =D17/D7 -> 22.896 | E31: =E17/E7 -> 18.434317 | F31: =F17/F7 -> 12.654976 | G31: =G17/G7 -> 7.4428294 | H31: =H17/H7 -> 2.1761274 | I31: =I17/I7 -> 0.226 | J31: =J17/J7 -> 0 | K31: =K17/K7 -> 0.17483871 | ... P31: =P17/P7 -> 8.0998998
B32: Ominaislämmönkulutus | C32: kWh/m3 | D32: =D16/$F$4 -> 3.4450397 | E32: =E16/$F$4 -> 2.1563327 | F32: =F16/$F$4 -> 1.4303075 | G32: =G16/$F$4 -> 0.99082341 | H32: =H16/$F$4 -> 0.1650959 | I32: =I16/$F$4 -> 0.028025794 | J32: =J16/$F$4 -> 0 | K32: =K16/$F$4 -> 0.022404101 | ... P32: =P16/$F$4 -> 11.729521
B33: Ominaislämmönkulutus | C33: kWh/m2 | D33: =D16/$F$3 -> 8.6815 | E33: =E16/$F$3 -> 5.4339583 | F33: =F16/$F$3 -> 3.604375 | G33: =G16/$F$3 -> 2.496875 | H33: =H16/$F$3 -> 0.41604167 | I33: =I16/$F$3 -> 0.070625 | J33: =J16/$F$3 -> 0 | K33: =K16/$F$3 -> 0.056458333 | ... P33: =P16/$F$3 -> 29.558393
B34: Norm lämmönkulutus | C34: kWh/m3 | D34: =D17/$F$4 -> 2.9339286 | E34: =E17/$F$4 -> 2.2098016 | F34: =F17/$F$4 -> 1.6216281 | G34: =G17/$F$4 -> 0.92296992 | H34: =H17/$F$4 -> 0.2788523 | I34: =I17/$F$4 -> 0.028025794 | J34: =J17/$F$4 -> 0 | K34: =K17/$F$4 -> 0.022404101 | ... P34: =P17/$F$4 -> 12.254313
B35: Norm lämmönkulutus | C35: kWh/m2 | D35: =D17/$F$3 -> 7.3935001 | E35: =E17/$F$3 -> 5.5687001 | F35: =F17/$F$3 -> 4.0865027 | G35: =G17/$F$3 -> 2.3258842 | H35: =H17/$F$3 -> 0.7027078 | I35: =I17/$F$3 -> 0.070625 | J35: =J17/$F$3 -> 0 | K35: =K17/$F$3 -> 0.056458333 | ... P35: =P17/$F$3 -> 30.880868
B36: Ominaislämmönkulutus | C36: Wh/m3/oCd | D36: =1000*D32/D13 -> 4.2336632 | E36: =1000*E32/E13 -> 3.4474284 | F36: =1000*F32/F13 -> 2.7578709 | G36: =1000*G32/G13 -> 2.4352768 | H36: =1000*H32/H13 -> 1.8107292 | L36: =1000*L32/L13 -> 2.9499596 | M36: =1000*M32/M13 -> 1.9518375 | N36: =1000*N32/N13 -> 2.4750618 | O36: =1000*O32/O13 -> 2.8909269 | P36: =1000*P32/P13 -> 3.065363
A38: Vuosikulutusarvio
B40: Lämmityssähkö ILPillä | D40: 2800 | E40: kWh | G40: Arvio lämmityssähkö ilman ILP | K40: 6800 | L40: kWh | M40: Vuosikulutusarvio ilma ILP
B41: Lämminvesi | D41: 2300 | E41: kWh | G41: Arvio ILPin säästämästä sähköstä | K41: =K40-D40 -> 4000 | L41: kWh | N41: =D43-D40+K40 -> 12400 | O41: kWh
B42: Taloussähkö | D42: 3300 | E42: kWh | G42: Säästöarvio lämmityssähkönkulutuksesta | K42: =K41/K40 -> 0.58823529
B43: Yhteensä | D43: =SUM(D40:D42) -> 8400 | E43: kWh | G43: Säästöarvio kokonaissähkönkulutuksesta | K43: =K41/(SUM(D41:D42)+K40) -> 0.32258065
A46: Pörssisähkön hinta + kate 0,5 snt/kWh
B47: Pörssisähkön tuntikulutuksella painotettu keskihinta | D47: 14.15 | E47: 7.23 | F47: 7.32 | G47: 5.82 | H47: 3.43 | I47: 3.86 | J47: 1.92 | K47: 1.48 | L47: 5.35 | M47: 4.21 | N47: 5.08 | O47: 4.79
...

Sheet 2023
A1: SÄHKÖNKULUTUSRAPORTTI | D1: 2023 | R1: http://suja.kapsi.fi/asema-taulukko.php?asema=101130
R2: https://hlv.fi/asiakaspalvelu/lammitystarveluvut/
A3: Hyvinkää rivitalo 4H+K+S | D3: Asuinala | F3: 96 | G3: m2 | H3: Taloussähkö arvio (ilman lvv) | K3: 10 | L3: kWh/d | M3: Kesäkuukaudet | O3: =(SUM(I11:K11))/92 -> 11.044565 | P3: kWh/d | R3: https://ilmatieteenlaitos.fi/havaintojen-lataus#!/
D4: Tilavuus | F4: =2.52*F3 -> 241.92 | G4: m3
A6: Jakso | D6: Tammi | E6: Helmi | F6: Maalis | G6: Huhti | H6: Touko | I6: Kesä | J6: Heinä | K6: Elo | L6: Syys | M6: Loka | N6: Marras | O6: Joulu | P6: Yhteensä
B7: päivät kuukaudessa | D7: 31 | E7: 28 | F7: 31 | G7: 30 | H7: 31 | I7: 30 | J7: 31 | K7: 31 | L7: 30 | M7: 31 | N7: 30 | O7: 31 | P7: =SUM(D7:O7) -> 365
A8: 2023 | B8: Keskilämpötila | C8: oC | D8: -2.2 | E8: -2.9 | F8: -2.5 | G8: 4.9 | H8: 10.3 | I8: 15.8 | J8: 16.2 | K8: 16.5 | L8: 14.1 | M8: 3.5 | N8: -1.1 | O8: -5.7 | P8: =AVERAGE(D8:O8) -> 5.575
A9: 2023 | B9: Sähkö päivä | C9: kWh | D9: 526.13 | E9: 504.05 | F9: 482.55 | G9: 329.77 | H9: 342.16 | I9: 183.1 | J9: 175.29 | K9: 189.82 | L9: 211.47 | M9: 337.57 | N9: 502.4 | O9: 634.39 | P9: =SUM(D9:O9) -> 4418.7 | R9: =P9/$P$11 -> 0.5837606
A10: 2023 | B10: Sähkö yö | C10: kWh | D10: 342.1 | E10: 348.42 | F10: 363.23 | G10: 206.66 | H10: 179.06 | I10: 147.98 | J10: 129.29 | K10: 190.62 | L10: 190.11 | M10: 272.9 | N10: 341.44 | O10: 438.86 | P10: =SUM(D10:O10) -> 3150.67 | R10: =P10/$P$11 -> 0.4162394
A11: 2023 | B11: Sähkö yhteensä | C11: kWh | D11: =SUM(D9:D10) -> 868.23 | E11: =SUM(E9:E10) -> 852.47 | F11: =SUM(F9:F10) -> 845.78 | G11: =SUM(G9:G10) -> 536.43 | H11: =SUM(H9:H10) -> 521.22 | I11: =SUM(I9:I10) -> 331.08 | J11: =SUM(J9:J10) -> 304.58 | K11: =SUM(K9:K10) -> 380.44 | ... O11: =SUM(O9:O10) -> 1073.25 | P11: =SUM(D11:O11) -> 7569.37 | R11: =P11/$P$11 -> 1
A12: 2023 | B12: Ilmalämpöpumppu | C12: kWh | D12: =(1050.888-932.511+298.13) -> 416.507 | E12: =(677.031-298.13) -> 378.901 | F12: =(1043.61-677.031) -> 366.579 | G12: =(1197.74-1043.61) -> 154.13 | H12: =(1265.67-1197.74) -> 67.93 | I12: =(1279.4-1265.67) -> 13.73 | J12: =1299.22-1291.83 -> 7.39 | K12: =1313.09-1299.21-5.45 -> 8.43 | L12: =(1350.01-1313.09) -> 36.92 | M12: =(1524.15-1350.01)+54.963 -> 229.103 | N12: =(407.629-54.963) -> 352.666 | O12: =(955.116-407.629) -> 547.487 | P12: =SUM(D12:O12) -> 2579.773 | R12: =P12/$P$11 -> 0.3408174 | W12: ILP kulutus | X12: =P12+'2022'!X12 -> 33302.462 | Y12: kWh | Z12: =X12*1000/400 -> 83256.154 | AA12: h
A13: 2023 | B13: Lämmitystarveluku toteutunut | C13: oCd | D13: 590 | E13: 558 | F13: 596 | G13: 326 | H13: 122 | I13: =28/1.02 -> 27.45098 | J13: 0 | K13: 0 | L13: =25/1.02 -> 24.509804 | M13: =421/1.02 -> 412.7451 | N13: =554/1.02 -> 543.13725 | O13: =716/1.02 -> 701.96078 | P13: =SUM(D13:O13) -> 3901.8039 | R13: =(P13-P14)/P14 -> -0.060937684 | W13: ILP säästö | X13: =X12*2.7-X12 -> 56614.185 | Y13: kWh
A14: 2023 | B14: Lämmitystarveluku normivuosi | C14: oCd | D14: 693 | E14: 641 | F14: 588 | G14: 379 | H14: 154 | I14: 19 | J14: 4 | K14: 21 | L14: 165 | M14: 378 | N14: 494 | O14: 619 | P14: 4155
A15: 2023 | B15: Lämminvesivaraaja | C15: kWh | D15: 152 | E15: 166 | F15: 156 | G15: 150 | H15: 176 | I15: 121 | J15: 122 | K15: 142 | L15: 139 | M15: 126 | N15: 160 | O15: 178 | P15: =SUM(D15:O15) -> 1788 | R15: =P15/$P$11 -> 0.23621517
A16: 2023 | B16: Lämmityssähkö (arvio) | C16: kWh | D16: =D12 -> 416.507 | E16: =E12 -> 378.901 | F16: =F12 -> 366.579 | G16: =G12 -> 154.13 | H16: =H12 -> 67.93 | I16: =I12 -> 13.73 | J16: =J12 -> 7.39 | K16: =K12 -> 8.43 | ... M16: =M12 -> 229.103 | N16: =N12+30 -> 382.666 | O16: =O12+50 -> 597.487 | P16: =SUM(D16:O16) -> 2659.773
A17: 2023 | B17: Sääkorjattu lämmityssähkö | C17: kWh | D17: =IF(D16<0,0,((D14/D13))*D16) -> 489.21924 | E17: =IF(E16<0,0,((E14/E13))*E16) -> 435.26083 | F17: =IF(F16<0,0,((F14/F13))*F16) -> 361.65848 | G17: =IF(G16<0,0,((G14/G13))*G16) -> 179.18794 | H17: =IF(H16<0,0,((H14/H13))*H16) -> 85.747705 | I17: =I16 -> 13.73 | J17: =J16 -> 7.39 | K17: =K16 -> 8.43 | L17: =IF(L16<0,0,((L14/L13))*L16) -> 248.54544 | M17: =IF(M16<0,0,((M14/M13))*M16) -> 209.81699 | N17: =IF(N16<0,0,((N14/N13))*N16) -> 348.04647 | O17: =IF(O16<0,0,((O14/O13))*O16) -> 526.87338 | P17: =SUM(D17:O17) -> 2913.9065 | R17: =(P14-P13)/P14 -> 0.060937684
A20: Kulutus päivässä | C20: kWh/d | D20: =D11/D7 -> 28.007419 | E20: =E11/E7 -> 30.445357 | F20: =F11/F7 -> 27.283226 | G20: =G11/G7 -> 17.881 | H20: =H11/H7 -> 16.813548 | I20: =I11/I7 -> 11.036 | J20: =J11/J7 -> 9.8251613 | K20: =K11/K7 -> 12.272258 | ... O20: =O11/O7 -> 34.620968 | P20: =P11/365 -> 20.738
B21: Kumulatiivinen kulutus | C21: kWh | D21: =SUM(D11) -> 868.23 | E21: =SUM($D$11:E11) -> 1720.7 | F21: =SUM($D$11:F11) -> 2566.48 | G21: =SUM($D$11:G11) -> 3102.91 | H21: =SUM($D$11:H11) -> 3624.13 | I21: =SUM($D$11:I11) -> 3955.21 | J21: =SUM($D$11:J11) -> 4259.79 | K21: =SUM($D$11:K11) -> 4640.23 | L21: =SUM($D$11:L11) -> 5041.81 | ... O21: =SUM($D$11:O11) -> 7569.37
B22: Kumulatiivinen kulutus ILP | C22: kWh | D22: =SUM(D12) -> 416.507 | E22: =SUM($D$12:E12) -> 795.408 | F22: =SUM($D$12:F12) -> 1161.987 | G22: =SUM($D$12:G12) -> 1316.117 | H22: =SUM($D$12:H12) -> 1384.047 | I22: =SUM($D$12:I12) -> 1397.777 | J22: =SUM($D$12:J12) -> 1405.167 | K22: =SUM($D$12:K12) -> 1413.597 | L22: =SUM($D$12:L12) -> 1450.517 | ... O22: =SUM($D$12:O12) -> 2579.773
B23: Kumulatiivinen kulutus lämmitys | C23: kWh | D23: =SUM(D16) -> 416.507 | E23: =SUM($D$16:E16) -> 795.408 | F23: =SUM($D$16:F16) -> 1161.987 | G23: =SUM($D$16:G16) -> 1316.117 | H23: =SUM($D$16:H16) -> 1384.047 | I23: =SUM($D$16:I16) -> 1397.777 | J23: =SUM($D$16:J16) -> 1405.167 | K23: =SUM($D$16:K16) -> 1413.597 | L23: =SUM($D$16:L16) -> 1450.517 | ... O23: =SUM($D$16:O16) -> 2659.773
B24: Taloussähkö ilman LKV | C24: kWh/d | D24: =(D11-D16-D15)/D7 -> 9.6684839 | E24: =(E11-E16-E15)/E7 -> 10.984607 | F24: =(F11-F16-F15)/F7 -> 10.425839 | G24: =(G11-G16-G15)/G7 -> 7.7433333 | H24: =(H11-H16-H15)/H7 -> 8.9448387 | I24: =(I11-I16-I15)/I7 -> 6.545 | J24: =(J11-J16-J15)/J7 -> 5.6512903 | K24: =(K11-K16-K15)/K7 -> 7.4196774 | ... O24: =(O11-O16-O15)/O7 -> 9.6052581 | P24: =(P11-P16-P15) -> 3121.597
B25: Liukuva 12 kk kulutus | C25: kWh | D25: =D21+'2022'!$P$11-'2022'!D21 -> 7467.42 | E25: =E21+'2022'!$P$11-'2022'!E21 -> 7376.96 | F25: =F21+'2022'!$P$11-'2022'!F21 -> 7312.35 | G25: =G21+'2022'!$P$11-'2022'!G21 -> 7114.96 | H25: =H21+'2022'!$P$11-'2022'!H21 -> 7136.04 | I25: =I21+'2022'!$P$11-'2022'!I21 -> 7162.44 | J25: =J21+'2022'!$P$11-'2022'!J21 -> 7096.57 | K25: =K21+'2022'!$P$11-'2022'!K21 -> 7208.73 | ... O25: =O21+'2022'!$P$11-'2022'!O21 -> 7569.37
B26: Liukuva 12 kk kulutus ILP | C26: kWh | D26: =D22+SUM('2022'!E12:$O12) -> 2465.076 | E26: =E22+SUM('2022'!F12:$O12) -> 2408.897 | F26: =F22+SUM('2022'!G12:$O12) -> 2417.706 | G26: =G22+SUM('2022'!H12:$O12) -> 2342.066 | H26: =H22+SUM('2022'!I12:$O12) -> 2325.536 | I26: =I22+SUM('2022'!J12:$O12) -> 2329.156 | J26: =J22+SUM('2022'!K12:$O12) -> 2331.406 | K26: =K22+SUM('2022'!L12:$O12) -> 2336.996 | ... N26: =N22+SUM('2022'!O12:$O12) -> 2472.476 | O26: =O22 -> 2579.773
A27: Lämmitys
B28: Lämmityksen osuus kulutuksesta | D28: =D16/D11 -> 0.47971966 | E28: =E16/E11 -> 0.44447429 | F28: =F16/F11 -> 0.43342122 | G28: =G16/G11 -> 0.28732547 | H28: =H16/H11 -> 0.13032884 | I28: =I16/I11 -> 0.041470339 | J28: =J16/J11 -> 0.024262919 | K28: =K16/K11 -> 0.022158553 | ... P28: =P16/P11 -> 0.35138631
B29: Sähkönkulutus lämmitykseen | C29: kWh/oCd | D29: =D16/D13 -> 0.70594407 | E29: =E16/E13 -> 0.67903405 | F29: =F16/F13 -> 0.61506544 | G29: =G16/G13 -> 0.47279141 | H29: =H16/H13 -> 0.55680328 | L29: =L16/L13 -> 1.506336 | M29: =M16/M13 -> 0.5550714 | N29: =N16/N13 -> 0.70454751 | O29: =O16/O13 -> 0.85116863 | P29: =P16/P13 -> 0.68167777
B30: Sähkönkulutus lämmitykseen | C30: kWh/d | D30: =D16/D7 -> 13.43571 | E30: =E16/E7 -> 13.532179 | F30: =F16/F7 -> 11.825129 | G30: =G16/G7 -> 5.1376667 | H30: =H16/H7 -> 2.1912903 | I30: =I16/I7 -> 0.45766667 | J30: =J16/J7 -> 0.2383871 | K30: =K16/K7 -> 0.27193548 | ... P30: =P16/P7 -> 7.2870493
B31: Norm sähkö lämmitykseen | C31: kWh/d | D31: =D17/D7 -> 15.781266 | E31: =E17/E7 -> 15.54503 | F31: =F17/F7 -> 11.666402 | G31: =G17/G7 -> 5.9729315 | H31: =H17/H7 -> 2.766055 | I31: =I17/I7 -> 0.45766667 | J31: =J17/J7 -> 0.2383871 | K31: =K17/K7 -> 0.27193548 | ... P31: =P17/P7 -> 7.9833054
B32: Ominaislämmönkulutus | C32: kWh/m3 | D32: =D16/$F$4 -> 1.7216725 | E32: =E16/$F$4 -> 1.5662244 | F32: =F16/$F$4 -> 1.5152902 | G32: =G16/$F$4 -> 0.63711144 | H32: =H16/$F$4 -> 0.2807953 | I32: =I16/$F$4 -> 0.056754299 | J32: =J16/$F$4 -> 0.030547288 | K32: =K16/$F$4 -> 0.03484623 | ... P32: =P16/$F$4 -> 10.994432
B33: Ominaislämmönkulutus | C33: kWh/m2 | D33: =D16/$F$3 -> 4.3386146 | E33: =E16/$F$3 -> 3.9468854 | F33: =F16/$F$3 -> 3.8185312 | G33: =G16/$F$3 -> 1.6055208 | H33: =H16/$F$3 -> 0.70760417 | I33: =I16/$F$3 -> 0.14302083 | J33: =J16/$F$3 -> 0.076979167 | K33: =K16/$F$3 -> 0.0878125 | ... P33: =P16/$F$3 -> 27.705969
B34: Norm lämmönkulutus | C34: kWh/m3 | D34: =D17/$F$4 -> 2.0222356 | E34: =E17/$F$4 -> 1.7991932 | F34: =F17/$F$4 -> 1.4949507 | G34: =G17/$F$4 -> 0.74069091 | H34: =H17/$F$4 -> 0.35444653 | I34: =I17/$F$4 -> 0.056754299 | J34: =J17/$F$4 -> 0.030547288 | K34: =K17/$F$4 -> 0.03484623 | ... P34: =P17/$F$4 -> 12.044918
B35: Norm lämmönkulutus | C35: kWh/m2 | D35: =D17/$F$3 -> 5.0960337 | E35: =E17/$F$3 -> 4.5339669 | F35: =F17/$F$3 -> 3.7672758 | G35: =G17/$F$3 -> 1.8665411 | H35: =H17/$F$3 -> 0.89320526 | I35: =I17/$F$3 -> 0.14302083 | J35: =J17/$F$3 -> 0.076979167 | K35: =K17/$F$3 -> 0.0878125 | ... P35: =P17/$F$3 -> 30.353192
B36: Ominaislämmönkulutus | C36: Wh/m3/oCd | D36: =1000*D32/D13 -> 2.9180889 | E36: =1000*E32/E13 -> 2.8068537 | F36: =1000*F32/F13 -> 2.5424332 | G36: =1000*G32/G13 -> 1.9543296 | H36: =1000*H32/H13 -> 2.3016009 | L36: =1000*L32/L13 -> 6.2265873 | M36: =1000*M32/M13 -> 2.294442 | N36: =1000*N32/N13 -> 2.9123161 | O36: =1000*O32/O13 -> 3.5183889 | P36: =1000*P32/P13 -> 2.8177818
A38: Vuosikulutusarvio
B40: Lämmityssähkö ILPillä | D40: 2800 | E40: kWh | G40: Arvio lämmityssähkö ilman ILP | K40: 6800 | L40: kWh | M40: Vuosikulutusarvio ilma ILP
B41: Lämminvesi | D41: 2300 | E41: kWh | G41: Arvio ILPin säästämästä sähköstä | K41: =K40-D40 -> 4000 | L41: kWh | N41: =D43-D40+K40 -> 12400 | O41: kWh
B42: Taloussähkö | D42: 3300 | E42: kWh | G42: Säästöarvio lämmityssähkönkulutuksesta | K42: =K41/K40 -> 0.58823529
B43: Yhteensä | D43: =SUM(D40:D42) -> 8400 | E43: kWh | G43: Säästöarvio kokonaissähkönkulutuksesta | K43: =K41/(SUM(D41:D42)+K40) -> 0.32258065
A46: Pörssisähkön hinta + kate 0,35-0,4 snt/kWh
B47: Pörssisähkön tuntikulutuksella painotettu keskihinta | D47: 8.43 | E47: 8.58 | F47: 7.89 | G47: 6.21 | H47: 3.44 | I47: 5.11 | J47: 4.18 | K47: 6.49 | L47: 3.41 | M47: 4.58 | N47: 4.49 | O47: 9.77
...

Sheet 2022
A1: SÄHKÖNKULUTUSRAPORTTI | D1: 2022 | R1: http://suja.kapsi.fi/asema-taulukko.php?asema=101130
R2: https://hlv.fi/asiakaspalvelu/lammitystarveluvut/
A3: Hyvinkää rivitalo 4H+K+S | D3: Asuinala | F3: 96 | G3: m2 | H3: Taloussähkö arvio (ilman lvv) | K3: 10 | L3: kWh/d | M3: Kesäkuukaudet | O3: =(SUM(I11:K11))/92 -> 10.254457 | P3: kWh/d | R3: https://ilmatieteenlaitos.fi/havaintojen-lataus#!/
D4: Tilavuus | F4: =2.52*F3 -> 241.92 | G4: m3
A6: Jakso | D6: Tammi | E6: Helmi | F6: Maalis | G6: Huhti | H6: Touko | I6: Kesä | J6: Heinä | K6: Elo | L6: Syys | M6: Loka | N6: Marras | O6: Joulu | P6: Yhteensä
B7: päivät kuukaudessa | D7: 31 | E7: 28 | F7: 31 | G7: 30 | H7: 31 | I7: 30 | J7: 31 | K7: 31 | L7: 30 | M7: 31 | N7: 30 | O7: 31 | P7: =SUM(D7:O7) -> 365
A8: 2022 | B8: Keskilämpötila | C8: oC | D8: -3.6 | E8: -2.5 | F8: -0.3 | G8: 3.1 | H8: 9.8 | I8: 16.8 | J8: 17.2 | K8: 17.9 | L8: 8.2 | M8: 6.8 | N8: 1.7 | O8: -4.2 | P8: =AVERAGE(D8:O8) -> 5.9083333
A9: 2022 | B9: Sähkö päivä | C9: kWh | D9: 621.32 | E9: 515.49 | F9: 454.9 | G9: 365.82 | H9: 241.05 | I9: 163.69 | J9: 193.72 | K9: 160.91 | L9: 230.39 | M9: 311.61 | N9: 367.67 | O9: 554.02 | P9: =SUM(D9:O9) -> 4180.59 | R9: =P9/$P$11 -> 0.54133787
A10: 2022 | B10: Sähkö yö | C10: kWh | D10: 502.19 | E10: 427.44 | F10: 455.49 | G10: 368 | H10: 259.09 | I10: 140.99 | J10: 176.73 | K10: 107.37 | L10: 201.91 | M10: 234.27 | N10: 288.03 | O10: 380.6 | P10: =SUM(D10:O10) -> 3542.11 | R10: =P10/$P$11 -> 0.45866213
A11: 2022 | B11: Sähkö yhteensä | C11: kWh | D11: =SUM(D9:D10) -> 1123.51 | E11: =SUM(E9:E10) -> 942.93 | F11: =SUM(F9:F10) -> 910.39 | G11: =SUM(G9:G10) -> 733.82 | H11: =SUM(H9:H10) -> 500.14 | I11: =SUM(I9:I10) -> 304.68 | J11: =SUM(J9:J10) -> 370.45 | K11: =SUM(K9:K10) -> 268.28 | ... O11: =SUM(O9:O10) -> 934.62 | P11: =SUM(D11:O11) -> 7722.7 | R11: =P11/$P$11 -> 1
A12: 2022 | B12: Ilmalämpöpumppu | C12: kWh | D12: =(1793.34-1256.21) -> 537.13 | E12: =(2228.42-1793.34) -> 435.08 | F12: =(2586.19-2228.42) -> 357.77 | G12: =(2815.96-2586.19) -> 229.77 | H12: =(2900.42-2815.96) -> 84.46 | I12: =(2910.53-2900.42) -> 10.11 | J12: =2929.64-2927.41+2936.31-2933.4 -> 5.14 | K12: =1.94+0.9 -> 2.84 | L12: =(94.524-9.112) -> 85.412 | M12: =(233.453-94.524) -> 138.929 | N12: =(492.321-233.453) -> 258.868 | O12: =(932.511-492.321) -> 440.19 | P12: =SUM(D12:O12) -> 2585.699 | R12: =P12/$P$11 -> 0.334818 | W12: ILP kulutus | X12: =P12+'2021'!X12 -> 30722.689 | Y12: kWh | Z12: =X12*1000/400 -> 76806.722 | AA12: h
A13: 2022 | B13: Lämmitystarveluku toteutunut | C13: oCd | D13: =668/1.02 -> 654.90196 | E13: =558/1.02 -> 547.05882 | F13: =548/1.02 -> 537.2549 | G13: =425/1.02 -> 416.66667 | H13: =160/1.02 -> 156.86275 | I13: 0 | J13: 0 | K13: =7/1.02 -> 6.8627451 | L13: =228/1.02 -> 223.52941 | M13: =321/1.02 -> 314.70588 | N13: =470/1.02 -> 460.78431 | O13: =654/1.02 -> 641.17647 | P13: =SUM(D13:O13) -> 3959.8039 | R13: =(P13-P14)/P14 -> -0.080398532 | W13: ILP säästö | X13: =X12*2.6-X12 -> 49156.302 | Y13: kWh
A14: 2022 | B14: Lämmitystarveluku normivuosi | C14: oCd | D14: 712 | E14: 664 | F14: 598 | G14: 387 | H14: 156 | I14: 20 | J14: 4 | K14: 30 | L14: 187 | M14: 375 | N14: 518 | O14: 655 | P14: =SUM(D14:O14) -> 4306
A15: 2022 | B15: Lämminvesivaraaja | C15: kWh | D15: 196 | E15: 165 | F15: 208 | G15: 195 | H15: 160 | I15: 116 | J15: 130 | K15: 100 | L15: 142 | M15: 161 | N15: 142 | O15: 144.5 | P15: =SUM(D15:O15) -> 1859.5 | R15: =P15/$P$11 -> 0.24078366
A16: 2022 | B16: Lämmityssähkö (arvio) | C16: kWh | D16: =D12 -> 537.13 | E16: =E12 -> 435.08 | F16: =F12 -> 357.77 | G16: =G12 -> 229.77 | H16: =H12 -> 84.46 | I16: =I12 -> 10.11 | J16: =J12 -> 5.14 | K16: =K12 -> 2.84 | ... O16: =O12 -> 440.19 | P16: =SUM(D16:O16) -> 2585.699
A17: 2022 | B17: Sääkorjattu lämmityssähkö | C17: kWh | D17: =IF(D16<0,0,((D14/D13))*D16) -> 583.96002 | E17: =IF(E16<0,0,((E14/E13))*E16) -> 528.0842 | F17: =IF(F16<0,0,((F14/F13))*F16) -> 398.22151 | G17: =IF(G16<0,0,((G14/G13))*G16) -> 213.41038 | H17: =IF(H16<0,0,((H14/H13))*H16) -> 83.99547 | I17: =I16 -> 10.11 | J17: =J16 -> 5.14 | K17: =K16 -> 2.84 | L17: =IF(L16<0,0,((L14/L13))*L16) -> 71.453881 | M17: =IF(M16<0,0,((M14/M13))*M16) -> 165.54624 | N17: =IF(N16<0,0,((N14/N13))*N16) -> 291.01169 | O17: =IF(O16<0,0,((O14/O13))*O16) -> 449.68033 | P17: =SUM(D17:O17) -> 2803.4537 | R17: =(P14-P13)/P14 -> 0.080398532
A20: Kulutus päivässä | C20: kWh/d | D20: =D11/D7 -> 36.242258 | E20: =E11/E7 -> 33.676071 | F20: =F11/F7 -> 29.367419 | G20: =G11/G7 -> 24.460667 | H20: =H11/H7 -> 16.133548 | I20: =I11/I7 -> 10.156 | J20: =J11/J7 -> 11.95 | K20: =K11/K7 -> 8.6541935 | ... O20: =O11/O7 -> 30.149032 | P20: =P11/365 -> 21.158082
B21: Kumulatiivinen kulutus | C21: kWh | D21: =SUM(D11) -> 1123.51 | E21: =SUM($D$11:E11) -> 2066.44 | F21: =SUM($D$11:F11) -> 2976.83 | G21: =SUM($D$11:G11) -> 3710.65 | H21: =SUM($D$11:H11) -> 4210.79 | I21: =SUM($D$11:I11) -> 4515.47 | J21: =SUM($D$11:J11) -> 4885.92 | K21: =SUM($D$11:K11) -> 5154.2 | L21: =SUM($D$11:L11) -> 5586.5 | ... O21: =SUM($D$11:O11) -> 7722.7
B22: Kumulatiivinen kulutus ILP | C22: kWh | D22: =SUM(D12) -> 537.13 | E22: =SUM($D$12:E12) -> 972.21 | F22: =SUM($D$12:F12) -> 1329.98 | G22: =SUM($D$12:G12) -> 1559.75 | H22: =SUM($D$12:H12) -> 1644.21 | I22: =SUM($D$12:I12) -> 1654.32 | J22: =SUM($D$12:J12) -> 1659.46 | K22: =SUM($D$12:K12) -> 1662.3 | L22: =SUM($D$12:L12) -> 1747.712 | ... O22: =SUM($D$12:O12) -> 2585.699
B23: Kumulatiivinen kulutus lämmitys | C23: kWh | D23: =SUM(D16) -> 537.13 | E23: =SUM($D$16:E16) -> 972.21 | F23: =SUM($D$16:F16) -> 1329.98 | G23: =SUM($D$16:G16) -> 1559.75 | H23: =SUM($D$16:H16) -> 1644.21 | I23: =SUM($D$16:I16) -> 1654.32 | J23: =SUM($D$16:J16) -> 1659.46 | K23: =SUM($D$16:K16) -> 1662.3 | L23: =SUM($D$16:L16) -> 1747.712 | ... O23: =SUM($D$16:O16) -> 2585.699
B24: Taloussähkö ilman LKV | C24: kWh | D24: =(D11-D12-D15)/D7 -> 12.592903 | E24: =(E11-E12-E15)/E7 -> 12.244643 | F24: =(F11-F12-F15)/F7 -> 11.116774 | G24: =(G11-G12-G15)/G7 -> 10.301667 | H24: =(H11-H12-H15)/H7 -> 8.2477419 | I24: =(I11-I12-I15)/I7 -> 5.9523333 | J24: =(J11-J12-J15)/J7 -> 7.5906452 | K24: =(K11-K12-K15)/K7 -> 5.3367742 | ... O24: =(O11-O12-O15)/O7 -> 11.288065 | P24: =P11-P12-P15-42 -> 3235.501
B25: Liukuva 12 kk kulutus | C25: kWh | D25: =D21+'2021'!$P$11-'2021'!D21 -> 8946.51 | E25: =E21+'2021'!$P$11-'2021'!E21 -> 8744.28 | F25: =F21+'2021'!$P$11-'2021'!F21 -> 8657.59 | G25: =G21+'2021'!$P$11-'2021'!G21 -> 8649.03 | H25: =H21+'2021'!$P$11-'2021'!H21 -> 8571.16 | I25: =I21+'2021'!$P$11-'2021'!I21 -> 8520.06 | J25: =J21+'2021'!$P$11-'2021'!J21 -> 8583.5 | K25: =K21+'2021'!$P$11-'2021'!K21 -> 8429.53 | ... O25: =O21+'2021'!$P$11-'2021'!O21 -> 7722.7
B26: Liukuva 12 kk kulutus ILP | C26: kWh | D26: =D22+SUM('2021'!E12:$O12) -> 3085.649 | E26: =E22+SUM('2021'!F12:$O12) -> 2892.379 | F26: =F22+SUM('2021'!G12:$O12) -> 2871.529 | G26: =G22+SUM('2021'!H12:$O12) -> 2909.999 | H26: =H22+SUM('2021'!I12:$O12) -> 2908.839 | I26: =I22+SUM('2021'!J12:$O12) -> 2917.169 | J26: =J22+SUM('2021'!K12:$O12) -> 2920.696 | K26: =K22+SUM('2021'!L12:$O12) -> 2885.725 | ... N26: =N22+SUM('2021'!O12:$O12) -> 2804.467 | O26: =O22 -> 2585.699
A27: Lämmitys
B28: Lämmityksen osuus kulutuksesta | D28: =D16/D11 -> 0.47808208 | E28: =E16/E11 -> 0.46141283 | F28: =F16/F11 -> 0.39298542 | G28: =G16/G11 -> 0.31311493 | H28: =H16/H11 -> 0.16887272 | I28: =I16/I11 -> 0.033182355 | J28: =J16/J11 -> 0.013875017 | K28: =K16/K11 -> 0.010585955 | ... P28: =P16/P11 -> 0.334818
B29: Sähkönkulutus lämmitykseen | C29: kWh/oCd | D29: =D16/D13 -> 0.82016856 | E29: =E16/E13 -> 0.79530753 | F29: =F16/F13 -> 0.66592226 | G29: =G16/G13 -> 0.551448 | H29: =H16/H13 -> 0.5384325 | L29: =L16/L13 -> 0.38210632 | M29: =M16/M13 -> 0.44145664 | N29: =N16/N13 -> 0.56179864 | O29: =O16/O13 -> 0.68653486 | P29: =P16/P13 -> 0.65298663
B30: Sähkönkulutus lämmitykseen | C30: kWh/d | D30: =D16/D7 -> 17.326774 | E30: =E16/E7 -> 15.538571 | F30: =F16/F7 -> 11.540968 | G30: =G16/G7 -> 7.659 | H30: =H16/H7 -> 2.7245161 | I30: =I16/I7 -> 0.337 | J30: =J16/J7 -> 0.16580645 | K30: =K16/K7 -> 0.091612903 | ... P30: =P16/P7 -> 7.0841068
