Workbook
Name Print_Area_0: '2007'!$A$1:$P$26
Name Print_Area_0: '2008'!$A$1:$P$28
Name Print_Area_0: '2009'!$A$1:$P$28
Name Print_Area_0: '2010'!$A$1:$P$28
Name Print_Area_0: '2011'!$A$1:$P$28
Name Print_Area_0: '2012'!$A$1:$P$28
Name Print_Area_0: '2013'!$A$1:$P$28
Name Print_Area_0: '2014'!$A$1:$P$28
Name Print_Area_0: '2015'!$A$1:$P$28
Name Print_Area_0: '2016'!$A$1:$P$28
Name Print_Area_0: '2017'!$A$1:$P$28
Name Print_Area_0: '2018'!$A$1:$P$28
Name Print_Area_0: '2019'!$A$1:$P$28
Name Print_Area_0: '2020'!$A$1:$P$28
Name Print_Area_0: '2021'!$A$1:$P$29
Name Print_Area_0: '2022'!$A$1:$P$29
Name Print_Area_0: '2023'!$A$1:$P$29
Name Print_Area_0: '2024'!$A$1:$P$29
Name Print_Area_0: '2025'!$A$1:$P$29
Name Print_Area_0: '2026'!$A$1:$P$29
Name Print_Area_0: 'Naapurit I'!$A$1:$P$15
Name Print_Area_0: 'Naapurit II'!$A$1:$P$15
Name Print_Area_0_0: '2007'!$A$1:$P$26
Name Print_Area_0_0: '2008'!$A$1:$P$28
Name Print_Area_0_0: '2009'!$A$1:$P$28
Name Print_Area_0_0: '2010'!$A$1:$P$28
Name Print_Area_0_0: '2011'!$A$1:$P$28
Name Print_Area_0_0: '2012'!$A$1:$P$28
Name Print_Area_0_0: '2013'!$A$1:$P$28
Name Print_Area_0_0: '2014'!$A$1:$P$28
Name Print_Area_0_0: '2015'!$A$1:$P$28
Name Print_Area_0_0: '2016'!$A$1:$P$28
Name Print_Area_0_0: '2017'!$A$1:$P$28
Name Print_Area_0_0: '2018'!$A$1:$P$28
Name Print_Area_0_0: '2019'!$A$1:$P$28
Name Print_Area_0_0: '2020'!$A$1:$P$28
Name Print_Area_0_0: '2021'!$A$1:$P$29
Name Print_Area_0_0: '2022'!$A$1:$P$29
Name Print_Area_0_0: '2023'!$A$1:$P$29
Name Print_Area_0_0: '2024'!$A$1:$P$29
Name Print_Area_0_0: '2025'!$A$1:$P$29
Name Print_Area_0_0: '2026'!$A$1:$P$29
Name Print_Area_0_0: 'Naapurit I'!$A$1:$P$15
Name Print_Area_0_0: 'Naapurit II'!$A$1:$P$15

Sheet 2026
A1: SÄHKÖNKULUTUSRAPORTTI | D1: 2026 | R1: http://suja.kapsi.fi/asema-taulukko.php?asema=101130
R2: https://hlv.fi/asiakaspalvelu/lammitystarveluvut/
A3: Hyvinkää rivitalo 4H+K+S | D3: Asuinala | F3: 96 | G3: m2 | H3: Taloussähkö arvio (ilman lvv) | K3: 10 | L3: kWh/d | M3: Kesäkuukaudet | O3: =(SUM(I11:K11))/92 -> 7.6792391 | P3: kWh/d | R3: https://ilmatieteenlaitos.fi/havaintojen-lataus#!/
D4: Tilavuus | F4: =2.52*F3 -> 241.92 | G4: m3
A6: Jakso | D6: Tammi | E6: Helmi | F6: Maalis | G6: Huhti | H6: Touko | I6: Kesä | J6: Heinä | K6: Elo | L6: Syys | M6: Loka | N6: Marras | O6: Joulu | P6: Yhteensä
B7: päivät kuukaudessa | D7: 31 | E7: 28 | F7: 31 | G7: 30 | H7: 31 | I7: 30 | J7: 31 | K7: 31 | L7: 30 | M7: 31 | N7: 30 | O7: 31 | P7: =SUM(D7:O7) -> 365
A8: 2025 | B8: Keskilämpötila | C8: oC | D8: -10.2 | E8: -11.2 | F8: 2.8 | G8: 4.6 | H8: 11.6 | I8: 16.2 | J8: 16.7 | P8: =AVERAGE(D8:O8) -> 4.3571429
A9: 2025 | B9: Sähkö päivä | C9: kWh | D9: 751.42 | E9: 692.26 | F9: 367.59 | G9: 394.35 | H9: 277.46 | I9: 237.72 | J9: 208.63 | P9: =SUM(D9:O9) -> 2929.43 | R9: =P9/$P$11 -> 0.63071332
A10: 2025 | B10: Sähkö yö | C10: kWh | D10: 486.37 | E10: 478.32 | F10: 237.03 | G10: 149.65 | H10: 103.69 | I10: 118.78 | J10: 141.36 | P10: =SUM(D10:O10) -> 1715.2 | R10: =P10/$P$11 -> 0.36928668
A11: 2025 | B11: Sähkö yhteensä | C11: kWh | D11: =SUM(D9:D10) -> 1237.79 | E11: =SUM(E9:E10) -> 1170.58 | F11: =SUM(F9:F10) -> 604.62 | G11: =SUM(G9:G10) -> 544 | H11: =SUM(H9:H10) -> 381.15 | I11: =SUM(I9:I10) -> 356.5 | J11: =SUM(J9:J10) -> 349.99 | K11: =SUM(K9:K10) -> 0 | ... O11: =SUM(O9:O10) -> 0 | P11: =SUM(D11:O11) -> 4644.63 | R11: =P11/$P$11 -> 1
A12: 2025 | B12: Ilmalämpöpumppu | C12: kWh | D12: =(6701.86-5942.19) -> 759.67 | E12: =(7469.3-6701.86) -> 767.44 | F12: =(7737.11-7469.3) -> 267.81 | G12: =(7904.89-7737.11) -> 167.78 | H12: =(7949.93-7904.89) -> 45.04 | I12: =(7958.81-7949.93) -> 8.88 | J12: =15.83-1.68-9.17 -> 4.98 | P12: =SUM(D12:O12) -> 2021.6 | R12: =P12/$P$11 -> 0.43525534 | W12: ILP kulutus | X12: =P12+'2025'!X12 -> 40263.887 | Y12: kWh | Z12: =X12*1000/400 -> 100659.72 | AA12: h
A13: 2025 | B13: Lämmitystarveluku toteutunut | C13: oCd | D13: =830/1.02 -> 813.72549 | E13: =786/1.02 -> 770.58824 | F13: =433/1.02 -> 424.5098 | G13: =356/1.02 -> 349.01961 | H13: =66/1.02 -> 64.705882 | I13: 0 | J13: 0 | P13: =SUM(D13:O13) -> 2422.549 | R13: =(P14-P13)/P14 -> 0.41695571 | W13: ILP säästö | X13: =X12*2.7-X12 -> 68448.609 | Y13: kWh
A14: 2025 | B14: Lämmitystarveluku normivuosi | C14: oCd | D14: 693 | E14: 641 | F14: 588 | G14: 379 | H14: 154 | I14: 19 | J14: 4 | K14: 21 | L14: 165 | M14: 378 | N14: 494 | O14: 619 | P14: 4155
A15: 2025 | B15: Lämminvesivaraaja | C15: kWh | D15: 158 | E15: 137.5 | F15: 132.5 | G15: 148.5 | H15: 156 | I15: 135 | J15: 135 | P15: =SUM(D15:O15) -> 1002.5 | R15: =P15/$P$11 -> 0.21584066
A16: 2025 | B16: Lämmityssähkö (arvio) | C16: kWh | D16: =D12 -> 759.67 | E16: =E12 -> 767.44 | F16: =F12 -> 267.81 | G16: =G12 -> 167.78 | H16: =H12 -> 45.04 | I16: =I12 -> 8.88 | J16: =J12 -> 4.98 | K16: =K12 -> 0 | ... O16: =O12 -> 0 | P16: =SUM(D16:O16) -> 2021.6
A17: 2025 | B17: Sääkorjattu lämmityssähkö | C17: kWh | D17: =IF(D16<0,0,((D14/D13))*D16) -> 646.96426 | E17: =IF(E16<0,0,((E14/E13))*E16) -> 638.3812 | F17: =IF(F16<0,0,((F14/F13))*F16) -> 370.95087 | G17: =IF(G16<0,0,((G14/G13))*G16) -> 182.19211 | H17: =IF(H16=0,0,((H14/H13))*H16) -> 107.1952 | I17: =I16 -> 8.88 | J17: =J16 -> 4.98 | K17: =K16 -> 0 | L17: =IF(L16=0,0,((L14/L13))*L16) -> 0 | M17: =IF(M16=0,0,((M14/M13))*M16) -> 0 | N17: =IF(N16=0,0,((N14/N13))*N16) -> 0 | O17: =IF(O16=0,0,((O14/O13))*O16) -> 0 | P17: =SUM(D17:O17) -> 1959.5436 | R17: =(P14-P13)/P14 -> 0.41695571
A20: Kulutus päivässä | C20: kWh/d | D20: =D11/D7 -> 39.92871 | E20: =E11/E7 -> 41.806429 | F20: =F11/F7 -> 19.503871 | G20: =G11/G7 -> 18.133333 | H20: =H11/H7 -> 12.295161 | I20: =I11/I7 -> 11.883333 | J20: =J11/J7 -> 11.29 | K20: =K11/K7 -> 0 | ... O20: =O11/O7 -> 0 | P20: =P11/365 -> 12.725014
B21: Kumulatiivinen kulutus | C21: kWh | D21: =SUM(D11) -> 1237.79 | E21: =SUM($D$11:E11) -> 2408.37 | F21: =SUM($D$11:F11) -> 3012.99 | G21: =SUM($D$11:G11) -> 3556.99 | H21: =SUM($D$11:H11) -> 3938.14 | I21: =SUM($D$11:I11) -> 4294.64 | J21: =SUM($D$11:J11) -> 4644.63 | K21: =SUM($D$11:K11) -> 4644.63 | L21: =SUM($D$11:L11) -> 4644.63 | ... O21: =SUM($D$11:O11) -> 4644.63
B22: Kumulatiivinen kulutus ILP | C22: kWh | D22: =SUM(D12) -> 759.67 | E22: =SUM($D$12:E12) -> 1527.11 | F22: =SUM($D$12:F12) -> 1794.92 | G22: =SUM($D$12:G12) -> 1962.7 | H22: =SUM($D$12:H12) -> 2007.74 | I22: =SUM($D$12:I12) -> 2016.62 | J22: =SUM($D$12:J12) -> 2021.6 | K22: =SUM($D$12:K12) -> 2021.6 | L22: =SUM($D$12:L12) -> 2021.6 | ... O22: =SUM($D$12:O12) -> 2021.6
B23: Kumulatiivinen kulutus lämmitys | C23: kWh | D23: =SUM(D16) -> 759.67 | E23: =SUM($D$16:E16) -> 1527.11 | F23: =SUM($D$16:F16) -> 1794.92 | G23: =SUM($D$16:G16) -> 1962.7 | H23: =SUM($D$16:H16) -> 2007.74 | I23: =SUM($D$16:I16) -> 2016.62 | J23: =SUM($D$16:J16) -> 2021.6 | K23: =SUM($D$16:K16) -> 2021.6 | L23: =SUM($D$16:L16) -> 2021.6 | ... O23: =SUM($D$16:O16) -> 2021.6
B24: Taloussähkö ilman LKV | C24: kWh/d | D24: =(D11-D16-D15)/D7 -> 10.326452 | E24: =(E11-E16-E15)/E7 -> 9.4871429 | F24: =(F11-F16-F15)/F7 -> 6.5906452 | G24: =(G11-G16-G15)/G7 -> 7.5906667 | H24: =(H11-H16-H15)/H7 -> 5.81 | I24: =(I11-I16-I15)/I7 -> 7.0873333 | J24: =(J11-J16-J15)/J7 -> 6.7745161 | K24: =(K11-K16-K15)/K7 -> 0 | ... O24: =(O11-O16-O15)/O7 -> 0 | P24: =(P11-P16-P15) -> 1620.53
B25: Liukuva 12 kk kulutus | C25: kWh | D25: =D21+'2025'!$P$11-'2025'!D21 -> 7400.06 | E25: =E21+'2025'!$P$11-'2025'!E21 -> 7738.62 | F25: =F21+'2025'!$P$11-'2025'!F21 -> 7666.74 | G25: =G21+'2025'!$P$11-'2025'!G21 -> 7619.5 | H25: =H21+'2025'!$P$11-'2025'!H21 -> 7491.7 | I25: =I21+'2025'!$P$11-'2025'!I21 -> 7429.54 | J25: =J21+'2025'!$P$11-'2025'!J21 -> 7381.46 | K25: =K21+'2025'!$P$11-'2025'!K21 -> 7094.38 | ... O25: =O21+'2025'!$P$11-'2025'!O21 -> 4644.63
B26: Liukuva 12 kk kulutus ILP | C26: kWh | D26: =D22+SUM('2025'!E12:$O12) -> 2517.19 | E26: =E22+SUM('2025'!F12:$O12) -> 2905.76 | F26: =F22+SUM('2025'!G12:$O12) -> 2901.28 | G26: =G22+SUM('2025'!H12:$O12) -> 2908 | H26: =H22+SUM('2025'!I12:$O12) -> 2864.48 | I26: =I22+SUM('2025'!J12:$O12) -> 2843.85 | J26: =J22+SUM('2025'!K12:$O12) -> 2843.67 | K26: =K22+SUM('2025'!L12:$O12) -> 2822.53 | ... N26: =N22+SUM('2025'!O12:$O12) -> 2319.27 | O26: =O22 -> 2021.6
A27: Lämmitys
B28: Lämmityksen osuus kulutuksesta | D28: =D16/D11 -> 0.61373092 | E28: =E16/E11 -> 0.65560662 | F28: =F16/F11 -> 0.44293937 | G28: =G16/G11 -> 0.30841912 | H28: =H16/H11 -> 0.1181687 | I28: =I16/I11 -> 0.024908836 | J28: =J16/J11 -> 0.014228978 | K28: =K16/K11 -> #DIV/0! | ... P28: =P16/P11 -> 0.43525534
B29: Sähkönkulutus lämmitykseen | C29: kWh/oCd | D29: =D16/D13 -> 0.93357036 | E29: =E16/E13 -> 0.9959145 | F29: =F16/F13 -> 0.63086882 | G29: =G16/G13 -> 0.48071798 | H29: =H16/H13 -> 0.69607273 | L29: =L16/L13 -> #DIV/0! | M29: =M16/M13 -> #DIV/0! | N29: =N16/N13 -> #DIV/0! | O29: =O16/O13 -> #DIV/0! | P29: =P16/P13 -> 0.83449292
B30: Sähkönkulutus lämmitykseen | C30: kWh/d | D30: =D16/D7 -> 24.505484 | E30: =E16/E7 -> 27.408571 | F30: =F16/F7 -> 8.6390323 | G30: =G16/G7 -> 5.5926667 | H30: =H16/H7 -> 1.4529032 | I30: =I16/I7 -> 0.296 | J30: =J16/J7 -> 0.16064516 | K30: =K16/K7 -> 0 | ... P30: =P16/P7 -> 5.5386301
B31: Norm sähkö lämmitykseen | C31: kWh/d | D31: =D17/D7 -> 20.869815 | E31: =E17/E7 -> 22.799328 | F31: =F17/F7 -> 11.966157 | G31: =G17/G7 -> 6.0730704 | H31: =H17/H7 -> 3.4579097 | I31: =I17/I7 -> 0.296 | J31: =J17/J7 -> 0.16064516 | K31: =K17/K7 -> 0 | ... P31: =P17/P7 -> 5.3686127
B32: Ominaislämmönkulutus | C32: kWh/m3 | D32: =D16/$F$4 -> 3.1401703 | E32: =E16/$F$4 -> 3.1722884 | F32: =F16/$F$4 -> 1.1070188 | G32: =G16/$F$4 -> 0.69353505 | H32: =H16/$F$4 -> 0.18617725 | I32: =I16/$F$4 -> 0.036706349 | J32: =J16/$F$4 -> 0.020585317 | K32: =K16/$F$4 -> 0 | ... P32: =P16/$F$4 -> 8.3564815
B33: Ominaislämmönkulutus | C33: kWh/m2 | D33: =D16/$F$3 -> 7.9132292 | E33: =E16/$F$3 -> 7.9941667 | F33: =F16/$F$3 -> 2.7896875 | G33: =G16/$F$3 -> 1.7477083 | H33: =H16/$F$3 -> 0.46916667 | I33: =I16/$F$3 -> 0.0925 | J33: =J16/$F$3 -> 0.051875 | K33: =K16/$F$3 -> 0 | ... P33: =P16/$F$3 -> 21.058333
B34: Norm lämmönkulutus | C34: kWh/m3 | D34: =D17/$F$4 -> 2.6742901 | E34: =E17/$F$4 -> 2.6388112 | F34: =F17/$F$4 -> 1.5333617 | G34: =G17/$F$4 -> 0.75310893 | H34: =H17/$F$4 -> 0.44310185 | I34: =I17/$F$4 -> 0.036706349 | J34: =J17/$F$4 -> 0.020585317 | K34: =K17/$F$4 -> 0 | ... P34: =P17/$F$4 -> 8.0999654
B35: Norm lämmönkulutus | C35: kWh/m2 | D35: =D17/$F$3 -> 6.739211 | E35: =E17/$F$3 -> 6.6498041 | F35: =F17/$F$3 -> 3.8640715 | G35: =G17/$F$3 -> 1.8978345 | H35: =H17/$F$3 -> 1.1166167 | I35: =I17/$F$3 -> 0.0925 | J35: =J17/$F$3 -> 0.051875 | K35: =K17/$F$3 -> 0 | ... P35: =P17/$F$3 -> 20.411913
B36: Ominaislämmönkulutus | C36: Wh/m3/oCd | D36: =1000*D32/D13 -> 3.8590045 | E36: =1000*E32/E13 -> 4.1167101 | F36: =1000*F32/F13 -> 2.607758 | G36: =1000*G32/G13 -> 1.9870948 | H36: =1000*H32/H13 -> 2.8772848 | L36: =1000*L32/L13 -> #DIV/0! | M36: =1000*M32/M13 -> #DIV/0! | N36: =1000*N32/N13 -> #DIV/0! | O36: =1000*O32/O13 -> #DIV/0! | P36: =1000*P32/P13 -> 3.4494582
A38: Vuosikulutusarvio
B40: Lämmityssähkö ILPillä | D40: 2800 | E40: kWh | G40: Arvio lämmityssähkö ilman ILP | K40: 6800 | L40: kWh | M40: Vuosikulutusarvio ilma ILP
B41: Lämminvesi | D41: 2300 | E41: kWh | G41: Arvio ILPin säästämästä sähköstä | K41: =K40-D40 -> 4000 | L41: kWh | N41: =D43-D40+K40 -> 12400 | O41: kWh
B42: Taloussähkö | D42: 3300 | E42: kWh | G42: Säästöarvio lämmityssähkönkulutuksesta | K42: =K41/K40 -> 0.58823529
B43: Yhteensä | D43: =SUM(D40:D42) -> 8400 | E43: kWh | G43: Säästöarvio kokonaissähkönkulutuksesta | K43: =K41/(SUM(D41:D42)+K40) -> 0.32258065
A46: Pörssisähkön hinta + kate 0 snt/kWh
B47: Pörssisähkön tuntikulutuksella painotettu keskihinta | D47: 14.81 | E47: 17.12 | F47: 3.03 | G47: 4.38 | H47: 4.02 | I47: 3.81 | J47: 1.72
B49: liukuva vuosikeskihinta | C49: c/kWh | D49: =(SUMPRODUCT($D$47:D47,$D$11:D11)+SUMPRODUCT('2025'!E$47:$O47,'2025'!E$11:$O11))/D25 -> 6.3746861 | E49: =(SUMPRODUCT($D$47:E47,$D$11:E11)+SUMPRODUCT('2025'!F$47:$O47,'2025'!F$11:$O11))/E25 -> 8.0199293 | F49: =(SUMPRODUCT($D$47:F47,$D$11:F11)+SUMPRODUCT('2025'!G$47:$O47,'2025'!G$11:$O11))/(F21+SUM('2025'!G$11:$O11)) -> 7.853176 | G49: =(SUMPRODUCT($D$47:G47,$D$11:G11)+SUMPRODUCT('2025'!H$47:$O47,'2025'!H$11:$O11))/(G21+SUM('2025'!H$11:$O11)) -> 7.8591902 | H49: =(SUMPRODUCT($D$47:H47,$D$11:H11)+SUMPRODUCT('2025'!I$47:$O47,'2025'!I$11:$O11))/(H21+SUM('2025'!I$11:$O11)) -> 8.0490038 | I49: =(SUMPRODUCT($D$47:I47,$D$11:I11)+SUMPRODUCT('2025'!J$47:$O47,'2025'!J$11:$O11))/(I21+SUM('2025'!J$11:$O11)) -> 8.2011159 | J49: =(SUMPRODUCT($D$47:J47,$D$11:J11)+SUMPRODUCT('2025'!K$47:$O47,'2025'!K$11:$O11))/(J21+SUM('2025'!K$11:$O11)) -> 8.1802352 | K49: =(SUMPRODUCT($D$47:K47,$D$11:K11)+SUMPRODUCT('2025'!L$47:$O47,'2025'!L$11:$O11))/(K21+SUM('2025'!L$11:$O11)) -> 8.2822187 | L49: =(SUMPRODUCT($D$47:L47,$D$11:L11)+SUMPRODUCT('2025'!M$47:$O47,'2025'!M$11:$O11))/(L21+SUM('2025'!M$11:$O11)) -> 8.5050632 | M49: =(SUMPRODUCT($D$47:M47,$D$11:M11)+SUMPRODUCT('2025'!N$47:$O47,'2025'!N$11:$O11))/(M21+SUM('2025'!N$11:$O11)) -> 8.8133338 | N49: =(SUMPRODUCT($D$47:N47,$D$11:N11)+SUMPRODUCT('2025'!O$47:$O47,'2025'!O$11:$O11))/(N21+SUM('2025'!O$11:$O11)) -> 9.1296387 | O49: =(SUMPRODUCT($D$47:O47,$D$11:O11))/(O21) -> 9.9209601

Sheet Sähkönkulutus

Sheet Norm.Lämmityssähkö

Sheet Astepäiväseuranta
A1: Lämmitystarveluvut Hyvinkäällä
A3: kk / vuosi | B3: 2026 | C3: 2025 | D3: 2024 | E3: 2023 | F3: 2022 | G3: 2021 | H3: 2020 | I3: 2019 | J3: 2018 | K3: 2017 | L3: 2016 | M3: 2015 | N3: 2014 | O3: 2013 | P3: 2012 | Q3: 2011 | R3: 2010 | S3: 2009 | T3: 2008 | U3: 2007 | V3: 2006 | W3: 2005 | X3: 2004 | Y3: 2003 | Z3: 2002 | AA3: 2001 | AB3: 2000 | AC3: 1999 | AD3: 1998 | AE3: normaali | AF3: Uusi | AG3: 2023
A4: Tammi | B4: 813.72549 | C4: 592.15686 | D4: 813.72549 | E4: 590 | F4: 654.90196 | G4: 679.41176 | H4: 490.19608 | I4: 764.70588 | J4: 621.56863 | K4: 634.31373 | L4: 905 | M4: 627 | N4: 788 | O4: 725 | P4: 717 | Q4: 717 | R4: 942 | S4: 681 | T4: 560 | U4: 636 | V4: 695 | W4: 576 | X4: 759 | Y4: 858 | Z4: 662 | AA4: 607 | AB4: 636 | AC4: 724 | AD4: 600 | AE4: 743 | AF4: 712 | AG4: 693
A5: Helmi | B5: 770.58824 | C5: 568.62745 | D5: 625.4902 | E5: 558 | F5: 547.05882 | G5: 707.84314 | H5: 499.01961 | I5: 503.92157 | J5: 725.4902 | K5: 590.19608 | L5: 526 | M5: 502 | N5: 485 | O5: 565 | P5: 749 | Q5: 821 | R5: 743 | S5: 636 | T5: 505 | U5: 781 | V5: 743 | W5: 648 | X5: 654 | Y5: 640 | Z5: 516 | AA5: 707 | AB5: 577 | AC5: 695 | AD5: 622 | AE5: 693 | AF5: 664 | AG5: 641
A6: Maalis | B6: 424.5098 | C6: 470.58824 | D6: 518.62745 | E6: 596 | F6: 537.2549 | G6: 565.68627 | H6: 486.27451 | I6: 556.86275 | J6: 703.92157 | K6: 513.72549 | L6: 535 | M6: 499 | N6: 496 | O6: 760 | P6: 544 | Q6: 590 | R6: 616 | S6: 602 | T6: 564 | U6: 457 | V6: 743 | W6: 732 | X6: 567 | Y6: 564 | Z6: 538 | AA6: 651 | AB6: 577 | AC6: 580 | AD6: 672 | AE6: 621 | AF6: 598 | AG6: 588
A7: Huhti | B7: 343 | C7: 320.58824 | D7: 406.86275 | E7: 326 | F7: 416.66667 | G7: 379.41176 | H7: 395.09804 | I7: 312.7451 | J7: 372.54902 | K7: 450.98039 | L7: 370 | M7: 366 | N7: 350 | O7: 444 | P7: 401 | Q7: 321 | R7: 380 | S7: 370 | T7: 321 | U7: 338 | V7: 377 | W7: 386 | X7: 360 | Y7: 428 | Z7: 319 | AA7: 317 | AB7: 283 | AC7: 327 | AD7: 409 | AE7: 422 | AF7: 387 | AG7: 379
A8: Touko | B8: 65 | C8: 164.70588 | D8: 91.176471 | E8: 122 | F8: 156.86275 | G8: 157.84314 | H8: 195.09804 | I8: 157.84314 | J8: 44.117647 | K8: 214.70588 | L8: 46 | M8: 184 | N8: 198 | O8: 60 | P8: 135 | Q8: 117 | R8: 139 | S8: 108 | T8: 159 | U8: 102 | V8: 135 | W8: 163 | X8: 187 | Y8: 119 | Z8: 103 | AA8: 183 | AB8: 110 | AC8: 249 | AD8: 158 | AE8: 174 | AF8: 156 | AG8: 154
A9: Kesä | B9: 0 | C9: 0 | D9: 0 | E9: 27 | F9: 0 | G9: 0 | H9: 0 | I9: 0 | J9: 24.509804 | K9: 52.941176 | L9: 37 | M9: 15 | N9: 51 | O9: 0 | P9: 16 | Q9: 0 | R9: 0 | S9: 56 | T9: 8 | U9: 0 | V9: 23 | W9: 17 | X9: 24 | Y9: 8 | Z9: 0 | AA9: 0 | AB9: 0 | AC9: 0 | AD9: 0 | AE9: 25 | AF9: 20 | AG9: 19
A10: Heinä | C10: 0 | D10: 0 | E10: 0 | F10: 0 | G10: 0 | H10: 4.9019608 | I10: 10.784314 | J10: 0 | K10: 11.764706 | L10: 5 | M10: 0 | N10: 5 | O10: 0 | P10: 0 | Q10: 0 | R10: 0 | S10: 0 | T10: 0 | U10: 0 | V10: 0 | W10: 0 | X10: 0 | Y10: 0 | Z10: 0 | AA10: 0 | AB10: 0 | AC10: 0 | AD10: 0 | AE10: 7 | AF10: 4 | AG10: 4
A11: Elo | C11: 24.038462 | D11: 0 | E11: 21 | F11: 6.8627451 | G11: 20 | H11: 10.784314 | I11: 0 | J11: 0 | K11: 34.313725 | L11: 12 | M11: 5 | N11: 23 | O11: 11 | P11: 31 | Q11: 0 | R11: 39 | S11: 11 | T11: 33 | U11: 47 | V11: 0 | W11: 16 | X11: 29 | Y11: 43 | Z11: 0 | AA11: 0 | AB11: 0 | AC11: 0 | AD11: 0 | AE11: 36 | AF11: 30 | AG11: 21
A12: Syys | C12: 82.352941 | D12: 57.843137 | E12: 165 | F12: 223.52941 | G12: 222.54902 | H12: 94.117647 | I12: 176.47059 | J12: 122.54902 | K12: 184.31373 | L12: 140.19608 | M12: 115 | N12: 163 | O12: 121 | P12: 142 | Q12: 73 | R12: 153 | S12: 106 | T12: 225 | U12: 166 | V12: 72 | W12: 104 | X12: 121 | Y12: 131 | Z12: 200 | AA12: 120 | AB12: 242 | AC12: 134 | AD12: 169 | AE12: 217 | AF12: 187 | AG12: 165
A13: Loka | C13: 317.64706 | D13: 307.84314 | E13: 378 | F13: 314.70588 | G13: 297.05882 | H13: 279.41176 | I13: 390.19608 | J13: 362.7451 | K13: 385.29412 | L13: 403.92157 | M13: 404 | N13: 381 | O13: 346 | P13: 374 | Q13: 318 | R13: 410 | S13: 452 | T13: 304 | U13: 347 | V13: 326 | W13: 318 | X13: 374 | Y13: 435 | Z13: 541 | AA13: 297 | AB13: 272 | AC13: 334 | AD13: 375 | AE13: 398 | AF13: 375 | AG13: 378
A14: Marras | C14: 418.62745 | D14: 445.09804 | E14: 543 | F14: 460.78431 | G14: 478.43137 | H14: 393.13725 | I14: 478.43137 | J14: 441.17647 | K14: 460.78431 | L14: 542.15686 | M14: 393 | N14: 463 | O14: 431 | P14: 435 | Q14: 401 | R14: 585 | S14: 461 | T14: 465 | U14: 529 | V14: 494 | W14: 414 | X14: 530 | Y14: 443 | Z14: 617 | AA14: 540 | AB14: 398 | AC14: 463 | AD14: 628 | AE14: 538 | AF14: 518 | AG14: 494
A15: Joulu | C15: 497.05882 | D15: 559.80392 | E15: 701 | F15: 617.64706 | G15: 751 | H15: 520 | I15: 510 | J15: 605.88235 | K15: 529.41176 | L15: 574.5098 | M15: 419 | N15: 590 | O15: 496 | P15: 767 | Q15: 491 | R15: 838 | S15: 734 | T15: 537 | U15: 496 | V15: 461 | W15: 663 | X15: 557 | Y15: 579 | Z15: 808 | AA15: 778 | AB15: 508 | AC15: 624 | AD15: 621 | AE15: 681 | AF15: 655 | AG15: 619
A16: Yhteensä | B16: =SUM(B4:B15) -> 2416.8235 | C16: =SUM(C4:C15) -> 3456.3914 | D16: =SUM(D4:D15) -> 3826.4706 | E16: =SUM(E4:E15) -> 4027 | F16: =SUM(F4:F15) -> 3936.2745 | G16: =SUM(G4:G15) -> 4259.2353 | H16: =SUM(H4:H15) -> 3368.0392 | I16: =SUM(I4:I15) -> 3861.9608 | ... U16: =SUM(U4:U15) -> 3899 | V16: 4069 | W16: 4037 | X16: 4162 | Y16: 4248 | Z16: 4304 | AA16: 4200 | AB16: 3602 | AC16: 4129 | AD16: 4254 | AE16: 4555 | AF16: =SUM(AF4:AF15) -> 4306 | AG16: 4155 | AI16: =AVERAGE(N16:AD16) -> 4103.4706
AI17: =AVERAGE(N16:W16) -> 4086
A18: Ero normivuoteen | C18: =(C16-$AF$16)/$AF$16 -> -0.19730808 | D18: =(D16-$AF$16)/$AF$16 -> -0.11136308 | E18: =(E16-$AF$16)/$AF$16 -> -0.064793312 | F18: =(F16-$AF$16)/$AF$16 -> -0.085862863 | G18: =(G16-$AF$16)/$AF$16 -> -0.010860359 | H18: =(H16-$AF$16)/$AF$16 -> -0.21782647 | I18: =(I16-$AF$16)/$AF$16 -> -0.10312104 | J18: =(J16-$AF$16)/$AF$16 -> -0.06537162 | ... N18: =(N16-$AF$16)/$AF$16 -> -0.072689271 | O18: =(O16-$AE$16)/$AE$16 -> -0.13084523 | P18: =(P16-$AE$16)/$AE$16 -> -0.053567508 | Q18: =(Q16-$AE$16)/$AE$16 -> -0.15499451 | R18: =(R16-$AE$16)/$AE$16 -> 0.063666301 | S18: =(S16-$AE$16)/$AE$16 -> -0.074204171 | T18: =(T16-$AE$16)/$AE$16 -> -0.19187706 | U18: =(U16-$AE$16)/$AE$16 -> -0.14401756 | V18: =(V16-$AE$16)/$AE$16 -> -0.10669594 | ... AD18: =(AD16-$AE$16)/$AE$16 -> -0.066081229
A19: Ero 5-vuoden keskiarvoon | C19: =(C16-D21)/D21 -> -0.10995831 | D19: =(D16-E21)/E21 -> -0.016458383 | E19: =(E16-F21)/F21 -> 0.035217465 | F19: =(F16-G21)/G21 -> 0.0053575667 | G19: =(G16-H21)/H21 -> 0.096947226 | H19: =(H16-I21)/I21 -> -0.13970901 | I19: =(I16-J21)/J21 -> -0.020107303 | J19: =(J16-K21)/K21 -> 0.024542088 | ... Y19: =(Y16-Z21)/Z21 -> 0.036653814
A20: 5-vuoden keskiarvo
A21: Liukuva 60 kk | C21: =AVERAGE(C16:G16) -> 3901.0744 | D21: =AVERAGE(D16:H16) -> 3883.4039 | E21: =AVERAGE(E16:I16) -> 3890.502 | F21: =AVERAGE(F16:J16) -> 3890.0039 | G21: =AVERAGE(G16:K16) -> 3915.298 | H21: =AVERAGE(H16:L16) -> 3882.8078 | I21: =AVERAGE(I16:M16) -> 3915 | J21: =AVERAGE(J16:N16) -> 3941.2078 | ... Z21: =AVERAGE(Z16:AD16) -> 4097.8

Sheet 2025
A1: SÄHKÖNKULUTUSRAPORTTI | D1: 2025 | R1: http://suja.kapsi.fi/asema-taulukko.php?asema=101130
R2: https://hlv.fi/asiakaspalvelu/lammitystarveluvut/
A3: Hyvinkää rivitalo 4H+K+S | D3: Asuinala | F3: 96 | G3: m2 | H3: Taloussähkö arvio (ilman lvv) | K3: 10 | L3: kWh/d | M3: Kesäkuukaudet | O3: =(SUM(I11:K11))/92 -> 11.997935 | P3: kWh/d | R3: https://ilmatieteenlaitos.fi/havaintojen-lataus#!/
D4: Tilavuus | F4: =2.52*F3 -> 241.92 | G4: m3
A6: Jakso | D6: Tammi | E6: Helmi | F6: Maalis | G6: Huhti | H6: Touko | I6: Kesä | J6: Heinä | K6: Elo | L6: Syys | M6: Loka | N6: Marras | O6: Joulu | P6: Yhteensä
B7: päivät kuukaudessa | D7: 31 | E7: 28 | F7: 31 | G7: 30 | H7: 31 | I7: 30 | J7: 31 | K7: 31 | L7: 30 | M7: 31 | N7: 30 | O7: 31 | P7: =SUM(D7:O7) -> 365
A8: 2025 | B8: Keskilämpötila | C8: oC | D8: -1.8 | E8: -3.3 | F8: 1.8 | G8: 5.3 | H8: 8.9 | I8: 13.9 | J8: 19.8 | K8: 14.6 | L8: 12.7 | M8: 6.2 | N8: 3.1 | O8: 0.8 | P8: =AVERAGE(D8:O8) -> 6.8333333
A9: 2025 | B9: Sähkö päivä | C9: kWh | D9: 519.74 | E9: 492.9 | F9: 373.59 | G9: 352.95 | H9: 366.08 | I9: 266.64 | J9: 194.3 | K9: 178.91 | L9: 212.07 | M9: 342.78 | N9: 384.3 | O9: 477.41 | P9: =SUM(D9:O9) -> 4161.67 | R9: =P9/$P$11 -> 0.58964121
A10: 2025 | B10: Sähkö yö | C10: kWh | D10: 375.96 | E10: 339.12 | F10: 302.91 | G10: 238.29 | H10: 142.87 | I10: 152.02 | J10: 203.77 | K10: 108.17 | L10: 163 | M10: 238.52 | N10: 292.26 | O10: 339.41 | P10: =SUM(D10:O10) -> 2896.3 | R10: =P10/$P$11 -> 0.41035879
A11: 2025 | B11: Sähkö yhteensä | C11: kWh | D11: =SUM(D9:D10) -> 895.7 | E11: =SUM(E9:E10) -> 832.02 | F11: =SUM(F9:F10) -> 676.5 | G11: =SUM(G9:G10) -> 591.24 | H11: =SUM(H9:H10) -> 508.95 | I11: =SUM(I9:I10) -> 418.66 | J11: =SUM(J9:J10) -> 398.07 | K11: =SUM(K9:K10) -> 287.08 | ... O11: =SUM(O9:O10) -> 816.82 | P11: =SUM(D11:O11) -> 7057.97 | R11: =P11/$P$11 -> 1
A12: 2025 | B12: Ilmalämpöpumppu | C12: kWh | D12: =(4147.33-3742.63) -> 404.7 | E12: =(4526.2-4147.33) -> 378.87 | F12: =(4798.49-4526.2) -> 272.29 | G12: =(4959.55-4798.49) -> 161.06 | H12: =(5048.11-4959.55) -> 88.56 | I12: =(5080.62-5048.11)-3 -> 29.51 | J12: =(5118.31-5080.62)--2.32-34.85 -> 5.16 | K12: =(5141.26-5118.31)-1.81 -> 21.14 | L12: =(5207.35-5141.26) -> 66.09 | M12: =(5372.04-5207.35) -> 164.69 | N12: =(5644.52-5372.04) -> 272.48 | O12: =(5942.19-5644.52) -> 297.67 | P12: =SUM(D12:O12) -> 2162.22 | R12: =P12/$P$11 -> 0.30635154 | W12: ILP kulutus | X12: =P12+'2024'!X12 -> 38242.287 | Y12: kWh | Z12: =X12*1000/400 -> 95605.719 | AA12: h
A13: 2025 | B13: Lämmitystarveluku toteutunut | C13: oCd | D13: =604/1.02 -> 592.15686 | E13: =580/1.02 -> 568.62745 | F13: =480/1.02 -> 470.58824 | G13: =327/1.02 -> 320.58824 | H13: =168/1.02 -> 164.70588 | I13: 0 | J13: 0 | K13: =25/1.04 -> 24.038462 | L13: =84/1.02 -> 82.352941 | M13: =324/1.02 -> 317.64706 | N13: =427/1.02 -> 418.62745 | O13: =507/1.02 -> 497.05882 | P13: =SUM(D13:O13) -> 3456.3914 | R13: =(P14-P13)/P14 -> 0.16813685 | W13: ILP säästö | X13: =X12*2.7-X12 -> 65011.889 | Y13: kWh
A14: 2025 | B14: Lämmitystarveluku normivuosi | C14: oCd | D14: 693 | E14: 641 | F14: 588 | G14: 379 | H14: 154 | I14: 19 | J14: 4 | K14: 21 | L14: 165 | M14: 378 | N14: 494 | O14: 619 | P14: 4155
A15: 2025 | B15: Lämminvesivaraaja | C15: kWh | D15: 171 | E15: 152.5 | F15: 150 | G15: 157 | H15: 180 | I15: 170 | J15: 159 | K15: 118 | L15: 124 | M15: 153 | N15: 156 | O15: 180 | P15: =SUM(D15:O15) -> 1870.5 | R15: =P15/$P$11 -> 0.26501955
A16: 2025 | B16: Lämmityssähkö (arvio) | C16: kWh | D16: =D12 -> 404.7 | E16: =E12 -> 378.87 | F16: =F12 -> 272.29 | G16: =G12 -> 161.06 | H16: =H12 -> 88.56 | I16: =I12 -> 29.51 | J16: =J12 -> 5.16 | K16: =K12 -> 21.14 | ... O16: =O12 -> 297.67 | P16: =SUM(D16:O16) -> 2162.22
A17: 2025 | B17: Sääkorjattu lämmityssähkö | C17: kWh | D17: =IF(D16<0,0,((D14/D13))*D16) -> 473.61961 | E17: =IF(E16<0,0,((E14/E13))*E16) -> 427.09101 | F17: =IF(F16<0,0,((F14/F13))*F16) -> 340.22635 | G17: =IF(G16<0,0,((G14/G13))*G16) -> 190.40543 | H17: =IF(H16=0,0,((H14/H13))*H16) -> 82.8036 | I17: =I16 -> 29.51 | J17: =J16 -> 5.16 | K17: =K16 -> 21.14 | L17: =IF(L16=0,0,((L14/L13))*L16) -> 132.41604 | M17: =IF(M16=0,0,((M14/M13))*M16) -> 195.9811 | N17: =IF(N16=0,0,((N14/N13))*N16) -> 321.53916 | O17: =IF(O16=0,0,((O14/O13))*O16) -> 370.69602 | P17: =SUM(D17:O17) -> 2590.5883 | R17: =(P14-P13)/P14 -> 0.16813685
A20: Kulutus päivässä | C20: kWh/d | D20: =D11/D7 -> 28.893548 | E20: =E11/E7 -> 29.715 | F20: =F11/F7 -> 21.822581 | G20: =G11/G7 -> 19.708 | H20: =H11/H7 -> 16.417742 | I20: =I11/I7 -> 13.955333 | J20: =J11/J7 -> 12.840968 | K20: =K11/K7 -> 9.2606452 | ... O20: =O11/O7 -> 26.349032 | P20: =P11/365 -> 19.336904
B21: Kumulatiivinen kulutus | C21: kWh | D21: =SUM(D11) -> 895.7 | E21: =SUM($D$11:E11) -> 1727.72 | F21: =SUM($D$11:F11) -> 2404.22 | G21: =SUM($D$11:G11) -> 2995.46 | H21: =SUM($D$11:H11) -> 3504.41 | I21: =SUM($D$11:I11) -> 3923.07 | J21: =SUM($D$11:J11) -> 4321.14 | K21: =SUM($D$11:K11) -> 4608.22 | L21: =SUM($D$11:L11) -> 4983.29 | ... O21: =SUM($D$11:O11) -> 7057.97
B22: Kumulatiivinen kulutus ILP | C22: kWh | D22: =SUM(D12) -> 404.7 | E22: =SUM($D$12:E12) -> 783.57 | F22: =SUM($D$12:F12) -> 1055.86 | G22: =SUM($D$12:G12) -> 1216.92 | H22: =SUM($D$12:H12) -> 1305.48 | I22: =SUM($D$12:I12) -> 1334.99 | J22: =SUM($D$12:J12) -> 1340.15 | K22: =SUM($D$12:K12) -> 1361.29 | L22: =SUM($D$12:L12) -> 1427.38 | ... O22: =SUM($D$12:O12) -> 2162.22
B23: Kumulatiivinen kulutus lämmitys | C23: kWh | D23: =SUM(D16) -> 404.7 | E23: =SUM($D$16:E16) -> 783.57 | F23: =SUM($D$16:F16) -> 1055.86 | G23: =SUM($D$16:G16) -> 1216.92 | H23: =SUM($D$16:H16) -> 1305.48 | I23: =SUM($D$16:I16) -> 1334.99 | J23: =SUM($D$16:J16) -> 1340.15 | K23: =SUM($D$16:K16) -> 1361.29 | L23: =SUM($D$16:L16) -> 1427.38 | ... O23: =SUM($D$16:O16) -> 2162.22
B24: Taloussähkö ilman LKV | C24: kWh/d | D24: =(D11-D16-D15)/D7 -> 10.322581 | E24: =(E11-E16-E15)/E7 -> 10.7375 | F24: =(F11-F16-F15)/F7 -> 8.2003226 | G24: =(G11-G16-G15)/G7 -> 9.106 | H24: =(H11-H16-H15)/H7 -> 7.7545161 | I24: =(I11-I16-I15)/I7 -> 7.305 | J24: =(J11-J16-J15)/J7 -> 7.5454839 | K24: =(K11-K16-K15)/K7 -> 4.7722581 | ... O24: =(O11-O16-O15)/O7 -> 10.940323 | P24: =(P11-P16-P15) -> 3025.25
B25: Liukuva 12 kk kulutus | C25: kWh | D25: =D21+'2024'!$P$11-'2024'!D21 -> 7038.71 | E25: =E21+'2024'!$P$11-'2024'!E21 -> 6919.71 | F25: =F21+'2024'!$P$11-'2024'!F21 -> 6798.89 | G25: =G21+'2024'!$P$11-'2024'!G21 -> 6760.57 | H25: =H21+'2024'!$P$11-'2024'!H21 -> 6841.4 | I25: =I21+'2024'!$P$11-'2024'!I21 -> 7020.31 | J25: =J21+'2024'!$P$11-'2024'!J21 -> 7118.44 | K25: =K21+'2024'!$P$11-'2024'!K21 -> 7064.92 | ... O25: =O21+'2024'!$P$11-'2024'!O21 -> 7057.97
B26: Liukuva 12 kk kulutus ILP | C26: kWh | D26: =D22+SUM('2024'!E12:$O12) -> 2408.8818 | E26: =E22+SUM('2024'!F12:$O12) -> 2266.0918 | F26: =F22+SUM('2024'!G12:$O12) -> 2192.3618 | G26: =G22+SUM('2024'!H12:$O12) -> 2113.7218 | H26: =H22+SUM('2024'!I12:$O12) -> 2162.3418 | I26: =I22+SUM('2024'!J12:$O12) -> 2185.0718 | J26: =J22+SUM('2024'!K12:$O12) -> 2190.2318 | K26: =K22+SUM('2024'!L12:$O12) -> 2205.9518 | ... N26: =N22+SUM('2024'!O12:$O12) -> 2256.0618 | O26: =O22 -> 2162.22
A27: Lämmitys
B28: Lämmityksen osuus kulutuksesta | D28: =D16/D11 -> 0.45182539 | E28: =E16/E11 -> 0.45536165 | F28: =F16/F11 -> 0.40249815 | G28: =G16/G11 -> 0.27241053 | H28: =H16/H11 -> 0.17400531 | I28: =I16/I11 -> 0.070486791 | J28: =J16/J11 -> 0.012962544 | K28: =K16/K11 -> 0.07363801 | ... P28: =P16/P11 -> 0.30635154
B29: Sähkönkulutus lämmitykseen | C29: kWh/oCd | D29: =D16/D13 -> 0.68343377 | E29: =E16/E13 -> 0.66628862 | F29: =F16/F13 -> 0.57861625 | G29: =G16/G13 -> 0.50238899 | H29: =H16/H13 -> 0.53768571 | L29: =L16/L13 -> 0.80252143 | M29: =M16/M13 -> 0.51846852 | N29: =N16/N13 -> 0.65088899 | O29: =O16/O13 -> 0.59886272 | P29: =P16/P13 -> 0.62557151
B30: Sähkönkulutus lämmitykseen | C30: kWh/d | D30: =D16/D7 -> 13.054839 | E30: =E16/E7 -> 13.531071 | F30: =F16/F7 -> 8.7835484 | G30: =G16/G7 -> 5.3686667 | H30: =H16/H7 -> 2.8567742 | I30: =I16/I7 -> 0.98366667 | J30: =J16/J7 -> 0.16645161 | K30: =K16/K7 -> 0.68193548 | ... P30: =P16/P7 -> 5.9238904
B31: Norm sähkö lämmitykseen | C31: kWh/d | D31: =D17/D7 -> 15.278052 | E31: =E17/E7 -> 15.25325 | F31: =F17/F7 -> 10.975044 | G31: =G17/G7 -> 6.3468476 | H31: =H17/H7 -> 2.6710839 | I31: =I17/I7 -> 0.98366667 | J31: =J17/J7 -> 0.16645161 | K31: =K17/K7 -> 0.68193548 | ... P31: =P17/P7 -> 7.0975022
B32: Ominaislämmönkulutus | C32: kWh/m3 | D32: =D16/$F$4 -> 1.6728671 | E32: =E16/$F$4 -> 1.5660962 | F32: =F16/$F$4 -> 1.1255374 | G32: =G16/$F$4 -> 0.66575728 | H32: =H16/$F$4 -> 0.36607143 | I32: =I16/$F$4 -> 0.12198247 | J32: =J16/$F$4 -> 0.021329365 | K32: =K16/$F$4 -> 0.087384259 | ... P32: =P16/$F$4 -> 8.937748
B33: Ominaislämmönkulutus | C33: kWh/m2 | D33: =D16/$F$3 -> 4.215625 | E33: =E16/$F$3 -> 3.9465625 | F33: =F16/$F$3 -> 2.8363542 | G33: =G16/$F$3 -> 1.6777083 | H33: =H16/$F$3 -> 0.9225 | I33: =I16/$F$3 -> 0.30739583 | J33: =J16/$F$3 -> 0.05375 | K33: =K16/$F$3 -> 0.22020833 | ... P33: =P16/$F$3 -> 22.523125
B34: Norm lämmönkulutus | C34: kWh/m3 | D34: =D17/$F$4 -> 1.957753 | E34: =E17/$F$4 -> 1.7654225 | F34: =F17/$F$4 -> 1.4063589 | G34: =G17/$F$4 -> 0.78705947 | H34: =H17/$F$4 -> 0.34227679 | I34: =I17/$F$4 -> 0.12198247 | J34: =J17/$F$4 -> 0.021329365 | K34: =K17/$F$4 -> 0.087384259 | ... P34: =P17/$F$4 -> 10.70845
B35: Norm lämmönkulutus | C35: kWh/m2 | D35: =D17/$F$3 -> 4.9335376 | E35: =E17/$F$3 -> 4.4488646 | F35: =F17/$F$3 -> 3.5440245 | G35: =G17/$F$3 -> 1.9833899 | H35: =H17/$F$3 -> 0.8625375 | I35: =I17/$F$3 -> 0.30739583 | J35: =J17/$F$3 -> 0.05375 | K35: =K17/$F$3 -> 0.22020833 | ... P35: =P17/$F$3 -> 26.985295
B36: Ominaislämmönkulutus | C36: Wh/m3/oCd | D36: =1000*D32/D13 -> 2.8250404 | E36: =1000*E32/E13 -> 2.7541692 | F36: =1000*F32/F13 -> 2.3917669 | G36: =1000*G32/G13 -> 2.0766741 | H36: =1000*H32/H13 -> 2.2225765 | L36: =1000*L32/L13 -> 3.3173009 | M36: =1000*M32/M13 -> 2.1431404 | N36: =1000*N32/N13 -> 2.6905134 | O36: =1000*O32/O13 -> 2.4754577 | P36: =1000*P32/P13 -> 2.5858611
A38: Vuosikulutusarvio
B40: Lämmityssähkö ILPillä | D40: 2800 | E40: kWh | G40: Arvio lämmityssähkö ilman ILP | K40: 6800 | L40: kWh | M40: Vuosikulutusarvio ilma ILP
B41: Lämminvesi | D41: 2300 | E41: kWh | G41: Arvio ILPin säästämästä sähköstä | K41: =K40-D40 -> 4000 | L41: kWh | N41: =D43-D40+K40 -> 12400 | O41: kWh
B42: Taloussähkö | D42: 3300 | E42: kWh | G42: Säästöarvio lämmityssähkönkulutuksesta | K42: =K41/K40 -> 0.58823529
B43: Yhteensä | D43: =SUM(D40:D42) -> 8400 | E43: kWh | G43: Säästöarvio kokonaissähkönkulutuksesta | K43: =K41/(SUM(D41:D42)+K40) -> 0.32258065
A46: Pörssisähkön hinta + kate 0,5 snt/kWh
B47: Pörssisähkön tuntikulutuksella painotettu keskihinta | D47: 6.44 | E47: 6.19 | F47: 5.45 | G47: 4.58 | H47: 2.19 | I47: 1.74 | J47: 2.89 | K47: 5.66 | L47: 4.29 | M47: 5.25 | N47: 6.26 | O47: 4.63
B49: liukuva vuosikeskihinta | C49: c/kWh | D49: =(SUMPRODUCT($D$47:D47,$D$11:D11)+SUMPRODUCT('2024'!E$47:$O47,'2024'!E$11:$O11))/D25 -> 5.3244522 | E49: =(SUMPRODUCT($D$47:E47,$D$11:E11)+SUMPRODUCT('2024'!F$47:$O47,'2024'!F$11:$O11))/E25 -> 5.1666333 | F49: =(SUMPRODUCT($D$47:F47,$D$11:F11)+SUMPRODUCT('2024'!G$47:$O47,'2024'!G$11:$O11))/(F21+SUM('2024'!G$11:$O11)) -> 4.9422989 | G49: =(SUMPRODUCT($D$47:G47,$D$11:G11)+SUMPRODUCT('2024'!H$47:$O47,'2024'!H$11:$O11))/(G21+SUM('2024'!H$11:$O11)) -> 4.8288808 | H49: =(SUMPRODUCT($D$47:H47,$D$11:H11)+SUMPRODUCT('2024'!I$47:$O47,'2024'!I$11:$O11))/(H21+SUM('2024'!I$11:$O11)) -> 4.7201064 | I49: =(SUMPRODUCT($D$47:I47,$D$11:I11)+SUMPRODUCT('2024'!J$47:$O47,'2024'!J$11:$O11))/(I21+SUM('2024'!J$11:$O11)) -> 4.5717595 | J49: =(SUMPRODUCT($D$47:J47,$D$11:J11)+SUMPRODUCT('2024'!K$47:$O47,'2024'!K$11:$O11))/(J21+SUM('2024'!K$11:$O11)) -> 4.5894475 | K49: =(SUMPRODUCT($D$47:K47,$D$11:K11)+SUMPRODUCT('2024'!L$47:$O47,'2024'!L$11:$O11))/(K21+SUM('2024'!L$11:$O11)) -> 4.7828555 | L49: =(SUMPRODUCT($D$47:L47,$D$11:L11)+SUMPRODUCT('2024'!M$47:$O47,'2024'!M$11:$O11))/(L21+SUM('2024'!M$11:$O11)) -> 4.7265723 | M49: =(SUMPRODUCT($D$47:M47,$D$11:M11)+SUMPRODUCT('2024'!N$47:$O47,'2024'!N$11:$O11))/(M21+SUM('2024'!N$11:$O11)) -> 4.8090419 | N49: =(SUMPRODUCT($D$47:N47,$D$11:N11)+SUMPRODUCT('2024'!O$47:$O47,'2024'!O$11:$O11))/(N21+SUM('2024'!O$11:$O11)) -> 4.9213963 | O49: =(SUMPRODUCT($D$47:O47,$D$11:O11))/(O21) -> 4.9036334

Sheet 2024
A1: SÄHKÖNKULUTUSRAPORTTI | D1: 2024 | R1: http://suja.kapsi.fi/asema-taulukko.php?asema=101130
R2: https://hlv.fi/asiakaspalvelu/lammitystarveluvut/
A3: Hyvinkää rivitalo 4H+K+S | D3: Asuinala | F3: 96 | G3: m2 | H3: Taloussähkö arvio (ilman lvv) | K3: 10 | L3: kWh/d | M3: Kesäkuukaudet | O3: =(SUM(I11:K11))/92 -> 9.5683696 | P3: kWh/d | R3: https://ilmatieteenlaitos.fi/havaintojen-lataus#!/
D4: Tilavuus | F4: =2.52*F3 -> 241.92 | G4: m3
A6: Jakso | D6: Tammi | E6: Helmi | F6: Maalis | G6: Huhti | H6: Touko | I6: Kesä | J6: Heinä | K6: Elo | L6: Syys | M6: Loka | N6: Marras | O6: Joulu | P6: Yhteensä
B7: päivät kuukaudessa | D7: 31 | E7: 29 | F7: 31 | G7: 30 | H7: 31 | I7: 30 | J7: 31 | K7: 31 | L7: 30 | M7: 31 | N7: 30 | O7: 31 | P7: =SUM(D7:O7) -> 366
A8: 2024 | B8: Keskilämpötila | C8: oC | D8: -9.6 | E8: -4.5 | F8: 0 | G8: 3.1 | H8: 13.4 | I8: 16.6 | J8: 18.2 | K8: 16.6 | L8: 13.3 | M8: 6.7 | N8: 2 | O8: -1 | P8: =AVERAGE(D8:O8) -> 6.2333333
A9: 2024 | B9: Sähkö päivä | C9: kWh | D9: 742.72 | E9: 559 | F9: 455.68 | G9: 427.15 | H9: 244.3 | I9: 131.53 | J9: 187.24 | K9: 195.72 | L9: 203.48 | M9: 316.39 | N9: 388.58 | O9: 504.27 | P9: =SUM(D9:O9) -> 4356.06 | R9: =P9/$P$11 -> 0.58565252
A10: 2024 | B10: Sähkö yö | C10: kWh | D10: 552.23 | E10: 392.02 | F10: 341.64 | G10: 202.41 | H10: 183.82 | I10: 108.22 | J10: 112.7 | K10: 144.88 | L10: 171.69 | M10: 228.32 | N10: 290.92 | O10: 353.05 | P10: =SUM(D10:O10) -> 3081.9 | R10: =P10/$P$11 -> 0.41434748
A11: 2024 | B11: Sähkö yhteensä | C11: kWh | D11: =SUM(D9:D10) -> 1294.95 | E11: =SUM(E9:E10) -> 951.02 | F11: =SUM(F9:F10) -> 797.32 | G11: =SUM(G9:G10) -> 629.56 | H11: =SUM(H9:H10) -> 428.12 | I11: =SUM(I9:I10) -> 239.75 | J11: =SUM(J9:J10) -> 299.94 | K11: =SUM(K9:K10) -> 340.6 | ... O11: =SUM(O9:O10) -> 857.32 | P11: =SUM(D11:O11) -> 7437.96 | R11: =P11/$P$11 -> 1
A12: 2024 | B12: Ilmalämpöpumppu | C12: kWh | D12: =(1728.54-955.116) -> 773.424 | E12: =(2250.2-1728.54) -> 521.66 | F12: =(2596.22-2250.2) -> 346.02 | G12: =(2835.92-2596.22) -> 239.7 | H12: =(2875.86-2835.92) -> 39.94 | I12: =(2903.11-2896.33) -> 6.78 | J12: 0 | K12: =(2920.64-2915.22) -> 5.42 | L12: =(2961.92-2920.64) -> 41.28 | M12: =(3107.28-2961.92) -> 145.36 | N12: =(3373.79-3107.28) -> 266.51 | O12: =(3695.84-3373.79)/25.5*31 -> 391.51176 | P12: =SUM(D12:O12) -> 2777.6058 | R12: =P12/$P$11 -> 0.3734365 | W12: ILP kulutus | X12: =P12+'2023'!X12 -> 36080.067 | Y12: kWh | Z12: =X12*1000/400 -> 90200.169 | AA12: h
A13: 2024 | B13: Lämmitystarveluku toteutunut | C13: oCd | D13: =830/1.02 -> 813.72549 | E13: =638/1.02 -> 625.4902 | F13: =529/1.02 -> 518.62745 | G13: =415/1.02 -> 406.86275 | H13: =93/1.02 -> 91.176471 | I13: 0 | J13: 0 | K13: 0 | L13: =59/1.02 -> 57.843137 | M13: =(314)/1.02 -> 307.84314 | N13: =454/1.02 -> 445.09804 | O13: =571/1.02 -> 559.80392 | P13: =SUM(D13:O13) -> 3826.4706 | R13: =(P14-P13)/P14 -> 0.07906845 | W13: ILP säästö | X13: =X12*2.7-X12 -> 61336.115 | Y13: kWh
A14: 2024 | B14: Lämmitystarveluku normivuosi | C14: oCd | D14: 693 | E14: 641 | F14: 588 | G14: 379 | H14: 154 | I14: 19 | J14: 4 | K14: 21 | L14: 165 | M14: 378 | N14: 494 | O14: 619 | P14: 4155
A15: 2024 | B15: Lämminvesivaraaja | C15: kWh | D15: 154 | E15: 139 | F15: 176 | G15: 150.5 | H15: 141 | I15: 88.5 | J15: 110.5 | K15: 127.5 | L15: 127 | M15: 145 | N15: 140 | O15: 171 | P15: =SUM(D15:O15) -> 1670 | R15: =P15/$P$11 -> 0.22452393
A16: 2024 | B16: Lämmityssähkö (arvio) | C16: kWh | D16: =D12+60 -> 833.424 | E16: =E12 -> 521.66 | F16: =F12 -> 346.02 | G16: =G12 -> 239.7 | H16: =H12 -> 39.94 | I16: =I12 -> 6.78 | J16: =J12 -> 0 | K16: =K12 -> 5.42 | L16: =L12 -> 41.28 | ... O16: =O12 -> 391.51176 | P16: =SUM(D16:O16) -> 2837.6058
A17: 2024 | B17: Sääkorjattu lämmityssähkö | C17: kWh | D17: =IF(D16<0,0,((D14/D13))*D16) -> 709.77601 | E17: =IF(E16<0,0,((E14/E13))*E16) -> 534.59521 | F17: =IF(F16<0,0,((F14/F13))*F16) -> 392.30426 | G17: =IF(G16<0,0,((G14/G13))*G16) -> 223.28488 | H17: =IF(H16=0,0,((H14/H13))*H16) -> 67.459948 | I17: =I16 -> 6.78 | J17: =J16 -> 0 | K17: =K16 -> 5.42 | L17: =IF(L16=0,0,((L14/L13))*L16) -> 117.75295 | M17: =IF(M16=0,0,((M14/M13))*M16) -> 178.48727 | N17: =IF(N16=0,0,((N14/N13))*N16) -> 295.79088 | O17: =IF(O16=0,0,((O14/O13))*O16) -> 432.91191 | P17: =SUM(D17:O17) -> 2964.5633 | R17: =(P14-P13)/P14 -> 0.07906845
A20: Kulutus päivässä | C20: kWh/d | D20: =D11/D7 -> 41.772581 | E20: =E11/E7 -> 32.793793 | F20: =F11/F7 -> 25.72 | G20: =G11/G7 -> 20.985333 | H20: =H11/H7 -> 13.810323 | I20: =I11/I7 -> 7.9916667 | J20: =J11/J7 -> 9.6754839 | K20: =K11/K7 -> 10.987097 | ... O20: =O11/O7 -> 27.655484 | P20: =P11/365 -> 20.377973
B21: Kumulatiivinen kulutus | C21: kWh | D21: =SUM(D11) -> 1294.95 | E21: =SUM($D$11:E11) -> 2245.97 | F21: =SUM($D$11:F11) -> 3043.29 | G21: =SUM($D$11:G11) -> 3672.85 | H21: =SUM($D$11:H11) -> 4100.97 | I21: =SUM($D$11:I11) -> 4340.72 | J21: =SUM($D$11:J11) -> 4640.66 | K21: =SUM($D$11:K11) -> 4981.26 | L21: =SUM($D$11:L11) -> 5356.43 | ... O21: =SUM($D$11:O11) -> 7437.96
B22: Kumulatiivinen kulutus ILP | C22: kWh | D22: =SUM(D12) -> 773.424 | E22: =SUM($D$12:E12) -> 1295.084 | F22: =SUM($D$12:F12) -> 1641.104 | G22: =SUM($D$12:G12) -> 1880.804 | H22: =SUM($D$12:H12) -> 1920.744 | I22: =SUM($D$12:I12) -> 1927.524 | J22: =SUM($D$12:J12) -> 1927.524 | K22: =SUM($D$12:K12) -> 1932.944 | L22: =SUM($D$12:L12) -> 1974.224 | ... O22: =SUM($D$12:O12) -> 2777.6058
B23: Kumulatiivinen kulutus lämmitys | C23: kWh | D23: =SUM(D16) -> 833.424 | E23: =SUM($D$16:E16) -> 1355.084 | F23: =SUM($D$16:F16) -> 1701.104 | G23: =SUM($D$16:G16) -> 1940.804 | H23: =SUM($D$16:H16) -> 1980.744 | I23: =SUM($D$16:I16) -> 1987.524 | J23: =SUM($D$16:J16) -> 1987.524 | K23: =SUM($D$16:K16) -> 1992.944 | L23: =SUM($D$16:L16) -> 2034.224 | ... O23: =SUM($D$16:O16) -> 2837.6058
B24: Taloussähkö ilman LKV | C24: kWh/d | D24: =(D11-D16-D15)/D7 -> 9.9201935 | E24: =(E11-E16-E15)/E7 -> 10.012414 | F24: =(F11-F16-F15)/F7 -> 8.8806452 | G24: =(G11-G16-G15)/G7 -> 7.9786667 | H24: =(H11-H16-H15)/H7 -> 7.9735484 | I24: =(I11-I16-I15)/I7 -> 4.8156667 | J24: =(J11-J16-J15)/J7 -> 6.1109677 | K24: =(K11-K16-K15)/K7 -> 6.6993548 | ... O24: =(O11-O16-O15)/O7 -> 9.5099431 | P24: =(P11-P16-P15) -> 2930.3542
B25: Liukuva 12 kk kulutus | C25: kWh | D25: =D21+'2023'!$P$11-'2023'!D21 -> 7996.09 | E25: =E21+'2023'!$P$11-'2023'!E21 -> 8094.64 | F25: =F21+'2023'!$P$11-'2023'!F21 -> 8046.18 | G25: =G21+'2023'!$P$11-'2023'!G21 -> 8139.31 | H25: =H21+'2023'!$P$11-'2023'!H21 -> 8046.21 | I25: =I21+'2023'!$P$11-'2023'!I21 -> 7954.88 | J25: =J21+'2023'!$P$11-'2023'!J21 -> 7950.24 | K25: =K21+'2023'!$P$11-'2023'!K21 -> 7910.4 | ... O25: =O21+'2023'!$P$11-'2023'!O21 -> 7437.96
B26: Liukuva 12 kk kulutus ILP | C26: kWh | D26: =D22+SUM('2023'!E12:$O12) -> 2936.69 | E26: =E22+SUM('2023'!F12:$O12) -> 3079.449 | F26: =F22+SUM('2023'!G12:$O12) -> 3058.89 | G26: =G22+SUM('2023'!H12:$O12) -> 3144.46 | H26: =H22+SUM('2023'!I12:$O12) -> 3116.47 | I26: =I22+SUM('2023'!J12:$O12) -> 3109.52 | J26: =J22+SUM('2023'!K12:$O12) -> 3102.13 | K26: =K22+SUM('2023'!L12:$O12) -> 3099.12 | ... N26: =N22+SUM('2023'!O12:$O12) -> 2933.581 | O26: =O22 -> 2777.6058
A27: Lämmitys
B28: Lämmityksen osuus kulutuksesta | D28: =D16/D11 -> 0.64359551 | E28: =E16/E11 -> 0.54852684 | F28: =F16/F11 -> 0.43397883 | G28: =G16/G11 -> 0.38074211 | H28: =H16/H11 -> 0.0932916 | I28: =I16/I11 -> 0.028279458 | J28: =J16/J11 -> 0 | K28: =K16/K11 -> 0.015913095 | ... P28: =P16/P11 -> 0.38150323
B29: Sähkönkulutus lämmitykseen | C29: kWh/oCd | D29: =D16/D13 -> 1.0242078 | E29: =E16/E13 -> 0.83400188 | F29: =F16/F13 -> 0.66718412 | G29: =G16/G13 -> 0.58914217 | H29: =H16/H13 -> 0.43805161 | L29: =L16/L13 -> 0.71365424 | M29: =M16/M13 -> 0.47218854 | N29: =N16/N13 -> 0.59876696 | O29: =O16/O13 -> 0.69937303 | P29: =P16/P13 -> 0.74157261
B30: Sähkönkulutus lämmitykseen | C30: kWh/d | D30: =D16/D7 -> 26.884645 | E30: =E16/E7 -> 17.988276 | F30: =F16/F7 -> 11.161935 | G30: =G16/G7 -> 7.99 | H30: =H16/H7 -> 1.2883871 | I30: =I16/I7 -> 0.226 | J30: =J16/J7 -> 0 | K30: =K16/K7 -> 0.17483871 | ... P30: =P16/P7 -> 7.7530212
B31: Norm sähkö lämmitykseen | C31: kWh/d | D31: =D17/D7 -> 22.896 | E31: =E17/E7 -> 18.434317 | F31: =F17/F7 -> 12.654976 | G31: =G17/G7 -> 7.4428294 | H31: =H17/H7 -> 2.1761274 | I31: =I17/I7 -> 0.226 | J31: =J17/J7 -> 0 | K31: =K17/K7 -> 0.17483871 | ... P31: =P17/P7 -> 8.0998998
B32: Ominaislämmönkulutus | C32: kWh/m3 | D32: =D16/$F$4 -> 3.4450397 | E32: =E16/$F$4 -> 2.1563327 | F32: =F16/$F$4 -> 1.4303075 | G32: =G16/$F$4 -> 0.99082341 | H32: =H16/$F$4 -> 0.1650959 | I32: =I16/$F$4 -> 0.028025794 | J32: =J16/$F$4 -> 0 | K32: =K16/$F$4 -> 0.022404101 | ... P32: =P16/$F$4 -> 11.729521
B33: Ominaislämmönkulutus | C33: kWh/m2 | D33: =D16/$F$3 -> 8.6815 | E33: =E16/$F$3 -> 5.4339583 | F33: =F16/$F$3 -> 3.604375 | G33: =G16/$F$3 -> 2.496875 | H33: =H16/$F$3 -> 0.41604167 | I33: =I16/$F$3 -> 0.070625 | J33: =J16/$F$3 -> 0 | K33: =K16/$F$3 -> 0.056458333 | ... P33: =P16/$F$3 -> 29.558393
B34: Norm lämmönkulutus | C34: kWh/m3 | D34: =D17/$F$4 -> 2.9339286 | E34: =E17/$F$4 -> 2.2098016 | F34: =F17/$F$4 -> 1.6216281 | G34: =G17/$F$4 -> 0.92296992 | H34: =H17/$F$4 -> 0.2788523 | I34: =I17/$F$4 -> 0.028025794 | J34: =J17/$F$4 -> 0 | K34: =K17/$F$4 -> 0.022404101 | ... P34: =P17/$F$4 -> 12.254313
B35: Norm lämmönkulutus | C35: kWh/m2 | D35: =D17/$F$3 -> 7.3935001 | E35: =E17/$F$3 -> 5.5687001 | F35: =F17/$F$3 -> 4.0865027 | G35: =G17/$F$3 -> 2.3258842 | H35: =H17/$F$3 -> 0.7027078 | I35: =I17/$F$3 -> 0.070625 | J35: =J17/$F$3 -> 0 | K35: =K17/$F$3 -> 0.056458333 | ... P35: =P17/$F$3 -> 30.880868
B36: Ominaislämmönkulutus | C36: Wh/m3/oCd | D36: =1000*D32/D13 -> 4.2336632 | E36: =1000*E32/E13 -> 3.4474284 | F36: =1000*F32/F13 -> 2.7578709 | G36: =1000*G32/G13 -> 2.4352768 | H36: =1000*H32/H13 -> 1.8107292 | L36: =1000*L32/L13 -> 2.9499596 | M36: =1000*M32/M13 -> 1.9518375 | N36: =1000*N32/N13 -> 2.4750618 | O36: =1000*O32/O13 -> 2.8909269 | P36: =1000*P32/P13 -> 3.065363
A38: Vuosikulutusarvio
B40: Lämmityssähkö ILPillä | D40: 2800 | E40: kWh | G40: Arvio lämmityssähkö ilman ILP | K40: 6800 | L40: kWh | M40: Vuosikulutusarvio ilma ILP
B41: Lämminvesi | D41: 2300 | E41: kWh | G41: Arvio ILPin säästämästä sähköstä | K41: =K40-D40 -> 4000 | L41: kWh | N41: =D43-D40+K40 -> 12400 | O41: kWh
B42: Taloussähkö | D42: 3300 | E42: kWh | G42: Säästöarvio lämmityssähkönkulutuksesta | K42: =K41/K40 -> 0.58823529
B43: Yhteensä | D43: =SUM(D40:D42) -> 8400 | E43: kWh | G43: Säästöarvio kokonaissähkönkulutuksesta | K43: =K41/(SUM(D41:D42)+K40) -> 0.32258065
A46: Pörssisähkön hinta + kate 0,5 snt/kWh
B47: Pörssisähkön tuntikulutuksella painotettu keskihinta | D47: 14.15 | E47: 7.23 | F47: 7.32 | G47: 5.82 | H47: 3.43 | I47: 3.86 | J47: 1.92 | K47: 1.48 | L47: 5.35 | M47: 4.21 | N47: 5.08 | O47: 4.79
B49: liukuva vuosikeskihinta | C49: c/kWh | D49: =(SUMPRODUCT($D$47:D47,$D$11:D11)+SUMPRODUCT('2023'!E$47:$O47,'2023'!E$11:$O11))/D25 -> 7.6673749 | E49: =(SUMPRODUCT($D$47:E47,$D$11:E11)+SUMPRODUCT('2023'!F$47:$O47,'2023'!F$11:$O11))/E25 -> 7.5198776 | F49: =(SUMPRODUCT($D$47:F47,$D$11:F11)+SUMPRODUCT('2023'!G$47:$O47,'2023'!G$11:$O11))/(F21+SUM('2023'!G$11:$O11)) -> 7.4611654 | G49: =(SUMPRODUCT($D$47:G47,$D$11:G11)+SUMPRODUCT('2023'!H$47:$O47,'2023'!H$11:$O11))/(G21+SUM('2023'!H$11:$O11)) -> 7.4166838 | H49: =(SUMPRODUCT($D$47:H47,$D$11:H11)+SUMPRODUCT('2023'!I$47:$O47,'2023'!I$11:$O11))/(H21+SUM('2023'!I$11:$O11)) -> 7.4621646 | I49: =(SUMPRODUCT($D$47:I47,$D$11:I11)+SUMPRODUCT('2023'!J$47:$O47,'2023'!J$11:$O11))/(I21+SUM('2023'!J$11:$O11)) -> 7.4514964 | J49: =(SUMPRODUCT($D$47:J47,$D$11:J11)+SUMPRODUCT('2023'!K$47:$O47,'2023'!K$11:$O11))/(J21+SUM('2023'!K$11:$O11)) -> 7.3681424 | K49: =(SUMPRODUCT($D$47:K47,$D$11:K11)+SUMPRODUCT('2023'!L$47:$O47,'2023'!L$11:$O11))/(K21+SUM('2023'!L$11:$O11)) -> 7.1568483 | L49: =(SUMPRODUCT($D$47:L47,$D$11:L11)+SUMPRODUCT('2023'!M$47:$O47,'2023'!M$11:$O11))/(L21+SUM('2023'!M$11:$O11)) -> 7.261717 | M49: =(SUMPRODUCT($D$47:M47,$D$11:M11)+SUMPRODUCT('2023'!N$47:$O47,'2023'!N$11:$O11))/(M21+SUM('2023'!N$11:$O11)) -> 7.2584947 | N49: =(SUMPRODUCT($D$47:N47,$D$11:N11)+SUMPRODUCT('2023'!O$47:$O47,'2023'!O$11:$O11))/(N21+SUM('2023'!O$11:$O11)) -> 7.3703175 | O49: =(SUMPRODUCT($D$47:O47,$D$11:O11))/(O21) -> 6.7266441

Sheet 2023
A1: SÄHKÖNKULUTUSRAPORTTI | D1: 2023 | R1: http://suja.kapsi.fi/asema-taulukko.php?asema=101130
R2: https://hlv.fi/asiakaspalvelu/lammitystarveluvut/
A3: Hyvinkää rivitalo 4H+K+S | D3: Asuinala | F3: 96 | G3: m2 | H3: Taloussähkö arvio (ilman lvv) | K3: 10 | L3: kWh/d | M3: Kesäkuukaudet | O3: =(SUM(I11:K11))/92 -> 11.044565 | P3: kWh/d | R3: https://ilmatieteenlaitos.fi/havaintojen-lataus#!/
D4: Tilavuus | F4: =2.52*F3 -> 241.92 | G4: m3
A6: Jakso | D6: Tammi | E6: Helmi | F6: Maalis | G6: Huhti | H6: Touko | I6: Kesä | J6: Heinä | K6: Elo | L6: Syys | M6: Loka | N6: Marras | O6: Joulu | P6: Yhteensä
B7: päivät kuukaudessa | D7: 31 | E7: 28 | F7: 31 | G7: 30 | H7: 31 | I7: 30 | J7: 31 | K7: 31 | L7: 30 | M7: 31 | N7: 30 | O7: 31 | P7: =SUM(D7:O7) -> 365
A8: 2023 | B8: Keskilämpötila | C8: oC | D8: -2.2 | E8: -2.9 | F8: -2.5 | G8: 4.9 | H8: 10.3 | I8: 15.8 | J8: 16.2 | K8: 16.5 | L8: 14.1 | M8: 3.5 | N8: -1.1 | O8: -5.7 | P8: =AVERAGE(D8:O8) -> 5.575
A9: 2023 | B9: Sähkö päivä | C9: kWh | D9: 526.13 | E9: 504.05 | F9: 482.55 | G9: 329.77 | H9: 342.16 | I9: 183.1 | J9: 175.29 | K9: 189.82 | L9: 211.47 | M9: 337.57 | N9: 502.4 | O9: 634.39 | P9: =SUM(D9:O9) -> 4418.7 | R9: =P9/$P$11 -> 0.5837606
A10: 2023 | B10: Sähkö yö | C10: kWh | D10: 342.1 | E10: 348.42 | F10: 363.23 | G10: 206.66 | H10: 179.06 | I10: 147.98 | J10: 129.29 | K10: 190.62 | L10: 190.11 | M10: 272.9 | N10: 341.44 | O10: 438.86 | P10: =SUM(D10:O10) -> 3150.67 | R10: =P10/$P$11 -> 0.4162394
A11: 2023 | B11: Sähkö yhteensä | C11: kWh | D11: =SUM(D9:D10) -> 868.23 | E11: =SUM(E9:E10) -> 852.47 | F11: =SUM(F9:F10) -> 845.78 | G11: =SUM(G9:G10) -> 536.43 | H11: =SUM(H9:H10) -> 521.22 | I11: =SUM(I9:I10) -> 331.08 | J11: =SUM(J9:J10) -> 304.58 | K11: =SUM(K9:K10) -> 380.44 | ... O11: =SUM(O9:O10) -> 1073.25 | P11: =SUM(D11:O11) -> 7569.37 | R11: =P11/$P$11 -> 1
A12: 2023 | B12: Ilmalämpöpumppu | C12: kWh | D12: =(1050.888-932.511+298.13) -> 416.507 | E12: =(677.031-298.13) -> 378.901 | F12: =(1043.61-677.031) -> 366.579 | G12: =(1197.74-1043.61) -> 154.13 | H12: =(1265.67-1197.74) -> 67.93 | I12: =(1279.4-1265.67) -> 13.73 | J12: =1299.22-1291.83 -> 7.39 | K12: =1313.09-1299.21-5.45 -> 8.43 | L12: =(1350.01-1313.09) -> 36.92 | M12: =(1524.15-1350.01)+54.963 -> 229.103 | N12: =(407.629-54.963) -> 352.666 | O12: =(955.116-407.629) -> 547.487 | P12: =SUM(D12:O12) -> 2579.773 | R12: =P12/$P$11 -> 0.3408174 | W12: ILP kulutus | X12: =P12+'2022'!X12 -> 33302.462 | Y12: kWh | Z12: =X12*1000/400 -> 83256.154 | AA12: h
A13: 2023 | B13: Lämmitystarveluku toteutunut | C13: oCd | D13: 590 | E13: 558 | F13: 596 | G13: 326 | H13: 122 | I13: =28/1.02 -> 27.45098 | J13: 0 | K13: 0 | L13: =25/1.02 -> 24.509804 | M13: =421/1.02 -> 412.7451 | N13: =554/1.02 -> 543.13725 | O13: =716/1.02 -> 701.96078 | P13: =SUM(D13:O13) -> 3901.8039 | R13: =(P13-P14)/P14 -> -0.060937684 | W13: ILP säästö | X13: =X12*2.7-X12 -> 56614.185 | Y13: kWh
A14: 2023 | B14: Lämmitystarveluku normivuosi | C14: oCd | D14: 693 | E14: 641 | F14: 588 | G14: 379 | H14: 154 | I14: 19 | J14: 4 | K14: 21 | L14: 165 | M14: 378 | N14: 494 | O14: 619 | P14: 4155
A15: 2023 | B15: Lämminvesivaraaja | C15: kWh | D15: 152 | E15: 166 | F15: 156 | G15: 150 | H15: 176 | I15: 121 | J15: 122 | K15: 142 | L15: 139 | M15: 126 | N15: 160 | O15: 178 | P15: =SUM(D15:O15) -> 1788 | R15: =P15/$P$11 -> 0.23621517
A16: 2023 | B16: Lämmityssähkö (arvio) | C16: kWh | D16: =D12 -> 416.507 | E16: =E12 -> 378.901 | F16: =F12 -> 366.579 | G16: =G12 -> 154.13 | H16: =H12 -> 67.93 | I16: =I12 -> 13.73 | J16: =J12 -> 7.39 | K16: =K12 -> 8.43 | ... M16: =M12 -> 229.103 | N16: =N12+30 -> 382.666 | O16: =O12+50 -> 597.487 | P16: =SUM(D16:O16) -> 2659.773
A17: 2023 | B17: Sääkorjattu lämmityssähkö | C17: kWh | D17: =IF(D16<0,0,((D14/D13))*D16) -> 489.21924 | E17: =IF(E16<0,0,((E14/E13))*E16) -> 435.26083 | F17: =IF(F16<0,0,((F14/F13))*F16) -> 361.65848 | G17: =IF(G16<0,0,((G14/G13))*G16) -> 179.18794 | H17: =IF(H16<0,0,((H14/H13))*H16) -> 85.747705 | I17: =I16 -> 13.73 | J17: =J16 -> 7.39 | K17: =K16 -> 8.43 | L17: =IF(L16<0,0,((L14/L13))*L16) -> 248.54544 | M17: =IF(M16<0,0,((M14/M13))*M16) -> 209.81699 | N17: =IF(N16<0,0,((N14/N13))*N16) -> 348.04647 | O17: =IF(O16<0,0,((O14/O13))*O16) -> 526.87338 | P17: =SUM(D17:O17) -> 2913.9065 | R17: =(P14-P13)/P14 -> 0.060937684
A20: Kulutus päivässä | C20: kWh/d | D20: =D11/D7 -> 28.007419 | E20: =E11/E7 -> 30.445357 | F20: =F11/F7 -> 27.283226 | G20: =G11/G7 -> 17.881 | H20: =H11/H7 -> 16.813548 | I20: =I11/I7 -> 11.036 | J20: =J11/J7 -> 9.8251613 | K20: =K11/K7 -> 12.272258 | ... O20: =O11/O7 -> 34.620968 | P20: =P11/365 -> 20.738
B21: Kumulatiivinen kulutus | C21: kWh | D21: =SUM(D11) -> 868.23 | E21: =SUM($D$11:E11) -> 1720.7 | F21: =SUM($D$11:F11) -> 2566.48 | G21: =SUM($D$11:G11) -> 3102.91 | H21: =SUM($D$11:H11) -> 3624.13 | I21: =SUM($D$11:I11) -> 3955.21 | J21: =SUM($D$11:J11) -> 4259.79 | K21: =SUM($D$11:K11) -> 4640.23 | L21: =SUM($D$11:L11) -> 5041.81 | ... O21: =SUM($D$11:O11) -> 7569.37
B22: Kumulatiivinen kulutus ILP | C22: kWh | D22: =SUM(D12) -> 416.507 | E22: =SUM($D$12:E12) -> 795.408 | F22: =SUM($D$12:F12) -> 1161.987 | G22: =SUM($D$12:G12) -> 1316.117 | H22: =SUM($D$12:H12) -> 1384.047 | I22: =SUM($D$12:I12) -> 1397.777 | J22: =SUM($D$12:J12) -> 1405.167 | K22: =SUM($D$12:K12) -> 1413.597 | L22: =SUM($D$12:L12) -> 1450.517 | ... O22: =SUM($D$12:O12) -> 2579.773
B23: Kumulatiivinen kulutus lämmitys | C23: kWh | D23: =SUM(D16) -> 416.507 | E23: =SUM($D$16:E16) -> 795.408 | F23: =SUM($D$16:F16) -> 1161.987 | G23: =SUM($D$16:G16) -> 1316.117 | H23: =SUM($D$16:H16) -> 1384.047 | I23: =SUM($D$16:I16) -> 1397.777 | J23: =SUM($D$16:J16) -> 1405.167 | K23: =SUM($D$16:K16) -> 1413.597 | L23: =SUM($D$16:L16) -> 1450.517 | ... O23: =SUM($D$16:O16) -> 2659.773
B24: Taloussähkö ilman LKV | C24: kWh/d | D24: =(D11-D16-D15)/D7 -> 9.6684839 | E24: =(E11-E16-E15)/E7 -> 10.984607 | F24: =(F11-F16-F15)/F7 -> 10.425839 | G24: =(G11-G16-G15)/G7 -> 7.7433333 | H24: =(H11-H16-H15)/H7 -> 8.9448387 | I24: =(I11-I16-I15)/I7 -> 6.545 | J24: =(J11-J16-J15)/J7 -> 5.6512903 | K24: =(K11-K16-K15)/K7 -> 7.4196774 | ... O24: =(O11-O16-O15)/O7 -> 9.6052581 | P24: =(P11-P16-P15) -> 3121.597
B25: Liukuva 12 kk kulutus | C25: kWh | D25: =D21+'2022'!$P$11-'2022'!D21 -> 7467.42 | E25: =E21+'2022'!$P$11-'2022'!E21 -> 7376.96 | F25: =F21+'2022'!$P$11-'2022'!F21 -> 7312.35 | G25: =G21+'2022'!$P$11-'2022'!G21 -> 7114.96 | H25: =H21+'2022'!$P$11-'2022'!H21 -> 7136.04 | I25: =I21+'2022'!$P$11-'2022'!I21 -> 7162.44 | J25: =J21+'2022'!$P$11-'2022'!J21 -> 7096.57 | K25: =K21+'2022'!$P$11-'2022'!K21 -> 7208.73 | ... O25: =O21+'2022'!$P$11-'2022'!O21 -> 7569.37
B26: Liukuva 12 kk kulutus ILP | C26: kWh | D26: =D22+SUM('2022'!E12:$O12) -> 2465.076 | E26: =E22+SUM('2022'!F12:$O12) -> 2408.897 | F26: =F22+SUM('2022'!G12:$O12) -> 2417.706 | G26: =G22+SUM('2022'!H12:$O12) -> 2342.066 | H26: =H22+SUM('2022'!I12:$O12) -> 2325.536 | I26: =I22+SUM('2022'!J12:$O12) -> 2329.156 | J26: =J22+SUM('2022'!K12:$O12) -> 2331.406 | K26: =K22+SUM('2022'!L12:$O12) -> 2336.996 | ... N26: =N22+SUM('2022'!O12:$O12) -> 2472.476 | O26: =O22 -> 2579.773
A27: Lämmitys
B28: Lämmityksen osuus kulutuksesta | D28: =D16/D11 -> 0.47971966 | E28: =E16/E11 -> 0.44447429 | F28: =F16/F11 -> 0.43342122 | G28: =G16/G11 -> 0.28732547 | H28: =H16/H11 -> 0.13032884 | I28: =I16/I11 -> 0.041470339 | J28: =J16/J11 -> 0.024262919 | K28: =K16/K11 -> 0.022158553 | ... P28: =P16/P11 -> 0.35138631
B29: Sähkönkulutus lämmitykseen | C29: kWh/oCd | D29: =D16/D13 -> 0.70594407 | E29: =E16/E13 -> 0.67903405 | F29: =F16/F13 -> 0.61506544 | G29: =G16/G13 -> 0.47279141 | H29: =H16/H13 -> 0.55680328 | L29: =L16/L13 -> 1.506336 | M29: =M16/M13 -> 0.5550714 | N29: =N16/N13 -> 0.70454751 | O29: =O16/O13 -> 0.85116863 | P29: =P16/P13 -> 0.68167777
B30: Sähkönkulutus lämmitykseen | C30: kWh/d | D30: =D16/D7 -> 13.43571 | E30: =E16/E7 -> 13.532179 | F30: =F16/F7 -> 11.825129 | G30: =G16/G7 -> 5.1376667 | H30: =H16/H7 -> 2.1912903 | I30: =I16/I7 -> 0.45766667 | J30: =J16/J7 -> 0.2383871 | K30: =K16/K7 -> 0.27193548 | ... P30: =P16/P7 -> 7.2870493
B31: Norm sähkö lämmitykseen | C31: kWh/d | D31: =D17/D7 -> 15.781266 | E31: =E17/E7 -> 15.54503 | F31: =F17/F7 -> 11.666402 | G31: =G17/G7 -> 5.9729315 | H31: =H17/H7 -> 2.766055 | I31: =I17/I7 -> 0.45766667 | J31: =J17/J7 -> 0.2383871 | K31: =K17/K7 -> 0.27193548 | ... P31: =P17/P7 -> 7.9833054
B32: Ominaislämmönkulutus | C32: kWh/m3 | D32: =D16/$F$4 -> 1.7216725 | E32: =E16/$F$4 -> 1.5662244 | F32: =F16/$F$4 -> 1.5152902 | G32: =G16/$F$4 -> 0.63711144 | H32: =H16/$F$4 -> 0.2807953 | I32: =I16/$F$4 -> 0.056754299 | J32: =J16/$F$4 -> 0.030547288 | K32: =K16/$F$4 -> 0.03484623 | ... P32: =P16/$F$4 -> 10.994432
B33: Ominaislämmönkulutus | C33: kWh/m2 | D33: =D16/$F$3 -> 4.3386146 | E33: =E16/$F$3 -> 3.9468854 | F33: =F16/$F$3 -> 3.8185312 | G33: =G16/$F$3 -> 1.6055208 | H33: =H16/$F$3 -> 0.70760417 | I33: =I16/$F$3 -> 0.14302083 | J33: =J16/$F$3 -> 0.076979167 | K33: =K16/$F$3 -> 0.0878125 | ... P33: =P16/$F$3 -> 27.705969
B34: Norm lämmönkulutus | C34: kWh/m3 | D34: =D17/$F$4 -> 2.0222356 | E34: =E17/$F$4 -> 1.7991932 | F34: =F17/$F$4 -> 1.4949507 | G34: =G17/$F$4 -> 0.74069091 | H34: =H17/$F$4 -> 0.35444653 | I34: =I17/$F$4 -> 0.056754299 | J34: =J17/$F$4 -> 0.030547288 | K34: =K17/$F$4 -> 0.03484623 | ... P34: =P17/$F$4 -> 12.044918
B35: Norm lämmönkulutus | C35: kWh/m2 | D35: =D17/$F$3 -> 5.0960337 | E35: =E17/$F$3 -> 4.5339669 | F35: =F17/$F$3 -> 3.7672758 | G35: =G17/$F$3 -> 1.8665411 | H35: =H17/$F$3 -> 0.89320526 | I35: =I17/$F$3 -> 0.14302083 | J35: =J17/$F$3 -> 0.076979167 | K35: =K17/$F$3 -> 0.0878125 | ... P35: =P17/$F$3 -> 30.353192
B36: Ominaislämmönkulutus | C36: Wh/m3/oCd | D36: =1000*D32/D13 -> 2.9180889 | E36: =1000*E32/E13 -> 2.8068537 | F36: =1000*F32/F13 -> 2.5424332 | G36: =1000*G32/G13 -> 1.9543296 | H36: =1000*H32/H13 -> 2.3016009 | L36: =1000*L32/L13 -> 6.2265873 | M36: =1000*M32/M13 -> 2.294442 | N36: =1000*N32/N13 -> 2.9123161 | O36: =1000*O32/O13 -> 3.5183889 | P36: =1000*P32/P13 -> 2.8177818
A38: Vuosikulutusarvio
B40: Lämmityssähkö ILPillä | D40: 2800 | E40: kWh | G40: Arvio lämmityssähkö ilman ILP | K40: 6800 | L40: kWh | M40: Vuosikulutusarvio ilma ILP
B41: Lämminvesi | D41: 2300 | E41: kWh | G41: Arvio ILPin säästämästä sähköstä | K41: =K40-D40 -> 4000 | L41: kWh | N41: =D43-D40+K40 -> 12400 | O41: kWh
B42: Taloussähkö | D42: 3300 | E42: kWh | G42: Säästöarvio lämmityssähkönkulutuksesta | K42: =K41/K40 -> 0.58823529
B43: Yhteensä | D43: =SUM(D40:D42) -> 8400 | E43: kWh | G43: Säästöarvio kokonaissähkönkulutuksesta | K43: =K41/(SUM(D41:D42)+K40) -> 0.32258065
A46: Pörssisähkön hinta + kate 0,35-0,4 snt/kWh
B47: Pörssisähkön tuntikulutuksella painotettu keskihinta | D47: 8.43 | E47: 8.58 | F47: 7.89 | G47: 6.21 | H47: 3.44 | I47: 5.11 | J47: 4.18 | K47: 6.49 | L47: 3.41 | M47: 4.58 | N47: 4.49 | O47: 9.77
B49: liukuva vuosikeskihinta | C49: c/kWh | D49: =(SUMPRODUCT($D$47:D47,$D$11:D11)+SUMPRODUCT('2022'!E$47:$O47,'2022'!E$11:$O11))/D25 -> 16.699052 | E49: =(SUMPRODUCT($D$47:E47,$D$11:E11)+SUMPRODUCT('2022'!F$47:$O47,'2022'!F$11:$O11))/E25 -> 16.546805 | F49: =(SUMPRODUCT($D$47:F47,$D$11:F11)+SUMPRODUCT('2022'!G$47:$O47,'2022'!G$11:$O11))/(F21+SUM('2022'!G$11:$O11)) -> 16.330718 | G49: =(SUMPRODUCT($D$47:G47,$D$11:G11)+SUMPRODUCT('2022'!H$47:$O47,'2022'!H$11:$O11))/(G21+SUM('2022'!H$11:$O11)) -> 16.287645 | H49: =(SUMPRODUCT($D$47:H47,$D$11:H11)+SUMPRODUCT('2022'!I$47:$O47,'2022'!I$11:$O11))/(H21+SUM('2022'!I$11:$O11)) -> 15.320346 | I49: =(SUMPRODUCT($D$47:I47,$D$11:I11)+SUMPRODUCT('2022'!J$47:$O47,'2022'!J$11:$O11))/(I21+SUM('2022'!J$11:$O11)) -> 14.786286 | J49: =(SUMPRODUCT($D$47:J47,$D$11:J11)+SUMPRODUCT('2022'!K$47:$O47,'2022'!K$11:$O11))/(J21+SUM('2022'!K$11:$O11)) -> 13.837054 | K49: =(SUMPRODUCT($D$47:K47,$D$11:K11)+SUMPRODUCT('2022'!L$47:$O47,'2022'!L$11:$O11))/(K21+SUM('2022'!L$11:$O11)) -> 12.549322 | L49: =(SUMPRODUCT($D$47:L47,$D$11:L11)+SUMPRODUCT('2022'!M$47:$O47,'2022'!M$11:$O11))/(L21+SUM('2022'!M$11:$O11)) -> 11.191201 | M49: =(SUMPRODUCT($D$47:M47,$D$11:M11)+SUMPRODUCT('2022'!N$47:$O47,'2022'!N$11:$O11))/(M21+SUM('2022'!N$11:$O11)) -> 10.55641 | N49: =(SUMPRODUCT($D$47:N47,$D$11:N11)+SUMPRODUCT('2022'!O$47:$O47,'2022'!O$11:$O11))/(N21+SUM('2022'!O$11:$O11)) -> 8.6829858 | O49: =(SUMPRODUCT($D$47:O47,$D$11:O11))/(O21) -> 6.6458181

Sheet 2022
A1: SÄHKÖNKULUTUSRAPORTTI | D1: 2022 | R1: http://suja.kapsi.fi/asema-taulukko.php?asema=101130
R2: https://hlv.fi/asiakaspalvelu/lammitystarveluvut/
A3: Hyvinkää rivitalo 4H+K+S | D3: Asuinala | F3: 96 | G3: m2 | H3: Taloussähkö arvio (ilman lvv) | K3: 10 | L3: kWh/d | M3: Kesäkuukaudet | O3: =(SUM(I11:K11))/92 -> 10.254457 | P3: kWh/d | R3: https://ilmatieteenlaitos.fi/havaintojen-lataus#!/
D4: Tilavuus | F4: =2.52*F3 -> 241.92 | G4: m3
A6: Jakso | D6: Tammi | E6: Helmi | F6: Maalis | G6: Huhti | H6: Touko | I6: Kesä | J6: Heinä | K6: Elo | L6: Syys | M6: Loka | N6: Marras | O6: Joulu | P6: Yhteensä
B7: päivät kuukaudessa | D7: 31 | E7: 28 | F7: 31 | G7: 30 | H7: 31 | I7: 30 | J7: 31 | K7: 31 | L7: 30 | M7: 31 | N7: 30 | O7: 31 | P7: =SUM(D7:O7) -> 365
A8: 2022 | B8: Keskilämpötila | C8: oC | D8: -3.6 | E8: -2.5 | F8: -0.3 | G8: 3.1 | H8: 9.8 | I8: 16.8 | J8: 17.2 | K8: 17.9 | L8: 8.2 | M8: 6.8 | N8: 1.7 | O8: -4.2 | P8: =AVERAGE(D8:O8) -> 5.9083333
A9: 2022 | B9: Sähkö päivä | C9: kWh | D9: 621.32 | E9: 515.49 | F9: 454.9 | G9: 365.82 | H9: 241.05 | I9: 163.69 | J9: 193.72 | K9: 160.91 | L9: 230.39 | M9: 311.61 | N9: 367.67 | O9: 554.02 | P9: =SUM(D9:O9) -> 4180.59 | R9: =P9/$P$11 -> 0.54133787
A10: 2022 | B10: Sähkö yö | C10: kWh | D10: 502.19 | E10: 427.44 | F10: 455.49 | G10: 368 | H10: 259.09 | I10: 140.99 | J10: 176.73 | K10: 107.37 | L10: 201.91 | M10: 234.27 | N10: 288.03 | O10: 380.6 | P10: =SUM(D10:O10) -> 3542.11 | R10: =P10/$P$11 -> 0.45866213
A11: 2022 | B11: Sähkö yhteensä | C11: kWh | D11: =SUM(D9:D10) -> 1123.51 | E11: =SUM(E9:E10) -> 942.93 | F11: =SUM(F9:F10) -> 910.39 | G11: =SUM(G9:G10) -> 733.82 | H11: =SUM(H9:H10) -> 500.14 | I11: =SUM(I9:I10) -> 304.68 | J11: =SUM(J9:J10) -> 370.45 | K11: =SUM(K9:K10) -> 268.28 | ... O11: =SUM(O9:O10) -> 934.62 | P11: =SUM(D11:O11) -> 7722.7 | R11: =P11/$P$11 -> 1
A12: 2022 | B12: Ilmalämpöpumppu | C12: kWh | D12: =(1793.34-1256.21) -> 537.13 | E12: =(2228.42-1793.34) -> 435.08 | F12: =(2586.19-2228.42) -> 357.77 | G12: =(2815.96-2586.19) -> 229.77 | H12: =(2900.42-2815.96) -> 84.46 | I12: =(2910.53-2900.42) -> 10.11 | J12: =2929.64-2927.41+2936.31-2933.4 -> 5.14 | K12: =1.94+0.9 -> 2.84 | L12: =(94.524-9.112) -> 85.412 | M12: =(233.453-94.524) -> 138.929 | N12: =(492.321-233.453) -> 258.868 | O12: =(932.511-492.321) -> 440.19 | P12: =SUM(D12:O12) -> 2585.699 | R12: =P12/$P$11 -> 0.334818 | W12: ILP kulutus | X12: =P12+'2021'!X12 -> 30722.689 | Y12: kWh | Z12: =X12*1000/400 -> 76806.722 | AA12: h
A13: 2022 | B13: Lämmitystarveluku toteutunut | C13: oCd | D13: =668/1.02 -> 654.90196 | E13: =558/1.02 -> 547.05882 | F13: =548/1.02 -> 537.2549 | G13: =425/1.02 -> 416.66667 | H13: =160/1.02 -> 156.86275 | I13: 0 | J13: 0 | K13: =7/1.02 -> 6.8627451 | L13: =228/1.02 -> 223.52941 | M13: =321/1.02 -> 314.70588 | N13: =470/1.02 -> 460.78431 | O13: =654/1.02 -> 641.17647 | P13: =SUM(D13:O13) -> 3959.8039 | R13: =(P13-P14)/P14 -> -0.080398532 | W13: ILP säästö | X13: =X12*2.6-X12 -> 49156.302 | Y13: kWh
A14: 2022 | B14: Lämmitystarveluku normivuosi | C14: oCd | D14: 712 | E14: 664 | F14: 598 | G14: 387 | H14: 156 | I14: 20 | J14: 4 | K14: 30 | L14: 187 | M14: 375 | N14: 518 | O14: 655 | P14: =SUM(D14:O14) -> 4306
A15: 2022 | B15: Lämminvesivaraaja | C15: kWh | D15: 196 | E15: 165 | F15: 208 | G15: 195 | H15: 160 | I15: 116 | J15: 130 | K15: 100 | L15: 142 | M15: 161 | N15: 142 | O15: 144.5 | P15: =SUM(D15:O15) -> 1859.5 | R15: =P15/$P$11 -> 0.24078366
A16: 2022 | B16: Lämmityssähkö (arvio) | C16: kWh | D16: =D12 -> 537.13 | E16: =E12 -> 435.08 | F16: =F12 -> 357.77 | G16: =G12 -> 229.77 | H16: =H12 -> 84.46 | I16: =I12 -> 10.11 | J16: =J12 -> 5.14 | K16: =K12 -> 2.84 | ... O16: =O12 -> 440.19 | P16: =SUM(D16:O16) -> 2585.699
A17: 2022 | B17: Sääkorjattu lämmityssähkö | C17: kWh | D17: =IF(D16<0,0,((D14/D13))*D16) -> 583.96002 | E17: =IF(E16<0,0,((E14/E13))*E16) -> 528.0842 | F17: =IF(F16<0,0,((F14/F13))*F16) -> 398.22151 | G17: =IF(G16<0,0,((G14/G13))*G16) -> 213.41038 | H17: =IF(H16<0,0,((H14/H13))*H16) -> 83.99547 | I17: =I16 -> 10.11 | J17: =J16 -> 5.14 | K17: =K16 -> 2.84 | L17: =IF(L16<0,0,((L14/L13))*L16) -> 71.453881 | M17: =IF(M16<0,0,((M14/M13))*M16) -> 165.54624 | N17: =IF(N16<0,0,((N14/N13))*N16) -> 291.01169 | O17: =IF(O16<0,0,((O14/O13))*O16) -> 449.68033 | P17: =SUM(D17:O17) -> 2803.4537 | R17: =(P14-P13)/P14 -> 0.080398532
A20: Kulutus päivässä | C20: kWh/d | D20: =D11/D7 -> 36.242258 | E20: =E11/E7 -> 33.676071 | F20: =F11/F7 -> 29.367419 | G20: =G11/G7 -> 24.460667 | H20: =H11/H7 -> 16.133548 | I20: =I11/I7 -> 10.156 | J20: =J11/J7 -> 11.95 | K20: =K11/K7 -> 8.6541935 | ... O20: =O11/O7 -> 30.149032 | P20: =P11/365 -> 21.158082
B21: Kumulatiivinen kulutus | C21: kWh | D21: =SUM(D11) -> 1123.51 | E21: =SUM($D$11:E11) -> 2066.44 | F21: =SUM($D$11:F11) -> 2976.83 | G21: =SUM($D$11:G11) -> 3710.65 | H21: =SUM($D$11:H11) -> 4210.79 | I21: =SUM($D$11:I11) -> 4515.47 | J21: =SUM($D$11:J11) -> 4885.92 | K21: =SUM($D$11:K11) -> 5154.2 | L21: =SUM($D$11:L11) -> 5586.5 | ... O21: =SUM($D$11:O11) -> 7722.7
B22: Kumulatiivinen kulutus ILP | C22: kWh | D22: =SUM(D12) -> 537.13 | E22: =SUM($D$12:E12) -> 972.21 | F22: =SUM($D$12:F12) -> 1329.98 | G22: =SUM($D$12:G12) -> 1559.75 | H22: =SUM($D$12:H12) -> 1644.21 | I22: =SUM($D$12:I12) -> 1654.32 | J22: =SUM($D$12:J12) -> 1659.46 | K22: =SUM($D$12:K12) -> 1662.3 | L22: =SUM($D$12:L12) -> 1747.712 | ... O22: =SUM($D$12:O12) -> 2585.699
B23: Kumulatiivinen kulutus lämmitys | C23: kWh | D23: =SUM(D16) -> 537.13 | E23: =SUM($D$16:E16) -> 972.21 | F23: =SUM($D$16:F16) -> 1329.98 | G23: =SUM($D$16:G16) -> 1559.75 | H23: =SUM($D$16:H16) -> 1644.21 | I23: =SUM($D$16:I16) -> 1654.32 | J23: =SUM($D$16:J16) -> 1659.46 | K23: =SUM($D$16:K16) -> 1662.3 | L23: =SUM($D$16:L16) -> 1747.712 | ... O23: =SUM($D$16:O16) -> 2585.699
B24: Taloussähkö ilman LKV | C24: kWh | D24: =(D11-D12-D15)/D7 -> 12.592903 | E24: =(E11-E12-E15)/E7 -> 12.244643 | F24: =(F11-F12-F15)/F7 -> 11.116774 | G24: =(G11-G12-G15)/G7 -> 10.301667 | H24: =(H11-H12-H15)/H7 -> 8.2477419 | I24: =(I11-I12-I15)/I7 -> 5.9523333 | J24: =(J11-J12-J15)/J7 -> 7.5906452 | K24: =(K11-K12-K15)/K7 -> 5.3367742 | ... O24: =(O11-O12-O15)/O7 -> 11.288065 | P24: =P11-P12-P15-42 -> 3235.501
B25: Liukuva 12 kk kulutus | C25: kWh | D25: =D21+'2021'!$P$11-'2021'!D21 -> 8946.51 | E25: =E21+'2021'!$P$11-'2021'!E21 -> 8744.28 | F25: =F21+'2021'!$P$11-'2021'!F21 -> 8657.59 | G25: =G21+'2021'!$P$11-'2021'!G21 -> 8649.03 | H25: =H21+'2021'!$P$11-'2021'!H21 -> 8571.16 | I25: =I21+'2021'!$P$11-'2021'!I21 -> 8520.06 | J25: =J21+'2021'!$P$11-'2021'!J21 -> 8583.5 | K25: =K21+'2021'!$P$11-'2021'!K21 -> 8429.53 | ... O25: =O21+'2021'!$P$11-'2021'!O21 -> 7722.7
B26: Liukuva 12 kk kulutus ILP | C26: kWh | D26: =D22+SUM('2021'!E12:$O12) -> 3085.649 | E26: =E22+SUM('2021'!F12:$O12) -> 2892.379 | F26: =F22+SUM('2021'!G12:$O12) -> 2871.529 | G26: =G22+SUM('2021'!H12:$O12) -> 2909.999 | H26: =H22+SUM('2021'!I12:$O12) -> 2908.839 | I26: =I22+SUM('2021'!J12:$O12) -> 2917.169 | J26: =J22+SUM('2021'!K12:$O12) -> 2920.696 | K26: =K22+SUM('2021'!L12:$O12) -> 2885.725 | ... N26: =N22+SUM('2021'!O12:$O12) -> 2804.467 | O26: =O22 -> 2585.699
A27: Lämmitys
B28: Lämmityksen osuus kulutuksesta | D28: =D16/D11 -> 0.47808208 | E28: =E16/E11 -> 0.46141283 | F28: =F16/F11 -> 0.39298542 | G28: =G16/G11 -> 0.31311493 | H28: =H16/H11 -> 0.16887272 | I28: =I16/I11 -> 0.033182355 | J28: =J16/J11 -> 0.013875017 | K28: =K16/K11 -> 0.010585955 | ... P28: =P16/P11 -> 0.334818
B29: Sähkönkulutus lämmitykseen | C29: kWh/oCd | D29: =D16/D13 -> 0.82016856 | E29: =E16/E13 -> 0.79530753 | F29: =F16/F13 -> 0.66592226 | G29: =G16/G13 -> 0.551448 | H29: =H16/H13 -> 0.5384325 | L29: =L16/L13 -> 0.38210632 | M29: =M16/M13 -> 0.44145664 | N29: =N16/N13 -> 0.56179864 | O29: =O16/O13 -> 0.68653486 | P29: =P16/P13 -> 0.65298663
B30: Sähkönkulutus lämmitykseen | C30: kWh/d | D30: =D16/D7 -> 17.326774 | E30: =E16/E7 -> 15.538571 | F30: =F16/F7 -> 11.540968 | G30: =G16/G7 -> 7.659 | H30: =H16/H7 -> 2.7245161 | I30: =I16/I7 -> 0.337 | J30: =J16/J7 -> 0.16580645 | K30: =K16/K7 -> 0.091612903 | ... P30: =P16/P7 -> 7.0841068
B31: Norm sähkö lämmitykseen | C31: kWh/d | D31: =D17/D7 -> 18.83742 | E31: =E17/E7 -> 18.86015 | F31: =F17/F7 -> 12.845855 | G31: =G17/G7 -> 7.1136792 | H31: =H17/H7 -> 2.7095313 | I31: =I17/I7 -> 0.337 | J31: =J17/J7 -> 0.16580645 | K31: =K17/K7 -> 0.091612903 | ... P31: =P17/P7 -> 7.6806951
B32: Ominaislämmönkulutus | C32: kWh/m3 | D32: =D16/$F$4 -> 2.2202794 | E32: =E16/$F$4 -> 1.7984458 | F32: =F16/$F$4 -> 1.4788773 | G32: =G16/$F$4 -> 0.94977679 | H32: =H16/$F$4 -> 0.34912368 | I32: =I16/$F$4 -> 0.041790675 | J32: =J16/$F$4 -> 0.021246693 | K32: =K16/$F$4 -> 0.011739418 | ... P32: =P16/$F$4 -> 10.68824
B33: Ominaislämmönkulutus | C33: kWh/m2 | D33: =D16/$F$3 -> 5.5951042 | E33: =E16/$F$3 -> 4.5320833 | F33: =F16/$F$3 -> 3.7267708 | G33: =G16/$F$3 -> 2.3934375 | H33: =H16/$F$3 -> 0.87979167 | I33: =I16/$F$3 -> 0.1053125 | J33: =J16/$F$3 -> 0.053541667 | K33: =K16/$F$3 -> 0.029583333 | ... P33: =P16/$F$3 -> 26.934365
B34: Norm lämmönkulutus | C34: kWh/m3 | D34: =D17/$F$4 -> 2.4138559 | E34: =E17/$F$4 -> 2.1828877 | F34: =F17/$F$4 -> 1.6460876 | G34: =G17/$F$4 -> 0.88215268 | H34: =H17/$F$4 -> 0.3472035 | I34: =I17/$F$4 -> 0.041790675 | J34: =J17/$F$4 -> 0.021246693 | K34: =K17/$F$4 -> 0.011739418 | ... P34: =P17/$F$4 -> 11.58835
B35: Norm lämmönkulutus | C35: kWh/m2 | D35: =D17/$F$3 -> 6.0829168 | E35: =E17/$F$3 -> 5.5008771 | F35: =F17/$F$3 -> 4.1481408 | G35: =G17/$F$3 -> 2.2230247 | H35: =H17/$F$3 -> 0.87495281 | I35: =I17/$F$3 -> 0.1053125 | J35: =J17/$F$3 -> 0.053541667 | K35: =K17/$F$3 -> 0.029583333 | ... P35: =P17/$F$3 -> 29.202643
B36: Ominaislämmönkulutus | C36: Wh/m3/oCd | D36: =1000*D32/D13 -> 3.390247 | E36: =1000*E32/E13 -> 3.2874815 | F36: =1000*F32/F13 -> 2.7526549 | G36: =1000*G32/G13 -> 2.2794643 | H36: =1000*H32/H13 -> 2.2256634 | L36: =1000*L32/L13 -> 1.5794739 | M36: =1000*M32/M13 -> 1.8248042 | N36: =1000*N32/N13 -> 2.3222497 | O36: =1000*O32/O13 -> 2.8378591 | P36: =1000*P32/P13 -> 2.6991841
A38: Vuosikulutusarvio
B40: Lämmityssähkö ILPillä | D40: 2800 | E40: kWh | G40: Arvio lämmityssähkö ilman ILP | K40: 6800 | L40: kWh | M40: Vuosikulutusarvio ilma ILP
B41: Lämminvesi | D41: 2300 | E41: kWh | G41: Arvio ILPin säästämästä sähköstä | K41: =K40-D40 -> 4000 | L41: kWh | N41: =D43-D40+K40 -> 12400 | O41: kWh
B42: Taloussähkö | D42: 3300 | E42: kWh | G42: Säästöarvio lämmityssähkönkulutuksesta | K42: =K41/K40 -> 0.58823529
B43: Yhteensä | D43: =SUM(D40:D42) -> 8400 | E43: kWh | G43: Säästöarvio kokonaissähkönkulutuksesta | K43: =K41/(SUM(D41:D42)+K40) -> 0.32258065
A46: Pörssisähkön hinta + kate 0,4 snt/kWh
B47: Pörssisähkön tuntikulutuksella painotettu keskihinta | D47: 13.87 | E47: 10.55 | F47: 10.24 | G47: 9.35 | H47: 16.7 | I47: 16.78 | J47: 24.25 | K47: 38.02 | L47: 26.61 | M47: 12.22 | N47: 23.98 | O47: 26.43
B49: liukuva vuosikeskihinta | C49: c/kWh | D49: =(SUMPRODUCT($D$47:D47,$D$11:D11)+SUMPRODUCT('2021'!E$47:$O47,'2021'!E$11:$O11))/D25 -> 11.030486 | E49: =(SUMPRODUCT($D$47:E47,$D$11:E11)+SUMPRODUCT('2021'!F$47:$O47,'2021'!F$11:$O11))/E25 -> 11.417457 | F49: =(SUMPRODUCT($D$47:F47,$D$11:F11)+SUMPRODUCT('2021'!G$47:$O47,'2021'!G$11:$O11))/(F21+SUM('2021'!G$11:$O11)) -> 12.044246 | G49: =(SUMPRODUCT($D$47:G47,$D$11:G11)+SUMPRODUCT('2021'!H$47:$O47,'2021'!H$11:$O11))/(G21+SUM('2021'!H$11:$O11)) -> 12.473507 | H49: =(SUMPRODUCT($D$47:H47,$D$11:H11)+SUMPRODUCT('2021'!I$47:$O47,'2021'!I$11:$O11))/(H21+SUM('2021'!I$11:$O11)) -> 13.172191 | I49: =(SUMPRODUCT($D$47:I47,$D$11:I11)+SUMPRODUCT('2021'!J$47:$O47,'2021'!J$11:$O11))/(I21+SUM('2021'!J$11:$O11)) -> 13.549341 | J49: =(SUMPRODUCT($D$47:J47,$D$11:J11)+SUMPRODUCT('2021'!K$47:$O47,'2021'!K$11:$O11))/(J21+SUM('2021'!K$11:$O11)) -> 14.111647 | K49: =(SUMPRODUCT($D$47:K47,$D$11:K11)+SUMPRODUCT('2021'!L$47:$O47,'2021'!L$11:$O11))/(K21+SUM('2021'!L$11:$O11)) -> 15.137126 | L49: =(SUMPRODUCT($D$47:L47,$D$11:L11)+SUMPRODUCT('2021'!M$47:$O47,'2021'!M$11:$O11))/(L21+SUM('2021'!M$11:$O11)) -> 16.002453 | M49: =(SUMPRODUCT($D$47:M47,$D$11:M11)+SUMPRODUCT('2021'!N$47:$O47,'2021'!N$11:$O11))/(M21+SUM('2021'!N$11:$O11)) -> 16.322583 | N49: =(SUMPRODUCT($D$47:N47,$D$11:N11)+SUMPRODUCT('2021'!O$47:$O47,'2021'!O$11:$O11))/(N21+SUM('2021'!O$11:$O11)) -> 17.460893 | O49: =(SUMPRODUCT($D$47:O47,$D$11:O11))/(O21) -> 17.217132
B51: Kuukausikeskihinta | D51: 13.63 | E51: 10.45 | F51: 11.12 | G51: 10.24 | H51: 16.85 | I51: 17.77 | J51: 23.23 | K51: 32.83 | L51: 27.06 | M51: 14.33 | N51: 24.62 | O51: 27.38
D53: =(SUMPRODUCT(D51,D11)+SUMPRODUCT('2021'!E51:O51,'2021'!E11:O11))/'2022'!D25 -> 10.936687 | E53: =(SUMPRODUCT($D$51:E51,D11:E11)+SUMPRODUCT('2021'!F$51:$O51,'2021'!F$11:$O11))/'2022'!E25 -> 11.336357 | F53: =(SUMPRODUCT($D$51:F51,$D$11:F11)+SUMPRODUCT('2021'!G$51:$O51,'2021'!G$11:$O11))/'2022'!F25 -> 12.025456 | G53: =(SUMPRODUCT($D$51:G51,$D$11:G11)+SUMPRODUCT('2021'!H$51:$O51,'2021'!H$11:$O11))/'2022'!G25 -> 12.480578 | H53: =(SUMPRODUCT($D$51:H51,$D$11:H11)+SUMPRODUCT('2021'!I$51:$O51,'2021'!I$11:$O11))/'2022'!H25 -> 13.166056 | I53: =(SUMPRODUCT($D$51:I51,$D$11:I11)+SUMPRODUCT('2021'!J$51:$O51,'2021'!J$11:$O11))/'2022'!I25 -> 13.572983 | J53: =(SUMPRODUCT($D$51:J51,$D$11:J11)+SUMPRODUCT('2021'!K$51:$O51,'2021'!K$11:$O11))/'2022'!J25 -> 14.111615 | K53: =(SUMPRODUCT($D$51:K51,$D$11:K11)+SUMPRODUCT('2021'!L$51:$O51,'2021'!L$11:$O11))/'2022'!K25 -> 14.970573 | L53: =(SUMPRODUCT($D$51:L51,$D$11:L11)+SUMPRODUCT('2021'!M$51:$O51,'2021'!M$11:$O11))/'2022'!L25 -> 15.824295 | M53: =(SUMPRODUCT($D$51:M51,$D$11:M11)+SUMPRODUCT('2021'!N$51:$O51,'2021'!N$11:$O11))/'2022'!M25 -> 16.275733 | N53: =(SUMPRODUCT($D$51:N51,$D$11:N11)+SUMPRODUCT('2021'!O$51:$O51,'2021'!O$11:$O11))/'2022'!N25 -> 17.484142 | O53: =(SUMPRODUCT($D$51:O51,$D$11:O11)/'2022'!O25) -> 17.521508

Sheet 2021
A1: SÄHKÖNKULUTUSRAPORTTI | D1: 2021 | R1: http://suja.kapsi.fi/asema-taulukko.php?asema=101130
R2: https://hlv.fi/tietopankki/#lammitystarvelukus
A3: Hyvinkää rivitalo 4H+K+S | D3: Asuinala | F3: 96 | G3: m2 | H3: Taloussähkö arvio (ilman lvv) | K3: 10 | L3: kWh/d | M3: Kesäkuukaudet | O3: =(SUM(I11:K11))/92 -> 11.793913 | P3: kWh/d | R3: https://ilmatieteenlaitos.fi/havaintojen-lataus#!/
D4: Tilavuus | F4: =2.52*F3 -> 241.92 | G4: m3
A6: Jakso | D6: Tammi | E6: Helmi | F6: Maalis | G6: Huhti | H6: Touko | I6: Kesä | J6: Heinä | K6: Elo | L6: Syys | M6: Loka | N6: Marras | O6: Joulu | P6: Yhteensä
B7: päivät kuukaudessa | D7: 31 | E7: 28 | F7: 31 | G7: 30 | H7: 31 | I7: 30 | J7: 31 | K7: 31 | L7: 30 | M7: 31 | N7: 30 | O7: 31 | P7: =SUM(D7:O7) -> 365
A8: 2021 | B8: Keskilämpötila | C8: oC | D8: -4.8 | E8: -8.4 | F8: -0.9 | G8: 4.5 | H8: 10.4 | I8: 19.2 | J8: 20.6 | K8: 15.1 | L8: 9.2 | M8: 7.8 | N8: 1.1 | O8: -6.9 | P8: =AVERAGE(D8:O8) -> 5.575
A9: 2021 | B9: Sähkö päivä | C9: kWh | D9: 667.2 | E9: 643.39 | F9: 521.36 | G9: 358.09 | H9: 289.43 | I9: 176.03 | J9: 174.99 | K9: 224.94 | L9: 277.62 | M9: 339.04 | N9: 450.6 | O9: 746.42 | P9: =SUM(D9:O9) -> 4869.11 | R9: =P9/$P$11 -> 0.54031761
A10: 2021 | B10: Sähkö yö | C10: kWh | D10: 521.37 | E10: 501.77 | F10: 475.72 | G10: 384.29 | H10: 288.58 | I10: 179.75 | J10: 132.02 | K10: 197.31 | L10: 259.55 | M10: 276.13 | N10: 372.85 | O10: 553.12 | P10: =SUM(D10:O10) -> 4142.46 | R10: =P10/$P$11 -> 0.45968239
A11: 2021 | B11: Sähkö yhteensä | C11: kWh | D11: =SUM(D9:D10) -> 1188.57 | E11: =SUM(E9:E10) -> 1145.16 | F11: =SUM(F9:F10) -> 997.08 | G11: =SUM(G9:G10) -> 742.38 | H11: =SUM(H9:H10) -> 578.01 | I11: =SUM(I9:I10) -> 355.78 | J11: =SUM(J9:J10) -> 307.01 | K11: =SUM(K9:K10) -> 422.25 | ... O11: =SUM(O9:O10) -> 1299.54 | P11: =SUM(D11:O11) -> 9011.57 | R11: =P11/$P$11 -> 1
A12: 2021 | B12: Ilmalämpöpumppu | C12: kWh | D12: =(3418.61-2847.07) -> 571.54 | E12: =(4046.96-3418.61) -> 628.35 | F12: =(4425.58-4046.96) -> 378.62 | G12: =(4616.88-4425.58) -> 191.3 | H12: =(4702.5-4616.88) -> 85.62 | I12: =(4704.28-4702.5) -> 1.78 | J12: =43.569-41.956 -> 1.613 | K12: =32.785+5.026 -> 37.811 | L12: =(140.971-32.785) -> 108.186 | M12: =(286.88-140.971) -> 145.909 | N12: =(597.252-286.88) -> 310.372 | O12: =(1256.21-597.252) -> 658.958 | P12: =SUM(D12:O12) -> 3120.059 | R12: =P12/$P$11 -> 0.34622813 | X12: =P12+'2020'!X12 -> 28136.99 | Y12: kWh | Z12: =X12*1000/400 -> 70342.474 | AA12: h
A13: 2021 | B13: Lämmitystarveluku toteutunut | C13: oCd | D13: 679 | E13: 708 | F13: 566 | G13: 379 | H13: 158 | I13: 0 | J13: 0 | K13: 20 | L13: 223 | M13: 297 | N13: 478 | O13: 751 | P13: =SUM(D13:O13) -> 4259 | R13: =(P13-P14)/P14 -> -0.010915002
A14: 2021 | B14: Lämmitystarveluku normivuosi | C14: oCd | D14: 712 | E14: 664 | F14: 598 | G14: 387 | H14: 156 | I14: 20 | J14: 4 | K14: 30 | L14: 187 | M14: 375 | N14: 518 | O14: 655 | P14: =SUM(D14:O14) -> 4306
A15: 2021 | B15: Lämminvesivaraaja | C15: kWh | D15: 208.7 | E15: 178.9 | F15: 247.9 | G15: 233.5 | H15: 224.7 | I15: 148.4 | J15: 124.7 | K15: 175.4 | L15: 196.2 | M15: 212.2 | N15: 218.6 | O15: 232 | P15: =SUM(D15:O15) -> 2401.2 | R15: =P15/$P$11 -> 0.26645745
A16: 2021 | B16: Lämmityssähkö (arvio) | C16: kWh | D16: =D12 -> 571.54 | E16: =E12 -> 628.35 | F16: =F12 -> 378.62 | G16: =G12 -> 191.3 | H16: =H12 -> 85.62 | I16: =I12 -> 1.78 | J16: =J12 -> 1.613 | K16: =K12 -> 37.811 | ... O16: =O12 -> 658.958 | P16: =SUM(D16:O16) -> 3120.059
A17: 2021 | B17: Sääkorjattu lämmityssähkö | C17: kWh | D17: =IF(D16<0,0,((D14/D13))*D16) -> 599.31735 | E17: =IF(E16<0,0,((E14/E13))*E16) -> 589.3 | F17: =IF(F16<0,0,((F14/F13))*F16) -> 400.02608 | G17: =IF(G16<0,0,((G14/G13))*G16) -> 195.33799 | H17: =IF(H16<0,0,((H14/H13))*H16) -> 84.536203 | I17: =I16 -> 1.78 | J17: =J16 -> 1.613 | K17: =K16 -> 37.811 | L17: =IF(L16<0,0,((L14/L13))*L16) -> 90.720996 | M17: =IF(M16<0,0,((M14/M13))*M16) -> 184.22854 | N17: =IF(N16<0,0,((N14/N13))*N16) -> 336.34455 | O17: =IF(O16<0,0,((O14/O13))*O16) -> 574.72369 | P17: =SUM(D17:O17) -> 3095.7394 | R17: =(P14-P13)/P14 -> 0.010915002
A20: Kulutus päivässä | C20: kWh/d | D20: =D11/D7 -> 38.340968 | E20: =E11/E7 -> 40.898571 | F20: =F11/F7 -> 32.163871 | G20: =G11/G7 -> 24.746 | H20: =H11/H7 -> 18.645484 | I20: =I11/I7 -> 11.859333 | J20: =J11/J7 -> 9.9035484 | K20: =K11/K7 -> 13.620968 | ... O20: =O11/O7 -> 41.920645 | P20: =P11/365 -> 24.689233
B21: Kumulatiivinen kulutus | C21: kWh | D21: =SUM(D11) -> 1188.57 | E21: =SUM($D$11:E11) -> 2333.73 | F21: =SUM($D$11:F11) -> 3330.81 | G21: =SUM($D$11:G11) -> 4073.19 | H21: =SUM($D$11:H11) -> 4651.2 | I21: =SUM($D$11:I11) -> 5006.98 | J21: =SUM($D$11:J11) -> 5313.99 | K21: =SUM($D$11:K11) -> 5736.24 | L21: =SUM($D$11:L11) -> 6273.41 | ... O21: =SUM($D$11:O11) -> 9011.57
B22: Kumulatiivinen kulutus ILP | C22: kWh | D22: =SUM(D12) -> 571.54 | E22: =SUM($D$12:E12) -> 1199.89 | F22: =SUM($D$12:F12) -> 1578.51 | G22: =SUM($D$12:G12) -> 1769.81 | H22: =SUM($D$12:H12) -> 1855.43 | I22: =SUM($D$12:I12) -> 1857.21 | J22: =SUM($D$12:J12) -> 1858.823 | K22: =SUM($D$12:K12) -> 1896.634 | L22: =SUM($D$12:L12) -> 2004.82 | ... O22: =SUM($D$12:O12) -> 3120.059
B23: Kumulatiivinen kulutus lämmitys | C23: kWh | D23: =SUM(D16) -> 571.54 | E23: =SUM($D$16:E16) -> 1199.89 | F23: =SUM($D$16:F16) -> 1578.51 | G23: =SUM($D$16:G16) -> 1769.81 | H23: =SUM($D$16:H16) -> 1855.43 | I23: =SUM($D$16:I16) -> 1857.21 | J23: =SUM($D$16:J16) -> 1858.823 | K23: =SUM($D$16:K16) -> 1896.634 | L23: =SUM($D$16:L16) -> 2004.82 | ... O23: =SUM($D$16:O16) -> 3120.059
B24: Taloussähkö ilman LKV | C24: kWh | D24: =(D11-D12-D15)/D7 -> 13.171935 | E24: =(E11-E12-E15)/E7 -> 12.068214 | F24: =(F11-F12-F15)/F7 -> 11.953548 | G24: =(G11-G12-G15)/G7 -> 10.586 | H24: =(H11-H12-H15)/H7 -> 8.6351613 | I24: =(I11-I12-I15)/I7 -> 6.8533333 | J24: =(J11-J12-J15)/J7 -> 5.8289355 | K24: =(K11-K12-K15)/K7 -> 6.7431935 | ... O24: =(O11-O12-O15)/O7 -> 13.180065 | P24: =P11-P12-P15-42 -> 3448.311
B25: Liukuva 12 kk kulutus | C25: kWh | D25: =D21+'2020'!$P$11-'2020'!D21 -> 7949.62 | E25: =E21+'2020'!$P$11-'2020'!E21 -> 8260.43 | F25: =F21+'2020'!$P$11-'2020'!F21 -> 8484.38 | G25: =G21+'2020'!$P$11-'2020'!G21 -> 8504.85 | H25: =H21+'2020'!$P$11-'2020'!H21 -> 8525.01 | I25: =I21+'2020'!$P$11-'2020'!I21 -> 8558.71 | J25: =J21+'2020'!$P$11-'2020'!J21 -> 8533.79 | K25: =K21+'2020'!$P$11-'2020'!K21 -> 8585.07 | ... O25: =O21+'2020'!$P$11-'2020'!O21 -> 9011.57
B26: Liukuva 12 kk kulutus ILP | C26: kWh | D26: =D22+SUM('2020'!E12:$O12) -> 2299.07 | E26: =E22+SUM('2020'!F12:$O12) -> 2588.72 | F26: =F22+SUM('2020'!G12:$O12) -> 2651.39 | G26: =G22+SUM('2020'!H12:$O12) -> 2651.63 | H26: =H22+SUM('2020'!I12:$O12) -> 2621.79 | I26: =I22+SUM('2020'!J12:$O12) -> 2610.94 | J26: =J22+SUM('2020'!K12:$O12) -> 2608.093 | K26: =K22+SUM('2020'!L12:$O12) -> 2639.624 | ... N26: =N22+SUM('2020'!O12:$O12) -> 2792.711 | O26: =O22 -> 3120.059
A27: Lämmitys
B28: Lämmityksen osuus kulutuksesta | D28: =D16/D11 -> 0.48086356 | E28: =E16/E11 -> 0.54870062 | F28: =F16/F11 -> 0.37972881 | G28: =G16/G11 -> 0.25768474 | H28: =H16/H11 -> 0.14812893 | I28: =I16/I11 -> 0.0050030918 | J28: =J16/J11 -> 0.0052539005 | K28: =K16/K11 -> 0.089546477 | ... P28: =P16/P11 -> 0.34622813
B29: Sähkönkulutus lämmitykseen | C29: kWh/oCd | D29: =D16/D13 -> 0.84173785 | E29: =E16/E13 -> 0.8875 | F29: =F16/F13 -> 0.66893993 | G29: =G16/G13 -> 0.50474934 | H29: =H16/H13 -> 0.54189873 | L29: =L16/L13 -> 0.48513901 | M29: =M16/M13 -> 0.49127609 | N29: =N16/N13 -> 0.64931381 | O29: =O16/O13 -> 0.87744075 | P29: =P16/P13 -> 0.73258018
B30: Sähkönkulutus lämmitykseen | C30: kWh/d | D30: =D16/D7 -> 18.436774 | E30: =E16/E7 -> 22.441071 | F30: =F16/F7 -> 12.213548 | G30: =G16/G7 -> 6.3766667 | H30: =H16/H7 -> 2.7619355 | I30: =I16/I7 -> 0.059333333 | J30: =J16/J7 -> 0.052032258 | K30: =K16/K7 -> 1.2197097 | ... P30: =P16/P7 -> 8.5481068
B31: Norm sähkö lämmitykseen | C31: kWh/d | D31: =D17/D7 -> 19.332818 | E31: =E17/E7 -> 21.046429 | F31: =F17/F7 -> 12.904067 | G31: =G17/G7 -> 6.5112665 | H31: =H17/H7 -> 2.7269743 | I31: =I17/I7 -> 0.059333333 | J31: =J17/J7 -> 0.052032258 | K31: =K17/K7 -> 1.2197097 | ... P31: =P17/P7 -> 8.4814778
B32: Ominaislämmönkulutus | C32: kWh/m3 | D32: =D16/$F$4 -> 2.3625165 | E32: =E16/$F$4 -> 2.5973462 | F32: =F16/$F$4 -> 1.5650628 | G32: =G16/$F$4 -> 0.79075728 | H32: =H16/$F$4 -> 0.35391865 | I32: =I16/$F$4 -> 0.0073578042 | J32: =J16/$F$4 -> 0.0066674934 | K32: =K16/$F$4 -> 0.15629547 | ... P32: =P16/$F$4 -> 12.897069 | T32: =T16/$F$4 -> 0
B33: Ominaislämmönkulutus | C33: kWh/m2 | D33: =D16/$F$3 -> 5.9535417 | E33: =E16/$F$3 -> 6.5453125 | F33: =F16/$F$3 -> 3.9439583 | G33: =G16/$F$3 -> 1.9927083 | H33: =H16/$F$3 -> 0.891875 | I33: =I16/$F$3 -> 0.018541667 | J33: =J16/$F$3 -> 0.016802083 | K33: =K16/$F$3 -> 0.39386458 | ... P33: =P16/$F$3 -> 32.500615
B34: Norm lämmönkulutus | C34: kWh/m3 | D34: =D17/$F$4 -> 2.4773369 | E34: =E17/$F$4 -> 2.4359292 | F34: =F17/$F$4 -> 1.6535469 | G34: =G17/$F$4 -> 0.80744872 | H34: =H17/$F$4 -> 0.34943867 | I34: =I17/$F$4 -> 0.0073578042 | J34: =J17/$F$4 -> 0.0066674934 | K34: =K17/$F$4 -> 0.15629547 | ... P34: =P17/$F$4 -> 12.796542
B35: Norm lämmönkulutus | C35: kWh/m2 | D35: =D17/$F$3 -> 6.2428891 | E35: =E17/$F$3 -> 6.1385417 | F35: =F17/$F$3 -> 4.1669383 | G35: =G17/$F$3 -> 2.0347708 | H35: =H17/$F$3 -> 0.88058544 | I35: =I17/$F$3 -> 0.018541667 | J35: =J17/$F$3 -> 0.016802083 | K35: =K17/$F$3 -> 0.39386458 | ... P35: =P17/$F$3 -> 32.247285
B36: Ominaislämmönkulutus | C36: Wh/m3/oCd | D36: =1000*D32/D13 -> 3.4794058 | E36: =1000*E32/E13 -> 3.6685681 | F36: =1000*F32/F13 -> 2.7651287 | G36: =1000*G32/G13 -> 2.0864308 | H36: =1000*H32/H13 -> 2.2399915 | L36: =1000*L32/L13 -> 2.0053696 | M36: =1000*M32/M13 -> 2.0307378 | N36: =1000*N32/N13 -> 2.6840022 | O36: =1000*O32/O13 -> 3.6269872 | P36: =1000*P32/P13 -> 3.0281919 | T36: =1000*T32/T13 -> #DIV/0!
A38: Vuosikulutusarvio
B40: Lämmityssähkö ILPillä | D40: 2800 | E40: kWh | G40: Arvio lämmityssähkö ilman ILP | K40: 6800 | L40: kWh | M40: Vuosikulutusarvio ilma ILP
B41: Lämminvesi | D41: 2300 | E41: kWh | G41: Arvio ILPin säästämästä sähköstä | K41: =K40-D40 -> 4000 | L41: kWh | N41: =D43-D40+K40 -> 12400 | O41: kWh
B42: Taloussähkö | D42: 3300 | E42: kWh | G42: Säästöarvio lämmityssähkönkulutuksesta | K42: =K41/K40 -> 0.58823529
B43: Yhteensä | D43: =SUM(D40:D42) -> 8400 | E43: kWh | G43: Säästöarvio kokonaissähkönkulutuksesta | K43: =K41/(SUM(D41:D42)+K40) -> 0.32258065
A46: Sähkön hinta
B47: Pörssisähkön tuntikulutuksella painotettu keskihinta | D47: 6.77 | E47: 7.68 | F47: 4.9 | G47: 4.38 | H47: 5.77 | I47: 7.23 | J47: 10.74 | K47: 8.83 | L47: 10.96 | M47: 8.35 | N47: 11.24 | O47: 25.36
B49: liukuva vuosikeskihinta | C49: c/kWh | D49: =(SUMPRODUCT($D$47:D47,$D$11:D11)+SUMPRODUCT('2020'!E$46:$O46,'2020'!E$11:$O11))/(D21+SUM('2020'!E$11:$O11)) -> 4.150153 | E49: =(SUMPRODUCT($D$47:E47,$D$11:E11)+SUMPRODUCT('2020'!F$46:$O46,'2020'!F$11:$O11))/(E21+SUM('2020'!F$11:$O11)) -> 4.7344635 | F49: =(SUMPRODUCT($D$47:F47,$D$11:F11)+SUMPRODUCT('2020'!G$46:$O46,'2020'!G$11:$O11))/(F21+SUM('2020'!G$11:$O11)) -> 4.9329269 | G49: =(SUMPRODUCT($D$47:G47,$D$11:G11)+SUMPRODUCT('2020'!H$46:$O46,'2020'!H$11:$O11))/(G21+SUM('2020'!H$11:$O11)) -> 5.0860816 | H49: =(SUMPRODUCT($D$47:H47,$D$11:H11)+SUMPRODUCT('2020'!I$46:$O46,'2020'!I$11:$O11))/(H21+SUM('2020'!I$11:$O11)) -> 5.2938251 | I49: =(SUMPRODUCT($D$47:I47,$D$11:I11)+SUMPRODUCT('2020'!J$46:$O46,'2020'!J$11:$O11))/(I21+SUM('2020'!J$11:$O11)) -> 5.430526 | J49: =(SUMPRODUCT($D$47:J47,$D$11:J11)+SUMPRODUCT('2020'!K$46:$O46,'2020'!K$11:$O11))/(J21+SUM('2020'!K$11:$O11)) -> 5.7304678 | K49: =(SUMPRODUCT($D$47:K47,$D$11:K11)+SUMPRODUCT('2020'!L$46:$O46,'2020'!L$11:$O11))/(K21+SUM('2020'!L$11:$O11)) -> 5.901949 | ... N49: =(SUMPRODUCT($D$47:N47,$D$11:N11)+SUMPRODUCT('2020'!O$46:$O46,'2020'!O$11:$O11))/(N21+SUM('2020'!O$11:$O11)) -> 7.2819961 | O49: =(SUMPRODUCT($D$47:O47,$D$11:O11))/(O21) -> 10.114541
B51: Kuukausikeskihinta | D51: 6.75128 | E51: 7.48412 | F51: 5.1554 | G51: 4.95824 | H51: 6.09656 | I51: 7.36384 | J51: 10.16624 | K51: 8.8568 | L51: 11.46948 | M51: 8.44016 | N51: 11.0516 | O51: 24.37912 | P51: =SUMPRODUCT(D51:O51,D11:O11)/SUM(D11:O11) -> 10.048871

Sheet 2020
A1: SÄHKÖNKULUTUSRAPORTTI | D1: 2020 | O1: =N1+P12 -> 2041.89 | R1: http://suja.kapsi.fi/asema-taulukko.php?asema=101130
R2: https://hlv.fi/tietopankki/#lammitystarvelukus
A3: Hyvinkää rivitalo 4H+K+S | D3: Asuinala | F3: 96 | G3: m2 | H3: Taloussähkö arvio (ilman lvv) | K3: 10 | L3: kWh/d | M3: Kesäkuukaudet | O3: =(SUM(I11:K11))/92 -> 11.141087 | P3: kWh/d | R3: https://ilmatieteenlaitos.fi/havaintojen-lataus#!/
D4: Tilavuus | F4: =2.52*F3 -> 241.92 | G4: m3
A6: Jakso | D6: Tammi | E6: Helmi | F6: Maalis | G6: Huhti | H6: Touko | I6: Kesä | J6: Heinä | K6: Elo | L6: Syys | M6: Loka | N6: Marras | O6: Joulu | P6: Yhteensä
B7: päivät kuukaudessa | D7: 31 | E7: 29 | F7: 31 | G7: 30 | H7: 31 | I7: 30 | J7: 31 | K7: 31 | L7: 30 | M7: 31 | N7: 30 | O7: 31 | P7: =SUM(D7:O7) -> 366
A8: 2020 | B8: Keskilämpötila | C8: oC | D8: 1.42 | E8: -0.2 | F8: 1.1 | G8: 3.8 | H8: 8.7 | I8: 17.8 | J8: 15.7 | K8: 15.8 | L8: 12.4 | M8: 7.7 | N8: 4.1 | O8: 0.5 | P8: =AVERAGE(D8:O8) -> 7.4016667 | T8: =AVERAGE('2019'!O8,'2020'!D8:N8) -> 7.4183333
A9: 2020 | B9: Sähkö päivä | C9: kWh | D9: 454.52 | E9: 443 | F9: 423.5 | G9: 361.69 | H9: 279.23 | I9: 170.45 | J9: 192.03 | K9: 187.01 | L9: 238.08 | M9: 353.44 | N9: 424.86 | O9: 566.71 | P9: =SUM(D9:O9) -> 4094.52 | R9: =P9/$P$11 -> 0.53698341 | T9: =SUM('2019'!O9,'2020'!D9:N9) -> 4010.67
A10: 2020 | B10: Sähkö yö | C10: kWh | D10: 409.47 | E10: 391.35 | F10: 349.63 | G10: 360.22 | H10: 278.62 | I10: 151.63 | J10: 139.9 | K10: 183.96 | L10: 226.71 | M10: 273.36 | N10: 341.84 | O10: 423.83 | P10: =SUM(D10:O10) -> 3530.52 | R10: =P10/$P$11 -> 0.46301659 | T10: =SUM('2019'!O10,'2020'!D10:N10) -> 3518.79
A11: 2020 | B11: Sähkö yhteensä | C11: kWh | D11: =SUM(D9:D10) -> 863.99 | E11: =SUM(E9:E10) -> 834.35 | F11: =SUM(F9:F10) -> 773.13 | G11: =SUM(G9:G10) -> 721.91 | H11: =SUM(H9:H10) -> 557.85 | I11: =SUM(I9:I10) -> 322.08 | J11: =SUM(J9:J10) -> 331.93 | K11: =SUM(K9:K10) -> 370.97 | ... O11: =SUM(O9:O10) -> 990.54 | P11: =SUM(D11:O11) -> 7625.04 | R11: =P11/$P$11 -> 1 | T11: =SUM('2019'!O11,'2020'!D11:N11) -> 7529.46
A12: 2020 | B12: Ilmalämpöpumppu | C12: kWh | D12: =(1119.54-805.18) -> 314.36 | E12: =(1458.24-1119.54) -> 338.7 | F12: =(1774.19-1458.24) -> 315.95 | G12: =(1965.25-1774.19) -> 191.06 | H12: =(2080.71-1965.25) -> 115.46 | I12: =(2093.34-2080.71) -> 12.63 | J12: =(2097.8-2093.34) -> 4.46 | K12: =(2104.08-2097.8) -> 6.28 | L12: =2153.73-2104.08 -> 49.65 | M12: =(2295.23-2153.73) -> 141.5 | N12: =(2515.46-2295.23) -> 220.23 | O12: =(2847.07-2515.46) -> 331.61 | P12: =SUM(D12:O12) -> 2041.89 | R12: =P12/$P$11 -> 0.26778745 | T12: =SUM('2019'!O12,'2020'!D12:N12) -> 2039.301 | X12: =P12+'2019'!X12 -> 25016.931
A13: 2020 | B13: Lämmitystarveluku toteutunut | C13: oCd | D13: 490 | E13: 499 | F13: 486 | G13: 395 | H13: 195 | I13: 0 | J13: 5 | K13: 11 | L13: 94 | M13: 279 | N13: 393 | O13: 520 | P13: =SUM(D13:O13) -> 3367 | R13: =(P13-P14)/P14 -> -0.21806781 | T13: =SUM('2019'!O13,'2020'!D13:N13) -> 3356.8039
A14: 2020 | B14: Lämmitystarveluku normivuosi | C14: oCd | D14: 712 | E14: 664 | F14: 598 | G14: 387 | H14: 156 | I14: 20 | J14: 4 | K14: 30 | L14: 187 | M14: 375 | N14: 518 | O14: 655 | P14: =SUM(D14:O14) -> 4306 | T14: =SUM('2019'!O14,'2020'!D14:N14) -> 4306
A15: 2020 | B15: Lämminvesivaraaja | C15: kWh | D15: 226.8 | E15: 208.2 | F15: 191 | G15: 211 | H15: 185 | I15: 132.1 | J15: 128.7 | K15: 172.3 | L15: 206.9 | M15: 209.9 | N15: 221.6 | O15: 236.6 | P15: =SUM(D15:O15) -> 2330.1 | R15: =P15/$P$11 -> 0.30558528 | T15: =SUM('2019'!O15,'2020'!D15:N15) -> 2309.5
A16: 2020 | B16: Lämmityssähkö (arvio) | C16: kWh | D16: =D12 -> 314.36 | E16: =E12 -> 338.7 | F16: =F12 -> 315.95 | G16: =G12 -> 191.06 | H16: =H12 -> 115.46 | I16: =I12 -> 12.63 | J16: =J12 -> 4.46 | K16: =K12 -> 6.28 | ... O16: =O12 -> 331.61 | P16: =SUM(D16:O16) -> 2041.89 | T16: =SUM('2019'!O16,'2020'!D16:N16) -> 2039.301
A17: 2020 | B17: Sääkorjattu lämmityssähkö | C17: kWh | D17: =IF(D16<0,0,((D14/D13))*D16) -> 456.78433 | E17: =IF(E16<0,0,((E14/E13))*E16) -> 450.69499 | F17: =IF(F16<0,0,((F14/F13))*F16) -> 388.76152 | G17: =IF(G16<0,0,((G14/G13))*G16) -> 187.19043 | H17: =IF(H16<0,0,((H14/H13))*H16) -> 92.368 | I17: =I16 -> 12.63 | J17: =J16 -> 4.46 | K17: =K16 -> 6.28 | L17: =IF(L16<0,0,((L14/L13))*L16) -> 98.771809 | M17: =IF(M16<0,0,((M14/M13))*M16) -> 190.18817 | N17: =IF(N16<0,0,((N14/N13))*N16) -> 290.27771 | O17: =IF(O16<0,0,((O14/O13))*O16) -> 417.70106 | P17: =SUM(D17:O17) -> 2596.108 | R17: =(P14-P13)/P14 -> 0.21806781 | T17: =SUM('2019'!O17,'2020'!D17:N17) -> 2601.1357
A20: Kulutus päivässä | C20: kWh/d | D20: =D11/D7 -> 27.870645 | E20: =E11/E7 -> 28.77069 | F20: =F11/F7 -> 24.939677 | G20: =G11/G7 -> 24.063667 | H20: =H11/H7 -> 17.995161 | I20: =I11/I7 -> 10.736 | J20: =J11/J7 -> 10.707419 | K20: =K11/K7 -> 11.966774 | ... O20: =O11/O7 -> 31.952903 | P20: =P11/365 -> 20.890521
B21: Kumulatiivinen kulutus | C21: kWh | D21: =SUM(D11) -> 863.99 | E21: =SUM($D$11:E11) -> 1698.34 | F21: =SUM($D$11:F11) -> 2471.47 | G21: =SUM($D$11:G11) -> 3193.38 | H21: =SUM($D$11:H11) -> 3751.23 | I21: =SUM($D$11:I11) -> 4073.31 | J21: =SUM($D$11:J11) -> 4405.24 | K21: =SUM($D$11:K11) -> 4776.21 | L21: =SUM($D$11:L11) -> 5241 | ... O21: =SUM($D$11:O11) -> 7625.04
B22: Kumulatiivinen kulutus ILP | C22: kWh | D22: =SUM(D12) -> 314.36 | E22: =SUM($D$12:E12) -> 653.06 | F22: =SUM($D$12:F12) -> 969.01 | G22: =SUM($D$12:G12) -> 1160.07 | H22: =SUM($D$12:H12) -> 1275.53 | I22: =SUM($D$12:I12) -> 1288.16 | J22: =SUM($D$12:J12) -> 1292.62 | K22: =SUM($D$12:K12) -> 1298.9 | L22: =SUM($D$12:L12) -> 1348.55 | ... O22: =SUM($D$12:O12) -> 2041.89
B23: Kumulatiivinen kulutus lämmitys | C23: kWh | D23: =SUM(D16) -> 314.36 | E23: =SUM($D$16:E16) -> 653.06 | F23: =SUM($D$16:F16) -> 969.01 | G23: =SUM($D$16:G16) -> 1160.07 | H23: =SUM($D$16:H16) -> 1275.53 | I23: =SUM($D$16:I16) -> 1288.16 | J23: =SUM($D$16:J16) -> 1292.62 | K23: =SUM($D$16:K16) -> 1298.9 | L23: =SUM($D$16:L16) -> 1348.55 | ... O23: =SUM($D$16:O16) -> 2041.89
B24: Taloussähkö ilman LKV | C24: kWh | D24: =(D11-D12-D15)/D7 -> 10.413871 | E24: =(E11-E12-E15)/E7 -> 9.912069 | F24: =(F11-F12-F15)/F7 -> 8.5864516 | G24: =(G11-G12-G15)/G7 -> 10.661667 | H24: =(H11-H12-H15)/H7 -> 8.3029032 | I24: =(I11-I12-I15)/I7 -> 5.9116667 | J24: =(J11-J12-J15)/J7 -> 6.4119355 | K24: =(K11-K12-K15)/K7 -> 6.206129 | ... O24: =(O11-O12-O15)/O7 -> 13.623548 | P24: =P11-P12-P15 -> 3253.05 | R24: =SUM(G11:O11)-SUM(G12:O12)-SUM(G15:O15) -> 2376.59 | T24: =R24-'2019'!R24 -> 222.30348
B25: Liukuva 12 kk kulutus | C25: kWh | D25: =D21+'2019'!$P$11-'2019'!D21 -> 7665.29 | E25: =E21+'2019'!$P$11-'2019'!E21 -> 7658.05 | F25: =F21+'2019'!$P$11-'2019'!F21 -> 7545.65 | G25: =G21+'2019'!$P$11-'2019'!G21 -> 7605.56 | H25: =H21+'2019'!$P$11-'2019'!H21 -> 7595.1 | I25: =I21+'2019'!$P$11-'2019'!I21 -> 7555.2 | J25: =J21+'2019'!$P$11-'2019'!J21 -> 7598.68 | K25: =K21+'2019'!$P$11-'2019'!K21 -> 7635.61 | ... O25: =O21+'2019'!$P$11-'2019'!O21 -> 7625.04 | R25: =R24/SUM(G7:O7) -> 8.6421455 | T25: =T24/SUM(G7:O7) -> 0.80837628
A26: Lämmitys
B27: Lämmityksen osuus kulutuksesta | D27: =D16/D11 -> 0.3638468 | E27: =E16/E11 -> 0.40594475 | F27: =F16/F11 -> 0.40866348 | G27: =G16/G11 -> 0.26465903 | H27: =H16/H11 -> 0.2069732 | I27: =I16/I11 -> 0.03921386 | J27: =J16/J11 -> 0.013436568 | K27: =K16/K11 -> 0.016928593 | ... P27: =P16/P11 -> 0.26778745
B28: Sähkönkulutus lämmitykseen | C28: kWh/oCd | D28: =D16/D13 -> 0.64155102 | E28: =E16/E13 -> 0.67875752 | F28: =F16/F13 -> 0.65010288 | G28: =G16/G13 -> 0.4836962 | H28: =H16/H13 -> 0.59210256 | L28: =L16/L13 -> 0.52819149 | M28: =M16/M13 -> 0.50716846 | N28: =N16/N13 -> 0.56038168 | O28: =O16/O13 -> 0.63771154 | P28: =P16/P13 -> 0.60644194
B29: Sähkönkulutus lämmitykseen | C29: kWh/d | D29: =D16/D7 -> 10.140645 | E29: =E16/E7 -> 11.67931 | F29: =F16/F7 -> 10.191935 | G29: =G16/G7 -> 6.3686667 | H29: =H16/H7 -> 3.7245161 | I29: =I16/I7 -> 0.421 | J29: =J16/J7 -> 0.14387097 | K29: =K16/K7 -> 0.20258065 | ... P29: =P16/P7 -> 5.5789344
B30: Norm sähkö lämmitykseen | C30: kWh/d | D30: =D17/D7 -> 14.734978 | E30: =E17/E7 -> 15.541207 | F30: =F17/F7 -> 12.540694 | G30: =G17/G7 -> 6.239681 | H30: =H17/H7 -> 2.9796129 | I30: =I17/I7 -> 0.421 | J30: =J17/J7 -> 0.14387097 | K30: =K17/K7 -> 0.20258065 | ... P30: =P17/P7 -> 7.0931913
B31: Ominaislämmönkulutus | C31: kWh/m3 | D31: =D16/$F$4 -> 1.2994378 | E31: =E16/$F$4 -> 1.4000496 | F31: =F16/$F$4 -> 1.3060103 | G31: =G16/$F$4 -> 0.78976521 | H31: =H16/$F$4 -> 0.47726521 | I31: =I16/$F$4 -> 0.052207341 | J31: =J16/$F$4 -> 0.018435847 | K31: =K16/$F$4 -> 0.025958995 | ... P31: =P16/$F$4 -> 8.4403522 | T31: =T16/$F$4 -> 8.4296503
B32: Ominaislämmönkulutus | C32: kWh/m2 | D32: =D16/$F$3 -> 3.2745833 | E32: =E16/$F$3 -> 3.528125 | F32: =F16/$F$3 -> 3.2911458 | G32: =G16/$F$3 -> 1.9902083 | H32: =H16/$F$3 -> 1.2027083 | I32: =I16/$F$3 -> 0.1315625 | J32: =J16/$F$3 -> 0.046458333 | K32: =K16/$F$3 -> 0.065416667 | ... P32: =P16/$F$3 -> 21.269688
B33: Norm lämmönkulutus | C33: kWh/m3 | D33: =D17/$F$4 -> 1.8881627 | E33: =E17/$F$4 -> 1.8629919 | F33: =F17/$F$4 -> 1.6069838 | G33: =G17/$F$4 -> 0.77376997 | H33: =H17/$F$4 -> 0.38181217 | I33: =I17/$F$4 -> 0.052207341 | J33: =J17/$F$4 -> 0.018435847 | K33: =K17/$F$4 -> 0.025958995 | ... P33: =P17/$F$4 -> 10.731267
B34: Norm lämmönkulutus | C34: kWh/m2 | D34: =D17/$F$3 -> 4.7581701 | E34: =E17/$F$3 -> 4.6947395 | F34: =F17/$F$3 -> 4.0495992 | G34: =G17/$F$3 -> 1.9499003 | H34: =H17/$F$3 -> 0.96216667 | I34: =I17/$F$3 -> 0.1315625 | J34: =J17/$F$3 -> 0.046458333 | K34: =K17/$F$3 -> 0.065416667 | ... P34: =P17/$F$3 -> 27.042792
B35: Ominaislämmönkulutus | C35: Wh/m3/oCd | D35: =1000*D31/D13 -> 2.6519139 | E35: =1000*E31/E13 -> 2.8057106 | F35: =1000*F31/F13 -> 2.6872639 | G35: =1000*G31/G13 -> 1.9994056 | H35: =1000*H31/H13 -> 2.4475139 | L35: =1000*L31/L13 -> 2.1833312 | M35: =1000*M31/M13 -> 2.0964305 | N35: =1000*N31/N13 -> 2.3163925 | O35: =1000*O31/O13 -> 2.6360431 | P35: =1000*P31/P13 -> 2.5067871 | T35: =1000*T31/T13 -> 2.5112132
A37: Vuosikulutusarvio
B39: Lämmityssähkö ILPillä | D39: 2800 | E39: kWh | G39: Arvio lämmityssähkö ilman ILP | K39: 6800 | L39: kWh | M39: Vuosikulutusarvio ilma ILP
B40: Lämminvesi | D40: 2200 | E40: kWh | G40: Arvio ILPin säästämästä sähköstä | K40: =K39-D39 -> 4000 | L40: kWh | N40: =D42-D39+K39 -> 12000 | O40: kWh
B41: Taloussähkö | D41: 3000 | E41: kWh | G41: Säästöarvio lämmityssähkönkulutuksesta | K41: =K40/K39 -> 0.58823529
B42: Yhteensä | D42: =SUM(D39:D41) -> 8000 | E42: kWh | G42: Säästöarvio kokonaissähkönkulutuksesta | K42: =K40/(SUM(D40:D41)+K39) -> 0.33333333
A45: Sähkön hinta
B46: Pörssisähkön tuntikulutuksella painotettu keskihinta | D46: 3.63 | E46: 3.21 | F46: 2.77 | G46: 2.56 | H46: 2.62 | I46: 3.8 | J46: 2.63 | K46: 5.29 | L46: 4.93 | M46: 3.93 | N46: 3.68 | O46: 5.23
B48: liukuva vuosikeskihinta | C48: c/kWh | D48: =(SUMPRODUCT($D$46:D46,$D$11:D11)+SUMPRODUCT('2019'!E$46:$O46,'2019'!E$11:$O11))/(D21+SUM('2019'!E$11:$O11)) -> 5.2724491 | E48: =(SUMPRODUCT($D$46:E46,$D$11:E11)+SUMPRODUCT('2019'!F$46:$O46,'2019'!F$11:$O11))/(E21+SUM('2019'!F$11:$O11)) -> 4.9557002 | F48: =(SUMPRODUCT($D$46:F46,$D$11:F11)+SUMPRODUCT('2019'!G$46:$O46,'2019'!G$11:$O11))/(F21+SUM('2019'!G$11:$O11)) -> 4.6925203 | G48: =(SUMPRODUCT($D$46:G46,$D$11:G11)+SUMPRODUCT('2019'!H$46:$O46,'2019'!H$11:$O11))/(G21+SUM('2019'!H$11:$O11)) -> 4.4354874 | H48: =(SUMPRODUCT($D$46:H46,$D$11:H11)+SUMPRODUCT('2019'!I$46:$O46,'2019'!I$11:$O11))/(H21+SUM('2019'!I$11:$O11)) -> 4.2748673 | I48: =(SUMPRODUCT($D$46:I46,$D$11:I11)+SUMPRODUCT('2019'!J$46:$O46,'2019'!J$11:$O11))/(I21+SUM('2019'!J$11:$O11)) -> 4.2864783 | J48: =(SUMPRODUCT($D$46:J46,$D$11:J11)+SUMPRODUCT('2019'!K$46:$O46,'2019'!K$11:$O11))/(J21+SUM('2019'!K$11:$O11)) -> 4.1593222 | K48: =(SUMPRODUCT($D$46:K46,$D$11:K11)+SUMPRODUCT('2019'!L$46:$O46,'2019'!L$11:$O11))/(K21+SUM('2019'!L$11:$O11)) -> 4.1324175 | ... N48: =(SUMPRODUCT($D$46:N46,$D$11:N11)+SUMPRODUCT('2019'!O$46:$O46,'2019'!O$11:$O11))/(N21+SUM('2019'!O$11:$O11)) -> 3.642994 | O48: =(SUMPRODUCT($D$46:O46,$D$11:O11))/(O21) -> 3.6828402
B50: Kuukausikeskihinta | D50: 3.76784 | E50: 3.42932 | F50: 2.92712 | G50: 2.85768 | H50: 2.81304 | I50: 3.90424 | J50: 2.90604 | K50: 5.4282 | L50: 5.09092 | M50: 4.25392 | N50: 3.82488 | O50: 5.267

Sheet 2019
A1: SÄHKÖNKULUTUSRAPORTTI | D1: 2019 | R1: http://suja.kapsi.fi/asema-taulukko.php?asema=101130
R2: https://hlv.fi/tietopankki/#lammitystarvelukus
A3: Hyvinkää rivitalo 4H+K+S | D3: Asuinala | F3: 96 | G3: m2 | H3: Taloussähkö arvio (ilman lvv) | K3: 10 | L3: kWh/d | M3: Kesäkuukaudet | O3: =(SUM(I11:K11))/92 -> 10.700761 | P3: kWh/d
D4: Tilavuus | F4: =2.52*F3 -> 241.92 | G4: m3
A6: Jakso | D6: Tammi | E6: Helmi | F6: Maalis | G6: Huhti | H6: Touko | I6: Kesä | J6: Heinä | K6: Elo | L6: Syys | M6: Loka | N6: Marras | O6: Joulu | P6: Yhteensä
B7: päivät kuukaudessa | D7: 31 | E7: 28 | F7: 31 | G7: 30 | H7: 31 | I7: 30 | J7: 31 | K7: 31 | L7: 30 | M7: 31 | N7: 30 | O7: 31 | P7: =SUM(D7:O7) -> 365
A8: 2019 | B8: Keskilämpötila | C8: oC | D8: -7.5 | E8: -0.9 | F8: -1 | G8: 5.6 | H8: 9.9 | I8: 16.9 | J8: 16.3 | K8: 15.5 | L8: 9.9 | M8: 4.3 | N8: 0.9 | O8: 0.7 | P8: =AVERAGE(D8:O8) -> 5.8833333
A9: 2019 | B9: Sähkö päivä | C9: kWh | D9: 678.44 | E9: 448.64 | F9: 461.42 | G9: 300.83 | H9: 261.72 | I9: 187.31 | J9: 161.13 | K9: 163.67 | L9: 291.13 | M9: 322.43 | N9: 446.57 | O9: 482.86 | P9: =SUM(D9:O9) -> 4206.15 | R9: =P9/$P$11 -> 0.52424647
A10: 2019 | B10: Sähkö yö | C10: kWh | D10: 543.49 | E10: 392.95 | F10: 424.11 | G10: 361.17 | H10: 306.59 | I10: 174.67 | J10: 127.32 | K10: 170.37 | L10: 266.1 | M10: 255.32 | N10: 382.89 | O10: 412.1 | P10: =SUM(D10:O10) -> 3817.08 | R10: =P10/$P$11 -> 0.47575353
A11: 2019 | B11: Sähkö yhteensä | C11: kWh | D11: =SUM(D9:D10) -> 1221.93 | E11: =SUM(E9:E10) -> 841.59 | F11: =SUM(F9:F10) -> 885.53 | G11: =SUM(G9:G10) -> 662 | H11: =SUM(H9:H10) -> 568.31 | I11: =SUM(I9:I10) -> 361.98 | J11: =SUM(J9:J10) -> 288.45 | K11: =SUM(K9:K10) -> 334.04 | ... O11: =SUM(O9:O10) -> 894.96 | P11: =SUM(D11:O11) -> 8023.23 | R11: =P11/$P$11 -> 1
A12: 2019 | B12: Ilmalämpöpumppu | C12: kWh | D12: =(7217.85-6565.26) -> 652.59 | E12: =(7599.62-7217.85) -> 381.77 | F12: =(7955.63-7599.62) -> 356.01 | G12: =(8134.76-7955.63) -> 179.13 | H12: =(8252.36-8134.76) -> 117.6 | I12: =(8265.04-8252.36) -> 12.68 | J12: =(8288.17-8265.04) -> 23.13 | K12: =(8297.31-8288.17) -> 9.14 | L12: =(8393.36-8297.31) -> 96.05 | M12: =(153.371+20+(8404.8-8393.36)) -> 184.811 | N12: =(476.159-153.371) -> 322.788 | O12: =(805.18-476.159) -> 329.021 | P12: =SUM(D12:O12) -> 2664.72 | R12: =P12/$P$11 -> 0.33212559 | X12: =P12+'2018'!X12 -> 22975.041
A13: 2019 | B13: Lämmitystarveluku toteutunut | C13: oCd | D13: =780/1.02 -> 764.70588 | E13: =514/1.02 -> 503.92157 | F13: =568/1.02 -> 556.86275 | G13: =319/1.02 -> 312.7451 | H13: =161/1.02 -> 157.84314 | I13: 0 | J13: =11/1.02 -> 10.784314 | K13: 0 | L13: =180/1.02 -> 176.47059 | M13: =398/1.02 -> 390.19608 | N13: =488/1.02 -> 478.43137 | O13: =520/1.02 -> 509.80392 | P13: =SUM(D13:O13) -> 3861.7647 | R13: =P13/$P$11 -> 0.48132295
A14: 2019 | B14: Lämmitystarveluku normivuosi | C14: oCd | D14: 712 | E14: 664 | F14: 598 | G14: 387 | H14: 156 | I14: 20 | J14: 4 | K14: 30 | L14: 187 | M14: 375 | N14: 518 | O14: 655 | P14: =SUM(D14:O14) -> 4306
A15: 2019 | B15: Lämminvesivaraaja | C15: kWh | D15: 227.5 | E15: 186.63 | F15: 200.62 | G15: 217.3 | H15: =141/23*31 -> 190.04348 | I15: 240 | J15: 36.8 | K15: 161.2 | L15: 202.5 | M15: 170.3 | N15: 211.4 | O15: 216 | P15: =SUM(D15:O15) -> 2260.2935 | R15: =P15/$P$11 -> 0.28171864
A16: 2019 | B16: Lämmityssähkö (arvio) | C16: kWh | D16: =D12 -> 652.59 | E16: =E12 -> 381.77 | F16: =F12 -> 356.01 | G16: =G12 -> 179.13 | H16: =H12 -> 117.6 | I16: =I12 -> 12.68 | J16: =J12 -> 23.13 | K16: =K12 -> 9.14 | ... O16: =O12 -> 329.021 | P16: =SUM(D16:O16) -> 2664.72
A17: 2019 | B17: Sääkorjattu lämmityssähkö | C17: kWh | D17: =IF(D16<0,0,((D14/D13))*D16) -> 607.61149 | E17: =IF(E16<0,0,((E14/E13))*E16) -> 503.04511 | F17: =IF(F16<0,0,((F14/F13))*F16) -> 382.30961 | G17: =IF(G16<0,0,((G14/G13))*G16) -> 221.66074 | H17: =IF(H16<0,0,((H14/H13))*H16) -> 116.22678 | I17: =I16 -> 12.68 | J17: =J16 -> 23.13 | K17: =K16 -> 9.14 | L17: =IF(L16<0,0,((L14/L13))*L16) -> 101.78098 | M17: =IF(M16<0,0,((M14/M13))*M16) -> 177.61359 | N17: =IF(N16<0,0,((N14/N13))*N16) -> 349.48416 | O17: =IF(O16<0,0,((O14/O13))*O16) -> 422.72871 | P17: =SUM(D17:O17) -> 2927.4112 | R17: =(P14-P13)/P14 -> 0.10316658
A20: Kulutus päivässä | C20: kWh/d | D20: =D11/D7 -> 39.417097 | E20: =E11/E7 -> 30.056786 | F20: =F11/F7 -> 28.565484 | G20: =G11/G7 -> 22.066667 | H20: =H11/H7 -> 18.332581 | I20: =I11/I7 -> 12.066 | J20: =J11/J7 -> 9.3048387 | K20: =K11/K7 -> 10.775484 | ... O20: =O11/O7 -> 28.869677 | P20: =P11/365 -> 21.981452
B21: Kumulatiivinen kulutus | C21: kWh | D21: =SUM(D11) -> 1221.93 | E21: =SUM($D$11:E11) -> 2063.52 | F21: =SUM($D$11:F11) -> 2949.05 | G21: =SUM($D$11:G11) -> 3611.05 | H21: =SUM($D$11:H11) -> 4179.36 | I21: =SUM($D$11:I11) -> 4541.34 | J21: =SUM($D$11:J11) -> 4829.79 | K21: =SUM($D$11:K11) -> 5163.83 | L21: =SUM($D$11:L11) -> 5721.06 | ... O21: =SUM($D$11:O11) -> 8023.23
B22: Kumulatiivinen kulutus ILP | C22: kWh | D22: =SUM(D12) -> 652.59 | E22: =SUM($D$12:E12) -> 1034.36 | F22: =SUM($D$12:F12) -> 1390.37 | G22: =SUM($D$12:G12) -> 1569.5 | H22: =SUM($D$12:H12) -> 1687.1 | I22: =SUM($D$12:I12) -> 1699.78 | J22: =SUM($D$12:J12) -> 1722.91 | K22: =SUM($D$12:K12) -> 1732.05 | L22: =SUM($D$12:L12) -> 1828.1 | ... O22: =SUM($D$12:O12) -> 2664.72
B23: Kumulatiivinen kulutus lämmitys | C23: kWh | D23: =SUM(D16) -> 652.59 | E23: =SUM($D$16:E16) -> 1034.36 | F23: =SUM($D$16:F16) -> 1390.37 | G23: =SUM($D$16:G16) -> 1569.5 | H23: =SUM($D$16:H16) -> 1687.1 | I23: =SUM($D$16:I16) -> 1699.78 | J23: =SUM($D$16:J16) -> 1722.91 | K23: =SUM($D$16:K16) -> 1732.05 | L23: =SUM($D$16:L16) -> 1828.1 | ... O23: =SUM($D$16:O16) -> 2664.72
B24: Taloussähkö ilman LKV | C24: kWh | D24: =(D11-D12-D15)/D7 -> 11.027097 | E24: =(E11-E12-E15)/E7 -> 9.7567857 | F24: =(F11-F12-F15)/F7 -> 10.609677 | G24: =(G11-G12-G15)/G7 -> 8.8523333 | H24: =(H11-H12-H15)/H7 -> 8.4085975 | I24: =(I11-I12-I15)/I7 -> 3.6433333 | J24: =(J11-J12-J15)/J7 -> 7.3716129 | K24: =(K11-K12-K15)/K7 -> 5.2806452 | ... O24: =(O11-O12-O15)/O7 -> 11.288355 | P24: =P11-P12-P15 -> 3098.2165 | R24: =SUM(G11:O11)-SUM(G12:O12)-SUM(G15:O15) -> 2154.2865
B25: Liukuva 12 kk kulutus | C25: kWh | D25: =D21+'2018'!$P$11-'2018'!D21 -> 8334.3141 | E25: =E21+'2018'!$P$11-'2018'!E21 -> 8062.7041 | F25: =F21+'2018'!$P$11-'2018'!F21 -> 7885.5641 | G25: =G21+'2018'!$P$11-'2018'!G21 -> 7876.04 | H25: =H21+'2018'!$P$11-'2018'!H21 -> 8020.32 | I25: =I21+'2018'!$P$11-'2018'!I21 -> 8064.21 | J25: =J21+'2018'!$P$11-'2018'!J21 -> 8041.37 | K25: =K21+'2018'!$P$11-'2018'!K21 -> 7961.77 | ... O25: =O21+'2018'!$P$11-'2018'!O21 -> 8023.23
A26: Lämmitys
B27: Lämmityksen osuus kulutuksesta | D27: =D16/D11 -> 0.53406496 | E27: =E16/E11 -> 0.45362944 | F27: =F16/F11 -> 0.40203042 | G27: =G16/G11 -> 0.27058912 | H27: =H16/H11 -> 0.20692932 | I27: =I16/I11 -> 0.03502956 | J27: =J16/J11 -> 0.080187207 | K27: =K16/K11 -> 0.027361993 | ... P27: =P16/P11 -> 0.33212559
B28: Sähkönkulutus lämmitykseen | C28: kWh/oCd | D28: =D16/D13 -> 0.85338692 | E28: =E16/E13 -> 0.75759805 | F28: =F16/F13 -> 0.63931373 | G28: =G16/G13 -> 0.57276677 | H28: =H16/H13 -> 0.74504348 | L28: =L16/L13 -> 0.54428333 | M28: =M16/M13 -> 0.47363623 | N28: =N16/N13 -> 0.67467984 | O28: =O16/O13 -> 0.64538735 | P28: =P16/P13 -> 0.6900265
B29: Sähkönkulutus lämmitykseen | C29: kWh/d | D29: =D16/D7 -> 21.05129 | E29: =E16/E7 -> 13.634643 | F29: =F16/F7 -> 11.484194 | G29: =G16/G7 -> 5.971 | H29: =H16/H7 -> 3.7935484 | I29: =I16/I7 -> 0.42266667 | J29: =J16/J7 -> 0.74612903 | K29: =K16/K7 -> 0.29483871 | ... P29: =P16/P7 -> 7.3006027
B30: Norm sähkö lämmitykseen | C30: kWh/d | D30: =D17/D7 -> 19.600371 | E30: =E17/E7 -> 17.965897 | F30: =F17/F7 -> 12.332568 | G30: =G17/G7 -> 7.3886913 | H30: =H17/H7 -> 3.7492511 | I30: =I17/I7 -> 0.42266667 | J30: =J17/J7 -> 0.74612903 | K30: =K17/K7 -> 0.29483871 | ... P30: =P17/P7 -> 8.0203046
B31: Ominaislämmönkulutus | C31: kWh/m3 | D31: =D16/$F$4 -> 2.6975446 | E31: =E16/$F$4 -> 1.5780837 | F31: =F16/$F$4 -> 1.4716022 | G31: =G16/$F$4 -> 0.74045139 | H31: =H16/$F$4 -> 0.48611111 | I31: =I16/$F$4 -> 0.052414021 | J31: =J16/$F$4 -> 0.095610119 | K31: =K16/$F$4 -> 0.037781085 | ... P31: =P16/$F$4 -> 11.014881 | T31: =T16/$F$4 -> 0
B32: Ominaislämmönkulutus | C32: kWh/m2 | D32: =D16/$F$3 -> 6.7978125 | E32: =E16/$F$3 -> 3.9767708 | F32: =F16/$F$3 -> 3.7084375 | G32: =G16/$F$3 -> 1.8659375 | H32: =H16/$F$3 -> 1.225 | I32: =I16/$F$3 -> 0.13208333 | J32: =J16/$F$3 -> 0.2409375 | K32: =K16/$F$3 -> 0.095208333 | ... P32: =P16/$F$3 -> 27.7575
B33: Norm lämmönkulutus | C33: kWh/m3 | D33: =D17/$F$4 -> 2.5116216 | E33: =E17/$F$4 -> 2.0793862 | F33: =F17/$F$4 -> 1.5803142 | G33: =G17/$F$4 -> 0.91625637 | H33: =H17/$F$4 -> 0.48043478 | I33: =I17/$F$4 -> 0.052414021 | J33: =J17/$F$4 -> 0.095610119 | K33: =K17/$F$4 -> 0.037781085 | ... P33: =P17/$F$4 -> 12.100741
B34: Norm lämmönkulutus | C34: kWh/m2 | D34: =D17/$F$3 -> 6.3292863 | E34: =E17/$F$3 -> 5.2400532 | F34: =F17/$F$3 -> 3.9823918 | G34: =G17/$F$3 -> 2.308966 | H34: =H17/$F$3 -> 1.2106957 | I34: =I17/$F$3 -> 0.13208333 | J34: =J17/$F$3 -> 0.2409375 | K34: =K17/$F$3 -> 0.095208333 | ... P34: =P17/$F$3 -> 30.493866
B35: Ominaislämmönkulutus | C35: Wh/m3/oCd | D35: =1000*D31/D13 -> 3.5275584 | E35: =1000*E31/E13 -> 3.1316057 | F35: =1000*F31/F13 -> 2.6426659 | G35: =1000*G31/G13 -> 2.3675875 | H35: =1000*H31/H13 -> 3.0797101 | L35: =1000*L31/L13 -> 2.2498484 | M35: =1000*M31/M13 -> 1.9578217 | N35: =1000*N31/N13 -> 2.7888551 | O35: =1000*O31/O13 -> 2.6677718 | P35: =1000*P31/P13 -> 2.8522921 | T35: =1000*T31/T13 -> #DIV/0!
A37: Vuosikulutusarvio
B39: Lämmityssähkö ILPillä | D39: 2800 | E39: kWh | G39: Arvio lämmityssähkö ilman ILP | K39: 6800 | L39: kWh | M39: Vuosikulutusarvio ilma ILP
B40: Lämminvesi | D40: 2200 | E40: kWh | G40: Arvio ILPin säästämästä sähköstä | K40: =K39-D39 -> 4000 | L40: kWh | N40: =D42-D39+K39 -> 12000 | O40: kWh
B41: Taloussähkö | D41: 3000 | E41: kWh | G41: Säästöarvio lämmityssähkönkulutuksesta | K41: =K40/K39 -> 0.58823529 | S41: =8263.74-8258.38 -> 5.36
B42: Yhteensä | D42: =SUM(D39:D41) -> 8000 | E42: kWh | G42: Säästöarvio kokonaissähkönkulutuksesta | K42: =K40/(SUM(D40:D41)+K39) -> 0.33333333
A45: Sähkön hinta
B46: pörssisähkön hinta | D46: 7.23 | E46: 6.11 | F46: 5.29 | G46: 5.32 | H46: 4.8 | I46: 3.61 | J46: 5.73 | K46: 6.03 | L46: 6.06 | M46: 5.95 | N46: 5.89 | O46: 5.06
B48: liukuva vuosikeskihinta | C48: c/kWh | D48: =(SUMPRODUCT($D$46:D46,$D$11:D11)+SUMPRODUCT('2018'!E$46:$O46,'2018'!E$11:$O11))/(D21+SUM('2018'!E$11:$O11)) -> 6.2539884 | E48: =(SUMPRODUCT($D$46:E46,$D$11:E11)+SUMPRODUCT('2018'!F$46:$O46,'2018'!F$11:$O11))/(E21+SUM('2018'!F$11:$O11)) -> 6.3168275 | F48: =(SUMPRODUCT($D$46:F46,$D$11:F11)+SUMPRODUCT('2018'!G$46:$O46,'2018'!G$11:$O11))/(F21+SUM('2018'!G$11:$O11)) -> 6.2442133 | G48: =(SUMPRODUCT($D$46:G46,$D$11:G11)+SUMPRODUCT('2018'!H$46:$O46,'2018'!H$11:$O11))/(G21+SUM('2018'!H$11:$O11)) -> 6.2564149 | H48: =(SUMPRODUCT($D$46:H46,$D$11:H11)+SUMPRODUCT('2018'!I$46:$O46,'2018'!I$11:$O11))/(H21+SUM('2018'!I$11:$O11)) -> 6.2444898 | I48: =(SUMPRODUCT($D$46:I46,$D$11:I11)+SUMPRODUCT('2018'!J$46:$O46,'2018'!J$11:$O11))/(I21+SUM('2018'!J$11:$O11)) -> 6.1327231 | J48: =(SUMPRODUCT($D$46:J46,$D$11:J11)+SUMPRODUCT('2018'!K$46:$O46,'2018'!K$11:$O11))/(J21+SUM('2018'!K$11:$O11)) -> 6.0831555 | K48: =(SUMPRODUCT($D$46:K46,$D$11:K11)+SUMPRODUCT('2018'!L$46:$O46,'2018'!L$11:$O11))/(K21+SUM('2018'!L$11:$O11)) -> 6.0260188 | ... N48: =(SUMPRODUCT($D$46:N46,$D$11:N11)+SUMPRODUCT('2018'!O$46:$O46,'2018'!O$11:$O11))/(N21+SUM('2018'!O$11:$O11)) -> 5.9446897 | O48: =(SUMPRODUCT($D$46:O46,$D$11:O11))/(O21) -> 5.747451

Sheet 2018
A1: SÄHKÖNKULUTUSRAPORTTI | D1: 2018 | R1: http://suja.kapsi.fi/asema-taulukko.php?asema=101130
A3: Hyvinkää rivitalo 4H+K+S | D3: Asuinala | F3: 96 | G3: m2 | H3: Taloussähkö arvio (ilman lvv) | K3: 8.5 | L3: kWh/d | M3: Kesäkuukaudet | O3: =(SUM(I11:K11))/92 -> 11.337174 | P3: kWh/d
D4: Tilavuus | F4: =2.52*F3 -> 241.92 | G4: m3
A6: Jakso | D6: Tammi | E6: Helmi | F6: Maalis | G6: Huhti | H6: Touko | I6: Kesä | J6: Heinä | K6: Elo | L6: Syys | M6: Loka | N6: Marras | O6: Joulu | P6: Yhteensä
B7: päivät kuukaudessa | D7: 31 | E7: 28 | F7: 31 | G7: 30 | H7: 31 | I7: 30 | J7: 31 | K7: 31 | L7: 30 | M7: 31 | N7: 30 | O7: 31 | P7: =SUM(D7:O7) -> 365
A8: 2018 | B8: Keskilämpötila | C8: oC | D8: -2.9 | E8: -9.4 | F8: -5.7 | G8: 4.4 | H8: 14.1 | I8: 14.7 | J8: 19.8 | K8: 16.8 | L8: 12.1 | M8: 5.6 | N8: 2.2 | O8: -2.5 | P8: =AVERAGE(D8:O8) -> 5.7666667 | R8: =AVERAGE(D8:H8,L8:O8) -> 1.9888889
A9: 2018 | B9: Sähkö päivä | C9: kWh | D9: 561.89 | E9: 633.29 | F9: 577.99 | G9: 328.32414 | H9: 191.18 | I9: 143.8 | J9: 157.36 | K9: 189.48 | L9: 244.72 | M9: 306.61 | N9: 393.03 | O9: 559.3 | P9: =SUM(D9:O9) -> 4286.9741 | R9: =P9/$P$11 -> 0.52841164
A10: 2018 | B10: Sähkö yö | C10: kWh | D10: 438.67 | E10: 479.91 | F10: 484.68 | G10: 343.2 | H10: 232.85 | I10: 174.29 | J10: 153.93 | K10: 224.16 | L10: 235.07 | M10: 251.22 | N10: 373.05 | O10: 434.94 | P10: =SUM(D10:O10) -> 3825.97 | R10: =P10/$P$11 -> 0.47158836
A11: 2018 | B11: Sähkö yhteensä | C11: kWh | D11: =SUM(D9:D10) -> 1000.56 | E11: =SUM(E9:E10) -> 1113.2 | F11: =SUM(F9:F10) -> 1062.67 | G11: =SUM(G9:G10) -> 671.52414 | H11: =SUM(H9:H10) -> 424.03 | I11: =SUM(I9:I10) -> 318.09 | J11: =SUM(J9:J10) -> 311.29 | K11: =SUM(K9:K10) -> 413.64 | ... O11: =SUM(O9:O10) -> 994.24 | P11: =SUM(D11:O11) -> 8112.9441 | R11: =P11/$P$11 -> 1
A12: 2018 | B12: Ilmalämpöpumppu | C12: kWh | D12: =(4199.02-3705.91) -> 493.11 | E12: =(4809.75-4199.02) -> 610.73 | F12: =(5334.62-4809.75) -> 524.87 | G12: =(5534.4-5334.62) -> 199.78 | H12: =(5556.01-5534.4) -> 21.61 | I12: =(5572.65-5556.01) -> 16.64 | J12: =(5581.36-5572.65) -> 8.71 | K12: =5609.6-5609.56+5627.09-5614.98 -> 12.15 | L12: =(5678.9-5627.09) -> 51.81 | M12: =5854.41-5678.9 -> 175.51 | N12: =(6116.1-5845.7) -> 270.4 | O12: =6565.26-6116.1 -> 449.16 | P12: =SUM(D12:O12) -> 2834.48 | R12: =P12/$P$11 -> 0.34937748 | V12: =(P12+'2017'!P12+'2016'!P12+'2015'!P12+'2014'!P12)/5 -> 2636.677 | X12: =P12+'2017'!X12 -> 20310.321
A13: 2018 | B13: Lämmitystarveluku toteutunut | C13: oCd | D13: =634/1.02 -> 621.56863 | E13: =740/1.02 -> 725.4902 | F13: =718/1.02 -> 703.92157 | G13: =380/1.02 -> 372.54902 | H13: =45/1.02 -> 44.117647 | I13: =25/1.02 -> 24.509804 | J13: 0 | K13: 0 | L13: =125/1.02 -> 122.54902 | M13: =370/1.02 -> 362.7451 | N13: =450/1.02 -> 441.17647 | O13: =618/1.02 -> 605.88235 | P13: =SUM(D13:O13) -> 4024.5098 | R13: =P13/$P$11 -> 0.49606034
A14: 2018 | B14: Lämmitystarveluku normivuosi | C14: oCd | D14: 712 | E14: 664 | F14: 598 | G14: 387 | H14: 156 | I14: 20 | J14: 4 | K14: 30 | L14: 187 | M14: 375 | N14: 518 | O14: 655 | P14: =SUM(D14:O14) -> 4306
A15: 2018 | B15: Lämminvesivaraaja | C15: kWh | D15: 206 | E15: 178 | F15: 200.9 | G15: 199.9 | H15: 173.4 | I15: 135.5 | J15: 118.7 | K15: 189.4 | L15: 180.2 | M15: 163 | N15: 233 | O15: 209.1 | P15: =SUM(D15:O15) -> 2187.1 | R15: =P15/$P$11 -> 0.26958154
A16: 2018 | B16: Lämmityssähkö (arvio) | C16: kWh | D16: =D12 -> 493.11 | E16: =E12 -> 610.73 | F16: =F12 -> 524.87 | G16: =G12 -> 199.78 | H16: =H12 -> 21.61 | I16: =I12 -> 16.64 | J16: =J12 -> 8.71 | K16: =K12 -> 12.15 | ... O16: =O12 -> 449.16 | P16: =SUM(D16:O16) -> 2834.48
A17: 2018 | B17: Sääkorjattu lämmityssähkö | C17: kWh | D17: =IF(D16<0,0,((D14/D13))*D16) -> 564.85206 | E17: =IF(E16<0,0,((E14/E13))*E16) -> 558.96651 | F17: =IF(F16<0,0,((F14/F13))*F16) -> 445.89095 | G17: =IF(G16<0,0,((G14/G13))*G16) -> 207.52936 | H17: =IF(H16<0,0,((H14/H13))*H16) -> 76.41296 | I17: =I16 -> 16.64 | J17: =J16 -> 8.71 | K17: =K16 -> 12.15 | L17: =IF(L16<0,0,((L14/L13))*L16) -> 79.057915 | M17: =IF(M16<0,0,((M14/M13))*M16) -> 181.43939 | N17: =IF(N16<0,0,((N14/N13))*N16) -> 317.48565 | O17: =IF(O16<0,0,((O14/O13))*O16) -> 485.57249 | P17: =SUM(D17:O17) -> 2954.7073 | R17: =(P14-P13)/P14 -> 0.06537162
A20: Kulutus päivässä | C20: kWh/d | D20: =D11/D7 -> 32.276129 | E20: =E11/E7 -> 39.757143 | F20: =F11/F7 -> 34.279677 | G20: =G11/G7 -> 22.384138 | H20: =H11/H7 -> 13.678387 | I20: =I11/I7 -> 10.603 | J20: =J11/J7 -> 10.041613 | K20: =K11/K7 -> 13.343226 | ... O20: =O11/O7 -> 32.072258 | P20: =P11/365 -> 22.227244
B21: Kumulatiivinen kulutus | C21: kWh | D21: =SUM(D11) -> 1000.56 | E21: =SUM($D$11:E11) -> 2113.76 | F21: =SUM($D$11:F11) -> 3176.43 | G21: =SUM($D$11:G11) -> 3847.9541 | H21: =SUM($D$11:H11) -> 4271.9841 | I21: =SUM($D$11:I11) -> 4590.0741 | J21: =SUM($D$11:J11) -> 4901.3641 | K21: =SUM($D$11:K11) -> 5315.0041 | L21: =SUM($D$11:L11) -> 5794.7941 | ... O21: =SUM($D$11:O11) -> 8112.9441
B22: Kumulatiivinen kulutus ILP | C22: kWh | D22: =SUM(D12) -> 493.11 | E22: =SUM($D$12:E12) -> 1103.84 | F22: =SUM($D$12:F12) -> 1628.71 | G22: =SUM($D$12:G12) -> 1828.49 | H22: =SUM($D$12:H12) -> 1850.1 | I22: =SUM($D$12:I12) -> 1866.74 | J22: =SUM($D$12:J12) -> 1875.45 | K22: =SUM($D$12:K12) -> 1887.6 | L22: =SUM($D$12:L12) -> 1939.41 | ... O22: =SUM($D$12:O12) -> 2834.48
B23: Kumulatiivinen kulutus lämmitys | C23: kWh | D23: =SUM(D16) -> 493.11 | E23: =SUM($D$16:E16) -> 1103.84 | F23: =SUM($D$16:F16) -> 1628.71 | G23: =SUM($D$16:G16) -> 1828.49 | H23: =SUM($D$16:H16) -> 1850.1 | I23: =SUM($D$16:I16) -> 1866.74 | J23: =SUM($D$16:J16) -> 1875.45 | K23: =SUM($D$16:K16) -> 1887.6 | L23: =SUM($D$16:L16) -> 1939.41 | ... O23: =SUM($D$16:O16) -> 2834.48
B24: Taloussähkö ilman LKV | C24: kWh | D24: =(D11-D12-D15)/D7 -> 9.7241935 | E24: =(E11-E12-E15)/E7 -> 11.588214 | F24: =(F11-F12-F15)/F7 -> 10.867742 | G24: =(G11-G12-G15)/G7 -> 9.0614713 | H24: =(H11-H12-H15)/H7 -> 7.3877419 | I24: =(I11-I12-I15)/I7 -> 5.5316667 | J24: =(J11-J12-J15)/J7 -> 5.9316129 | K24: =(K11-K12-K15)/K7 -> 6.8416129 | ... O24: =(O11-O12-O15)/O7 -> 10.838065 | P24: =P11-P12-P15-33 -> 3058.3641
B25: Liukuva 12 kk kulutus | C25: kWh | D25: =D21+'2017'!$P$11-'2017'!D21 -> 7542.31 | E25: =E21+'2017'!$P$11-'2017'!E21 -> 7803.15 | F25: =F21+'2017'!$P$11-'2017'!F21 -> 8155.63 | G25: =G21+'2017'!$P$11-'2017'!G21 -> 8079.7041 | H25: =H21+'2017'!$P$11-'2017'!H21 -> 8048.5541 | I25: =I21+'2017'!$P$11-'2017'!I21 -> 8070.8041 | J25: =J21+'2017'!$P$11-'2017'!J21 -> 8008.1841 | K25: =K21+'2017'!$P$11-'2017'!K21 -> 8050.9241 | ... O25: =O21+'2017'!$P$11-'2017'!O21 -> 8112.9441
A26: Lämmitys
B27: Lämmityksen osuus kulutuksesta | D27: =D16/D11 -> 0.49283401 | E27: =E16/E11 -> 0.54862558 | F27: =F16/F11 -> 0.49391627 | G27: =G16/G11 -> 0.29750234 | H27: =H16/H11 -> 0.050963375 | I27: =I16/I11 -> 0.052312239 | J27: =J16/J11 -> 0.02798034 | K27: =K16/K11 -> 0.029373368 | ... P27: =P16/P11 -> 0.34937748
B28: Sähkönkulutus lämmitykseen | C28: kWh/oCd | D28: =D16/D13 -> 0.79333155 | E28: =E16/E13 -> 0.84181703 | F28: =F16/F13 -> 0.74563705 | G28: =G16/G13 -> 0.53625158 | H28: =H16/H13 -> 0.48982667 | L28: =L16/L13 -> 0.4227696 | M28: =M16/M13 -> 0.48383838 | N28: =N16/N13 -> 0.61290667 | O28: =O16/O13 -> 0.74133204 | P28: =P16/P13 -> 0.70430441
B29: Sähkönkulutus lämmitykseen | C29: kWh/d | D29: =D16/D7 -> 15.906774 | E29: =E16/E7 -> 21.811786 | F29: =F16/F7 -> 16.93129 | G29: =G16/G7 -> 6.6593333 | H29: =H16/H7 -> 0.69709677 | I29: =I16/I7 -> 0.55466667 | J29: =J16/J7 -> 0.28096774 | K29: =K16/K7 -> 0.39193548 | ... P29: =P16/P7 -> 7.7656986
B30: Norm sähkö lämmitykseen | C30: kWh/d | D30: =D17/D7 -> 18.221034 | E30: =E17/E7 -> 19.963089 | F30: =F17/F7 -> 14.383579 | G30: =G17/G7 -> 6.9176454 | H30: =H17/H7 -> 2.4649342 | I30: =I17/I7 -> 0.55466667 | J30: =J17/J7 -> 0.28096774 | K30: =K17/K7 -> 0.39193548 | ... P30: =P17/P7 -> 8.0950885
B31: Ominaislämmönkulutus | C31: kWh/m3 | D31: =D16/$F$4 -> 2.0383185 | E31: =E16/$F$4 -> 2.5245122 | F31: =F16/$F$4 -> 2.1696015 | G31: =G16/$F$4 -> 0.82581019 | H31: =H16/$F$4 -> 0.08932705 | I31: =I16/$F$4 -> 0.068783069 | J31: =J16/$F$4 -> 0.036003638 | K31: =K16/$F$4 -> 0.050223214 | ... P31: =P16/$F$4 -> 11.716601 | T31: =T16/$F$4 -> 0
B32: Ominaislämmönkulutus | C32: kWh/m2 | D32: =D16/$F$3 -> 5.1365625 | E32: =E16/$F$3 -> 6.3617708 | F32: =F16/$F$3 -> 5.4673958 | G32: =G16/$F$3 -> 2.0810417 | H32: =H16/$F$3 -> 0.22510417 | I32: =I16/$F$3 -> 0.17333333 | J32: =J16/$F$3 -> 0.090729167 | K32: =K16/$F$3 -> 0.1265625 | ... P32: =P16/$F$3 -> 29.525833
B33: Norm lämmönkulutus | C33: kWh/m3 | D33: =D17/$F$4 -> 2.3348713 | E33: =E17/$F$4 -> 2.3105428 | F33: =F17/$F$4 -> 1.8431339 | G33: =G17/$F$4 -> 0.85784293 | H33: =H17/$F$4 -> 0.31586045 | I33: =I17/$F$4 -> 0.068783069 | J33: =J17/$F$4 -> 0.036003638 | K33: =K17/$F$4 -> 0.050223214 | ... P33: =P17/$F$4 -> 12.213572
B34: Norm lämmönkulutus | C34: kWh/m2 | D34: =D17/$F$3 -> 5.8838756 | E34: =E17/$F$3 -> 5.8225678 | F34: =F17/$F$3 -> 4.6446974 | G34: =G17/$F$3 -> 2.1617642 | H34: =H17/$F$3 -> 0.79596833 | I34: =I17/$F$3 -> 0.17333333 | J34: =J17/$F$3 -> 0.090729167 | K34: =K17/$F$3 -> 0.1265625 | ... P34: =P17/$F$3 -> 30.778201
B35: Ominaislämmönkulutus | C35: Wh/m3/oCd | D35: =1000*D31/D13 -> 3.2793136 | E35: =1000*E31/E13 -> 3.4797331 | F35: =1000*F31/F13 -> 3.0821637 | G35: =1000*G31/G13 -> 2.2166484 | H35: =1000*H31/H13 -> 2.0247465 | L35: =1000*L31/L13 -> 1.7475595 | M35: =1000*M31/M13 -> 1.9999933 | N35: =1000*N31/N13 -> 2.5335097 | O35: =1000*O31/O13 -> 3.0643685 | P35: =1000*P31/P13 -> 2.9113112 | T35: =1000*T31/T13 -> #DIV/0!
A37: Vuosikulutusarvio
B39: Lämmityssähkö ILPillä | D39: 2800 | E39: kWh | G39: Arvio lämmityssähkö ilman ILP | K39: 6800 | L39: kWh | M39: Vuosikulutusarvio ilma ILP
B40: Lämminvesi | D40: 2200 | E40: kWh | G40: Arvio ILPin säästämästä sähköstä | K40: =K39-D39 -> 4000 | L40: kWh | N40: =D42-D39+K39 -> 12000 | O40: kWh
B41: Taloussähkö | D41: 3000 | E41: kWh | G41: Säästöarvio lämmityssähkönkulutuksesta | K41: =K40/K39 -> 0.58823529
B42: Yhteensä | D42: =SUM(D39:D41) -> 8000 | E42: kWh | G42: Säästöarvio kokonaissähkönkulutuksesta | K42: =K40/(SUM(D40:D41)+K39) -> 0.33333333
A45: Sähkön hinta
B46: pörssisähkön hinta | D46: 4.89 | E46: 5.69 | F46: 6 | G46: 5.19 | H46: 4.53 | I46: 6.08 | J46: 7.04 | K46: 7.14 | L46: 6.53 | M46: 5.92 | N46: 6.47 | O46: 6.74
B48: liukuva vuosikeskihinta | C48: c/kWh | D48: =(SUMPRODUCT($D$46:D46,$D$11:D11)+SUMPRODUCT('2017'!E$46:$O46,'2017'!E$11:$O11))/(D21+SUM('2017'!E$11:$O11)) -> 4.4179997 | E48: =(SUMPRODUCT($D$46:E46,$D$11:E11)+SUMPRODUCT('2017'!F$46:$O46,'2017'!F$11:$O11))/(E21+SUM('2017'!F$11:$O11)) -> 4.5697523 | F48: =(SUMPRODUCT($D$46:F46,$D$11:F11)+SUMPRODUCT('2017'!G$46:$O46,'2017'!G$11:$O11))/(F21+SUM('2017'!G$11:$O11)) -> 4.7961472 | G48: =(SUMPRODUCT($D$46:G46,$D$11:G11)+SUMPRODUCT('2017'!H$46:$O46,'2017'!H$11:$O11))/(G21+SUM('2017'!H$11:$O11)) -> 4.8951317 | H48: =(SUMPRODUCT($D$46:H46,$D$11:H11)+SUMPRODUCT('2017'!I$46:$O46,'2017'!I$11:$O11))/(H21+SUM('2017'!I$11:$O11)) -> 4.9231254 | I48: =(SUMPRODUCT($D$46:I46,$D$11:I11)+SUMPRODUCT('2017'!J$46:$O46,'2017'!J$11:$O11))/(I21+SUM('2017'!J$11:$O11)) -> 5.0051242 | J48: =(SUMPRODUCT($D$46:J46,$D$11:J11)+SUMPRODUCT('2017'!K$46:$O46,'2017'!K$11:$O11))/(J21+SUM('2017'!K$11:$O11)) -> 5.111076 | K48: =(SUMPRODUCT($D$46:K46,$D$11:K11)+SUMPRODUCT('2017'!L$46:$O46,'2017'!L$11:$O11))/(K21+SUM('2017'!L$11:$O11)) -> 5.2351773 | ... N48: =(SUMPRODUCT($D$46:N46,$D$11:N11)+SUMPRODUCT('2017'!O$46:$O46,'2017'!O$11:$O11))/(N21+SUM('2017'!O$11:$O11)) -> 5.6446662 | O48: =(SUMPRODUCT($D$46:O46,$D$11:O11))/(O21) -> 5.9387674
B51: 39.37 | C51: snt/kWh | D51: =64.99+$B$51*(D11-250)/100 -> 360.48547 | E51: =64.99+$B$51*(E11-250)/100 -> 404.83184 | F51: =64.99+$B$51*(F11-250)/100 -> 384.93818 | G51: =64.99+$B$51*(G11-250)/100 -> 230.94405 | H51: =64.99+$B$51*(H11-250)/100 -> 133.50561 | I51: =64.99+$B$51*(I11-250)/100 -> 91.797033 | J51: =64.99+$B$51*(J11-250)/100 -> 89.119873 | K51: =64.99+$B$51*(K11-250)/100 -> 129.41507 | ... O51: =64.99+$B$51*(O11-250)/100 -> 357.99729 | P51: =SUM(D51:N51) -> 2434.8488 | T51: =SUM(D51:F51,N51:O51,M51) -> 1962.6061
B52: 22.9 | C52: snt/kWh | D52: =$B$52*D11/100+$B$53 -> 232.61824 | E52: =$B$52*E11/100+$B$53 -> 258.4128 | F52: =$B$52*F11/100+$B$53 -> 246.84143 | G52: =$B$52*G11/100+$B$53 -> 157.26903 | H52: =$B$52*H11/100+$B$53 -> 100.59287 | I52: =$B$52*I11/100+$B$53 -> 76.33261 | J52: =$B$52*J11/100+$B$53 -> 74.77541 | K52: =$B$52*K11/100+$B$53 -> 98.21356 | ... O52: =$B$52*O11/100+$B$53 -> 231.17096 | P52: =SUM(D52:O52) -> 1899.7442 | R52: =P51-P52 -> 535.10461 | T52: =SUM(D52:F52,N52:O52,M52) -> 1279.1988 | U52: =T51-T52 -> 683.40733
B53: 3.49 | C53: €/kk
P54: =SUM(M52:O52,D52:L52,D52:O52) -> 3799.4884
P55: =SUM(M51:O51,D51:J51)+0.14*SUM(K11:O11,D11:L11)+14*1.5 -> 3789.8651 | R55: =P55-P54 -> -9.6233198

Sheet 2017
A1: SÄHKÖNKULUTUSRAPORTTI | D1: 2017 | R1: http://suja.kapsi.fi/asema-taulukko.php?asema=101130
A3: Hyvinkää rivitalo 4H+K+S | D3: Asuinala | F3: 96 | G3: m2 | H3: Taloussähkö arvio (ilman lvv) | K3: 7 | L3: kWh/d | M3: Kesäkuukaudet | O3: =(SUM(I11:K11))/92 -> 11.311413 | P3: kWh/d
D4: Tilavuus | F4: =2.52*F3 -> 241.92 | G4: m3
A6: Jakso | D6: Tammi | E6: Helmi | F6: Maalis | G6: Huhti | H6: Touko | I6: Kesä | J6: Heinä | K6: Elo | L6: Syys | M6: Loka | N6: Marras | O6: Joulu | P6: Yhteensä
B7: päivät kuukaudessa | D7: 31 | E7: 28 | F7: 31 | G7: 30 | H7: 31 | I7: 30 | J7: 31 | K7: 31 | L7: 30 | M7: 31 | N7: 30 | O7: 31 | P7: =SUM(D7:O7) -> 365
A8: 2017 | B8: Keskilämpötila | C8: oC | D8: -3.6 | E8: -4.1 | F8: 0.3 | G8: 1.8 | H8: 9 | I8: 12.9 | J8: 15 | K8: 14.8 | L8: 10.5 | M8: 4.3 | N8: 1.8 | O8: -0.1 | P8: =AVERAGE(D8:O8) -> 5.2166667
A9: 2017 | B9: Sähkö päivä | C9: kWh | D9: 579.31 | E9: 462.45 | F9: 406.07 | G9: 401.23 | H9: 217.86 | I9: 145.42 | J9: 214.93 | K9: 209.44 | L9: 214.72 | M9: 327.09 | N9: 419.42 | O9: 526.54 | P9: =SUM(D9:O9) -> 4124.48 | R9: =P9/$P$11 -> 0.54921595
A10: 2017 | B10: Sähkö yö | C10: kWh | D10: 388.7 | E10: 389.91 | F10: 304.12 | G10: 346.22 | H10: 237.32 | I10: 150.42 | J10: 158.98 | K10: 161.46 | L10: 221.61 | M10: 308.02 | N10: 334.67 | O10: 383.85 | P10: =SUM(D10:O10) -> 3385.28 | R10: =P10/$P$11 -> 0.45078405
A11: 2017 | B11: Sähkö yhteensä | C11: kWh | D11: =SUM(D9:D10) -> 968.01 | E11: =SUM(E9:E10) -> 852.36 | F11: =SUM(F9:F10) -> 710.19 | G11: =SUM(G9:G10) -> 747.45 | H11: =SUM(H9:H10) -> 455.18 | I11: =SUM(I9:I10) -> 295.84 | J11: =SUM(J9:J10) -> 373.91 | K11: =SUM(K9:K10) -> 370.9 | ... O11: =SUM(O9:O10) -> 910.39 | P11: =SUM(D11:O11) -> 7509.76 | R11: =P11/$P$11 -> 1
A12: 2017 | B12: Ilmalämpöpumppu | C12: kWh | D12: =(1573.83-1086.54) -> 487.29 | E12: =(1999.37-1573.83) -> 425.54 | F12: =(2330.5-1999.37) -> 331.13 | G12: =2584.4-2330.5 -> 253.9 | H12: =(2696.22-2584.4) -> 111.82 | I12: =2731.5-2696.22 -> 35.28 | J12: =(2750.51-2731.5-1) -> 18.01 | K12: =(2776.78-2750.51) -> 26.27 | L12: =(2854.29-2776.78) -> 77.51 | M12: =(3059.38-2854.29) -> 205.09 | N12: =(3340.5-3059.38) -> 281.12 | O12: =(3705.91-3340.5) -> 365.41 | P12: =SUM(D12:O12) -> 2618.37 | R12: =P12/$P$11 -> 0.34866227 | X12: =P12+'2016'!X12 -> 17475.841
A13: 2017 | B13: Lämmitystarveluku toteutunut | C13: oCd | D13: =647/1.02 -> 634.31373 | E13: =602/1.02 -> 590.19608 | F13: =524/1.02 -> 513.72549 | G13: =460/1.02 -> 450.98039 | H13: =219/1.02 -> 214.70588 | I13: =54/1.02 -> 52.941176 | J13: =12/1.02 -> 11.764706 | K13: =35/1.02 -> 34.313725 | L13: =188/1.02 -> 184.31373 | M13: =393/1.02 -> 385.29412 | N13: =470/1.02 -> 460.78431 | O13: =540/1.02 -> 529.41176 | P13: =SUM(D13:O13) -> 4062.7451 | R13: =(P14-P13)/P14 -> 0.056492081
A14: 2017 | B14: Lämmitystarveluku normivuosi | C14: oCd | D14: 712 | E14: 664 | F14: 598 | G14: 387 | H14: 156 | I14: 20 | J14: 4 | K14: 30 | L14: 187 | M14: 375 | N14: 518 | O14: 655 | P14: =SUM(D14:O14) -> 4306
A15: 2017 | B15: Lämminvesivaraaja | C15: kWh | D15: 174.4 | E15: 180.2 | F15: 174 | G15: 195.6 | H15: 141.1 | I15: 106.2 | J15: =131 -> 131 | K15: 161.9 | L15: 164.4 | M15: 179.5 | N15: 192.8 | O15: 196.4 | P15: =SUM(D15:O15) -> 1997.5
A16: 2017 | B16: Lämmityssähkö (arvio) | C16: kWh | D16: =D12 -> 487.29 | E16: =E12 -> 425.54 | F16: =F12 -> 331.13 | G16: =G12 -> 253.9 | H16: =H12 -> 111.82 | I16: =I12 -> 35.28 | J16: =J12 -> 18.01 | K16: =K12 -> 26.27 | ... O16: =O12 -> 365.41 | P16: =SUM(D16:O16) -> 2618.37 | R16: =P11-P15-P16 -> 2893.89
A17: 2017 | B17: Sääkorjattu lämmityssähkö | C17: kWh | D17: =IF(D16<0,0,((D14/D13))*D16) -> 546.96984 | E17: =IF(E16<0,0,((E14/E13))*E16) -> 478.75371 | F17: =IF(F16<0,0,((F14/F13))*F16) -> 385.45049 | G17: =IF(G16<0,0,((G14/G13))*G16) -> 217.87932 | H17: =IF(H16<0,0,((H14/H13))*H16) -> 81.245655 | I17: =I16 -> 35.28 | J17: =J16 -> 18.01 | K17: =K16 -> 26.27 | L17: =IF(L16<0,0,((L14/L13))*L16) -> 78.639667 | M17: =IF(M16<0,0,((M14/M13))*M16) -> 199.6105 | N17: =IF(N16<0,0,((N14/N13))*N16) -> 316.02673 | O17: =IF(O16<0,0,((O14/O13))*O16) -> 452.09337 | P17: =SUM(D17:O17) -> 2836.2293
A20: Kulutus päivässä | C20: kWh/d | D20: =D11/D7 -> 31.226129 | E20: =E11/E7 -> 30.441429 | F20: =F11/F7 -> 22.909355 | G20: =G11/G7 -> 24.915 | H20: =H11/H7 -> 14.683226 | I20: =I11/I7 -> 9.8613333 | J20: =J11/J7 -> 12.061613 | K20: =K11/K7 -> 11.964516 | ... O20: =O11/O7 -> 29.367419 | P20: =P11/365 -> 20.574685
B21: Kumulatiivinen kulutus | C21: kWh | D21: =SUM(D11) -> 968.01 | E21: =SUM($D$11:E11) -> 1820.37 | F21: =SUM($D$11:F11) -> 2530.56 | G21: =SUM($D$11:G11) -> 3278.01 | H21: =SUM($D$11:H11) -> 3733.19 | I21: =SUM($D$11:I11) -> 4029.03 | J21: =SUM($D$11:J11) -> 4402.94 | K21: =SUM($D$11:K11) -> 4773.84 | L21: =SUM($D$11:L11) -> 5210.17 | ... O21: =SUM($D$11:O11) -> 7509.76
B22: Kumulatiivinen kulutus ILP | C22: kWh | D22: =SUM(D12) -> 487.29 | E22: =SUM($D$12:E12) -> 912.83 | F22: =SUM($D$12:F12) -> 1243.96 | G22: =SUM($D$12:G12) -> 1497.86 | H22: =SUM($D$12:H12) -> 1609.68 | I22: =SUM($D$12:I12) -> 1644.96 | J22: =SUM($D$12:J12) -> 1662.97 | K22: =SUM($D$12:K12) -> 1689.24 | L22: =SUM($D$12:L12) -> 1766.75 | ... O22: =SUM($D$12:O12) -> 2618.37
B23: Kumulatiivinen kulutus lämmitys | C23: kWh | D23: =SUM(D16) -> 487.29 | E23: =SUM($D$16:E16) -> 912.83 | F23: =SUM($D$16:F16) -> 1243.96 | G23: =SUM($D$16:G16) -> 1497.86 | H23: =SUM($D$16:H16) -> 1609.68 | I23: =SUM($D$16:I16) -> 1644.96 | J23: =SUM($D$16:J16) -> 1662.97 | K23: =SUM($D$16:K16) -> 1689.24 | L23: =SUM($D$16:L16) -> 1766.75 | ... O23: =SUM($D$16:O16) -> 2618.37
B24: Taloussähkö ilman LKV | C24: kWh | D24: =(D11-D12-D15)/D7 -> 9.8812903 | E24: =(E11-E12-E15)/E7 -> 8.8078571 | F24: =(F11-F12-F15)/F7 -> 6.6148387 | G24: =(G11-G12-G15)/G7 -> 9.9316667 | H24: =(H11-H12-H15)/H7 -> 6.5245161 | I24: =(I11-I12-I15)/I7 -> 5.1453333 | J24: =(J11-J12-J15)/J7 -> 7.2548387 | K24: =(K11-K12-K15)/K7 -> 5.8945161 | ... P24: =(P11-P12-P15)/P7 -> 7.9284658
B25: Liukuva 12 kk kulutus | C25: kWh | D25: =D21+'2016'!$P$11-'2016'!D21 -> 7237.27 | E25: =E21+'2016'!$P$11-'2016'!E21 -> 7374.04 | F25: =F21+'2016'!$P$11-'2016'!F21 -> 7280.49 | G25: =G21+'2016'!$P$11-'2016'!G21 -> 7407.05 | H25: =H21+'2016'!$P$11-'2016'!H21 -> 7515.5 | I25: =I21+'2016'!$P$11-'2016'!I21 -> 7455.41 | J25: =J21+'2016'!$P$11-'2016'!J21 -> 7593.23 | K25: =K21+'2016'!$P$11-'2016'!K21 -> 7592.63 | ... O25: =O21+'2016'!$P$11-'2016'!O21 -> 7509.76
A26: Lämmitys
B27: Lämmityksen osuus kulutuksesta | D27: =D16/D11 -> 0.50339356 | E27: =E16/E11 -> 0.49924914 | F27: =F16/F11 -> 0.46625551 | G27: =G16/G11 -> 0.33968827 | H27: =H16/H11 -> 0.24566106 | I27: =I16/I11 -> 0.11925365 | J27: =J16/J11 -> 0.048166671 | K27: =K16/K11 -> 0.070827716 | ... P27: =P16/P11 -> 0.34866227
B28: Sähkönkulutus lämmitykseen | C28: kWh/oCd | D28: =D16/D13 -> 0.76821607 | E28: =E16/E13 -> 0.72101462 | F28: =F16/F13 -> 0.64456603 | G28: =G16/G13 -> 0.56299565 | H28: =H16/H13 -> 0.52080548 | L28: =L16/L13 -> 0.42053298 | M28: =M16/M13 -> 0.53229466 | N28: =N16/N13 -> 0.61009021 | O28: =O16/O13 -> 0.69021889 | P28: =P16/P13 -> 0.64448296
B29: Sähkönkulutus lämmitykseen | C29: kWh/d | D29: =D16/D7 -> 15.719032 | E29: =E16/E7 -> 15.197857 | F29: =F16/F7 -> 10.681613 | G29: =G16/G7 -> 8.4633333 | H29: =H16/H7 -> 3.6070968 | I29: =I16/I7 -> 1.176 | J29: =J16/J7 -> 0.58096774 | K29: =K16/K7 -> 0.84741935 | ... P29: =P16/P7 -> 7.1736164
B30: Norm sähkö lämmitykseen | C30: kWh/d | D30: =D17/D7 -> 17.644189 | E30: =E17/E7 -> 17.098347 | F30: =F17/F7 -> 12.433887 | G30: =G17/G7 -> 7.2626439 | H30: =H17/H7 -> 2.6208276 | I30: =I17/I7 -> 1.176 | J30: =J17/J7 -> 0.58096774 | K30: =K17/K7 -> 0.84741935 | ... P30: =P17/P7 -> 7.7704912
B31: Ominaislämmönkulutus | C31: kWh/m3 | D31: =D16/$F$4 -> 2.0142609 | E31: =E16/$F$4 -> 1.7590112 | F31: =F16/$F$4 -> 1.3687583 | G31: =G16/$F$4 -> 1.0495205 | H31: =H16/$F$4 -> 0.46221892 | I31: =I16/$F$4 -> 0.14583333 | J31: =J16/$F$4 -> 0.074446098 | K31: =K16/$F$4 -> 0.10858962 | ... P31: =P16/$F$4 -> 10.823289
B32: Ominaislämmönkulutus | C32: kWh/m2 | D32: =D16/$F$3 -> 5.0759375 | E32: =E16/$F$3 -> 4.4327083 | F32: =F16/$F$3 -> 3.4492708 | G32: =G16/$F$3 -> 2.6447917 | H32: =H16/$F$3 -> 1.1647917 | I32: =I16/$F$3 -> 0.3675 | J32: =J16/$F$3 -> 0.18760417 | K32: =K16/$F$3 -> 0.27364583 | ... P32: =P16/$F$3 -> 27.274687
B33: Norm lämmönkulutus | C33: kWh/m3 | D33: =D17/$F$4 -> 2.2609534 | E33: =E17/$F$4 -> 1.9789753 | F33: =F17/$F$4 -> 1.5932973 | G33: =G17/$F$4 -> 0.90062549 | H33: =H17/$F$4 -> 0.33583687 | I33: =I17/$F$4 -> 0.14583333 | J33: =J17/$F$4 -> 0.074446098 | K33: =K17/$F$4 -> 0.10858962 | ... P33: =P17/$F$4 -> 11.723831
B34: Norm lämmönkulutus | C34: kWh/m2 | D34: =D17/$F$3 -> 5.6976026 | E34: =E17/$F$3 -> 4.9870178 | F34: =F17/$F$3 -> 4.0151092 | G34: =G17/$F$3 -> 2.2695762 | H34: =H17/$F$3 -> 0.8463089 | I34: =I17/$F$3 -> 0.3675 | J34: =J17/$F$3 -> 0.18760417 | K34: =K17/$F$3 -> 0.27364583 | ... P34: =P17/$F$3 -> 29.544055
B35: Ominaislämmönkulutus | C35: Wh/m3/oCd | D35: =1000*D31/D13 -> 3.1754963 | E35: =1000*E31/E13 -> 2.9803845 | F35: =1000*F31/F13 -> 2.6643768 | G35: =1000*G31/G13 -> 2.3271976 | H35: =1000*H31/H13 -> 2.1528004 | L35: =1000*L31/L13 -> 1.7383142 | M35: =1000*M31/M13 -> 2.2002921 | N35: =1000*N31/N13 -> 2.5218676 | O35: =1000*O31/O13 -> 2.8530873 | P35: =1000*P31/P13 -> 2.6640334
A37: Vuosikulutusarvio
B39: Lämmityssähkö ILPillä | D39: 2800 | E39: kWh | G39: Arvio lämmityssähkö ilman ILP | K39: 6800 | L39: kWh | M39: Vuosikulutusarvio ilma ILP
B40: Lämminvesi | D40: 1900 | E40: kWh | G40: Arvio ILPin säästämästä sähköstä | K40: =K39-D39 -> 4000 | L40: kWh | N40: 11600 | O40: kWh
B41: Taloussähkö | D41: 2900 | E41: kWh | G41: Säästöarvio lämmityssähkönkulutuksesta | K41: =K40/K39 -> 0.58823529
B42: Yhteensä | D42: =SUM(D39:D41) -> 7600 | E42: kWh | G42: Säästöarvio kokonaissähkönkulutuksesta | K42: =K40/(SUM(D40:D41)+K39) -> 0.34482759
A45: Sähkön hinta
B46: pörssisähkön hinta | D46: 4.52 | E46: 4.69 | F46: 4.11 | G46: 4.08 | H46: 4.06 | I46: 3.93 | J46: 4.43 | K46: 4.68 | L46: 4.75 | M46: 4.31 | N46: 4.52 | O46: 4.22
B48: liukuva vuosikeskihinta | C48: c/kWh | D48: =(SUMPRODUCT($D$46:D46,$D$11:D11)+SUMPRODUCT('2016'!E$46:$O46,'2016'!E$11:$O11))/(D21+SUM('2016'!E$11:$O11)) -> 4.2512239 | E48: =(SUMPRODUCT($D$46:E46,$D$11:E11)+SUMPRODUCT('2016'!F$46:$O46,'2016'!F$11:$O11))/(E21+SUM('2016'!F$11:$O11)) -> 4.3748418 | F48: =(SUMPRODUCT($D$46:F46,$D$11:F11)+SUMPRODUCT('2016'!G$46:$O46,'2016'!G$11:$O11))/(F21+SUM('2016'!G$11:$O11)) -> 4.4488986 | G48: =(SUMPRODUCT($D$46:G46,$D$11:G11)+SUMPRODUCT('2016'!H$46:$O46,'2016'!H$11:$O11))/(G21+SUM('2016'!H$11:$O11)) -> 4.4970812 | H48: =(SUMPRODUCT($D$46:H46,$D$11:H11)+SUMPRODUCT('2016'!I$46:$O46,'2016'!I$11:$O11))/(H21+SUM('2016'!I$11:$O11)) -> 4.5147644 | I48: =(SUMPRODUCT($D$46:I46,$D$11:I11)+SUMPRODUCT('2016'!J$46:$O46,'2016'!J$11:$O11))/(I21+SUM('2016'!J$11:$O11)) -> 4.4999037 | J48: =(SUMPRODUCT($D$46:J46,$D$11:J11)+SUMPRODUCT('2016'!K$46:$O46,'2016'!K$11:$O11))/(J21+SUM('2016'!K$11:$O11)) -> 4.5079625 | K48: =(SUMPRODUCT($D$46:K46,$D$11:K11)+SUMPRODUCT('2016'!L$46:$O46,'2016'!L$11:$O11))/(K21+SUM('2016'!L$11:$O11)) -> 4.5324134 | ... N48: =(SUMPRODUCT($D$46:N46,$D$11:N11)+SUMPRODUCT('2016'!O$46:$O46,'2016'!O$11:$O11))/(N21+SUM('2016'!O$11:$O11)) -> 4.4138317 | O48: =(SUMPRODUCT($D$46:O46,$D$11:O11))/(O21) -> 4.3682608

Sheet 2016
A1: SÄHKÖNKULUTUSRAPORTTI | D1: 2016 | R1: http://suja.kapsi.fi/asema-taulukko.php?asema=101130
A3: Hyvinkää rivitalo 4H+K+S | D3: Asuinala | F3: 96 | G3: m2 | H3: Taloussähkö arvio (ilman lvv) | K3: 7 | L3: kWh/d | M3: Kesäkuukaudet | O3: =(SUM(I11:K11))/92 -> 10.473043 | P3: kWh/d
D4: Tilavuus | F4: =2.52*F3 -> 241.92 | G4: m3
A6: Jakso | D6: Tammi | E6: Helmi | F6: Maalis | G6: Huhti | H6: Touko | I6: Kesä | J6: Heinä | K6: Elo | L6: Syys | M6: Loka | N6: Marras | O6: Joulu | P6: Yhteensä
B7: päivät kuukaudessa | D7: 31 | E7: 29 | F7: 31 | G7: 30 | H7: 31 | I7: 30 | J7: 31 | K7: 31 | L7: 30 | M7: 31 | N7: 30 | O7: 31 | P7: =SUM(D7:O7) -> 366
A8: 2016 | B8: Keskilämpötila | C8: oC | D8: -11.12 | E8: -1.09 | F8: -0.39 | G8: 4.23 | H8: 13 | I8: 14.86 | J8: 16.7 | K8: 14.9 | L8: 11.4 | M8: 3.74 | N8: -1.7 | O8: -1.77 | P8: =AVERAGE(D8:O8) -> 5.23 | R8: =AVERAGE(D8:H8,L8:O8) -> 1.8111111
A9: 2016 | B9: Sähkö päivä | C9: kWh | D9: 765.97 | E9: 409.62 | F9: 407.28 | G9: 309.79 | H9: 165.38 | I9: 198.69 | J9: 128.18 | K9: 202.11 | L9: 217.94 | M9: 330.23 | N9: 488.01 | O9: 503 | P9: =SUM(D9:O9) -> 4126.2 | R9: =P9/$P$11 -> 0.54127515
A10: 2016 | B10: Sähkö yö | C10: kWh | D10: 587.88 | E10: 305.97 | F10: 396.46 | G10: 311.1 | H10: 181.35 | I10: 157.24 | J10: 107.91 | K10: 169.39 | L10: 224.07 | M10: 291.85 | N10: 376.29 | O10: 387.4 | P10: =SUM(D10:O10) -> 3496.91 | R10: =P10/$P$11 -> 0.45872485
A11: 2016 | B11: Sähkö yhteensä | C11: kWh | D11: =SUM(D9:D10) -> 1353.85 | E11: =SUM(E9:E10) -> 715.59 | F11: =SUM(F9:F10) -> 803.74 | G11: =SUM(G9:G10) -> 620.89 | H11: =SUM(H9:H10) -> 346.73 | I11: =SUM(I9:I10) -> 355.93 | J11: =SUM(J9:J10) -> 236.09 | K11: =SUM(K9:K10) -> 371.5 | ... O11: =SUM(O9:O10) -> 890.4 | P11: =SUM(D11:O11) -> 7623.11 | R11: =P11/$P$11 -> 1
A12: 2016 | B12: Ilmalämpöpumppu | C12: kWh | D12: =(1575.85-797.7) -> 778.15 | E12: 344 | F12: =2243-1920 -> 323 | G12: 186 | H12: =(2458-2429) -> 29 | I12: 20.4 | J12: =(2+4.841) -> 6.841 | K12: =(33.247-4.841) -> 28.406 | L12: =(96.625-33.247) -> 63.378 | M12: =(306.565-96.625) -> 209.94 | N12: =(697.608-306.565) -> 391.043 | O12: =(1086.54-697.608) -> 388.932 | P12: =SUM(D12:O12) -> 2769.09 | R12: =P12/$P$11 -> 0.36324938 | X12: =P12+'2015'!X12 -> 14857.471
A13: 2016 | B13: Lämmitystarveluku toteutunut | C13: oCd | D13: 905 | E13: 526 | F13: 535 | G13: 370 | H13: 46 | I13: 37 | J13: 5 | K13: 12 | L13: =143/1.02 -> 140.19608 | M13: =412/1.02 -> 403.92157 | N13: =553/1.02 -> 542.15686 | O13: =586/1.02 -> 574.5098 | P13: =SUM(D13:O13) -> 4096.7843 | R13: =(P14-P13)/P14 -> 0.048587015
A14: 2016 | B14: Lämmitystarveluku normivuosi | C14: oCd | D14: 712 | E14: 664 | F14: 598 | G14: 387 | H14: 156 | I14: 20 | J14: 4 | K14: 30 | L14: 187 | M14: 375 | N14: 518 | O14: 655 | P14: =SUM(D14:O14) -> 4306
A15: 2016 | B15: Lämminvesivaraaja | C15: kWh | D15: 209 | E15: 140 | F15: 213 | G15: 184.5 | H15: 138.5 | I15: 164.1 | J15: 88.2 | K15: 154.5 | L15: 176.1 | M15: 189.94698 | N15: 208.64 | O15: 197.65185 | P15: =SUM(D15:O15) -> 2064.1388
A16: 2016 | B16: Lämmityssähkö (arvio) | C16: kWh | D16: =D12+10 -> 788.15 | E16: =E12 -> 344 | F16: =F12 -> 323 | G16: =G12 -> 186 | H16: =H12 -> 29 | I16: =I12 -> 20.4 | J16: =J12 -> 6.841 | K16: =K12 -> 28.406 | L16: =L12 -> 63.378 | ... O16: =O12 -> 388.932 | P16: =SUM(D16:O16) -> 2779.09 | R16: =P11-P15-P16 -> 2779.8812
A17: 2016 | B17: Sääkorjattu lämmityssähkö | C17: kWh | D17: =IF(D16<0,0,((D14/D13))*D16) -> 620.06939 | E17: =IF(E16<0,0,((E14/E13))*E16) -> 434.25095 | F17: =IF(F16<0,0,((F14/F13))*F16) -> 361.03551 | G17: =IF(G16<0,0,((G14/G13))*G16) -> 194.54595 | H17: =IF(H16<0,0,((H14/H13))*H16) -> 98.347826 | I17: =I16 -> 20.4 | J17: =J16 -> 6.841 | K17: =K16 -> 28.406 | L17: =IF(L16<0,0,((L14/L13))*L16) -> 84.536502 | M17: =IF(M16<0,0,((M14/M13))*M16) -> 194.90789 | N17: =IF(N16<0,0,((N14/N13))*N16) -> 373.61931 | O17: =IF(O16<0,0,((O14/O13))*O16) -> 443.4223 | P17: =SUM(D17:O17) -> 2860.3826
A20: Kulutus päivässä | C20: kWh/d | D20: =D11/D7 -> 43.672581 | E20: =E11/E7 -> 24.675517 | F20: =F11/F7 -> 25.927097 | G20: =G11/G7 -> 20.696333 | H20: =H11/H7 -> 11.184839 | I20: =I11/I7 -> 11.864333 | J20: =J11/J7 -> 7.6158065 | K20: =K11/K7 -> 11.983871 | ... O20: =O11/O7 -> 28.722581 | P20: =P11/365 -> 20.885233
B21: Kumulatiivinen kulutus | C21: kWh | D21: =SUM(D11) -> 1353.85 | E21: =SUM($D$11:E11) -> 2069.44 | F21: =SUM($D$11:F11) -> 2873.18 | G21: =SUM($D$11:G11) -> 3494.07 | H21: =SUM($D$11:H11) -> 3840.8 | I21: =SUM($D$11:I11) -> 4196.73 | J21: =SUM($D$11:J11) -> 4432.82 | K21: =SUM($D$11:K11) -> 4804.32 | L21: =SUM($D$11:L11) -> 5246.33 | ... O21: =SUM($D$11:O11) -> 7623.11
B22: Kumulatiivinen kulutus ILP | C22: kWh | D22: =SUM(D12) -> 778.15 | E22: =SUM($D$12:E12) -> 1122.15 | F22: =SUM($D$12:F12) -> 1445.15 | G22: =SUM($D$12:G12) -> 1631.15 | H22: =SUM($D$12:H12) -> 1660.15 | I22: =SUM($D$12:I12) -> 1680.55 | J22: =SUM($D$12:J12) -> 1687.391 | K22: =SUM($D$12:K12) -> 1715.797 | L22: =SUM($D$12:L12) -> 1779.175 | ... O22: =SUM($D$12:O12) -> 2769.09
B23: Kumulatiivinen kulutus lämmitys | C23: kWh | D23: =SUM(D16) -> 788.15 | E23: =SUM($D$16:E16) -> 1132.15 | F23: =SUM($D$16:F16) -> 1455.15 | G23: =SUM($D$16:G16) -> 1641.15 | H23: =SUM($D$16:H16) -> 1670.15 | I23: =SUM($D$16:I16) -> 1690.55 | J23: =SUM($D$16:J16) -> 1697.391 | K23: =SUM($D$16:K16) -> 1725.797 | L23: =SUM($D$16:L16) -> 1789.175 | ... O23: =SUM($D$16:O16) -> 2779.09
B24: Taloussähkö ilman LKV | C24: kWh | D24: =(D11-D16-D15)/D7 -> 11.506452 | E24: =(E11-E16-E15)/E7 -> 7.9858621 | F24: =(F11-F16-F15)/F7 -> 8.6367742 | G24: =(G11-G16-G15)/G7 -> 8.3463333 | H24: =(H11-H16-H15)/H7 -> 5.7816129 | I24: =(I11-I16-I15)/I7 -> 5.7143333 | J24: =(J11-J16-J15)/J7 -> 4.5499677 | K24: =(K11-K16-K15)/K7 -> 6.0836774 | ... P24: =(P11-P16-P15)/P7 -> 7.5953038
B25: Liukuva 12 kk kulutus | C25: kWh | D25: =D21+'2015'!$P$11-'2015'!D21 -> 7388.8 | E25: =E21+'2015'!$P$11-'2015'!E21 -> 7448.88 | F25: =F21+'2015'!$P$11-'2015'!F21 -> 7436.47 | G25: =G21+'2015'!$P$11-'2015'!G21 -> 7414.86 | H25: =H21+'2015'!$P$11-'2015'!H21 -> 7295.73 | I25: =I21+'2015'!$P$11-'2015'!I21 -> 7248.32 | J25: =J21+'2015'!$P$11-'2015'!J21 -> 7270.03 | K25: =K21+'2015'!$P$11-'2015'!K21 -> 7344.25 | ... O25: =O21+'2015'!$P$11-'2015'!O21 -> 7623.11
A26: Lämmitys
B27: Lämmityksen osuus kulutuksesta | D27: =D16/D11 -> 0.5821546 | E27: =E16/E11 -> 0.4807222 | F27: =F16/F11 -> 0.40187125 | G27: =G16/G11 -> 0.29956997 | H27: =H16/H11 -> 0.083638566 | I27: =I16/I11 -> 0.057314641 | J27: =J16/J11 -> 0.028976238 | K27: =K16/K11 -> 0.076462988 | ... P27: =P16/P11 -> 0.36456118
B28: Sähkönkulutus lämmitykseen | C28: kWh/oCd | D28: =D16/D13 -> 0.87088398 | E28: =E16/E13 -> 0.6539924 | F28: =F16/F13 -> 0.60373832 | G28: =G16/G13 -> 0.5027027 | H28: =H16/H13 -> 0.63043478 | L28: =L16/L13 -> 0.45206685 | M28: =M16/M13 -> 0.51975437 | N28: =N16/N13 -> 0.7212728 | O28: =O16/O13 -> 0.67698061 | P28: =P16/P13 -> 0.67835888
B29: Sähkönkulutus lämmitykseen | C29: kWh/d | D29: =D16/D7 -> 25.424194 | E29: =E16/E7 -> 11.862069 | F29: =F16/F7 -> 10.419355 | G29: =G16/G7 -> 6.2 | H29: =H16/H7 -> 0.93548387 | I29: =I16/I7 -> 0.68 | J29: =J16/J7 -> 0.22067742 | K29: =K16/K7 -> 0.91632258 | ... P29: =P16/P7 -> 7.5931421
B30: Norm sähkö lämmitykseen | C30: kWh/d | D30: =D17/D7 -> 20.002238 | E30: =E17/E7 -> 14.974171 | F30: =F17/F7 -> 11.646307 | G30: =G17/G7 -> 6.4848649 | H30: =H17/H7 -> 3.1725105 | I30: =I17/I7 -> 0.68 | J30: =J17/J7 -> 0.22067742 | K30: =K17/K7 -> 0.91632258 | ... P30: =P17/P7 -> 7.8152531
B31: Ominaislämmönkulutus | C31: kWh/m3 | D31: =D16/$F$4 -> 3.2578952 | E31: =E16/$F$4 -> 1.4219577 | F31: =F16/$F$4 -> 1.3351521 | G31: =G16/$F$4 -> 0.76884921 | H31: =H16/$F$4 -> 0.11987434 | I31: =I16/$F$4 -> 0.084325397 | J31: =J16/$F$4 -> 0.028277943 | K31: =K16/$F$4 -> 0.11741898 | ... P31: =P16/$F$4 -> 11.487641
B32: Ominaislämmönkulutus | C32: kWh/m2 | D32: =D16/$F$3 -> 8.2098958 | E32: =E16/$F$3 -> 3.5833333 | F32: =F16/$F$3 -> 3.3645833 | G32: =G16/$F$3 -> 1.9375 | H32: =H16/$F$3 -> 0.30208333 | I32: =I16/$F$3 -> 0.2125 | J32: =J16/$F$3 -> 0.071260417 | K32: =K16/$F$3 -> 0.29589583 | ... P32: =P16/$F$3 -> 28.948854
B33: Norm lämmönkulutus | C33: kWh/m3 | D33: =D17/$F$4 -> 2.5631175 | E33: =E17/$F$4 -> 1.7950188 | F33: =F17/$F$4 -> 1.4923756 | G33: =G17/$F$4 -> 0.80417471 | H33: =H17/$F$4 -> 0.40653037 | I33: =I17/$F$4 -> 0.084325397 | J33: =J17/$F$4 -> 0.028277943 | K33: =K17/$F$4 -> 0.11741898 | ... P33: =P17/$F$4 -> 11.823672
B34: Norm lämmönkulutus | C34: kWh/m2 | D34: =D17/$F$3 -> 6.4590562 | E34: =E17/$F$3 -> 4.5234474 | F34: =F17/$F$3 -> 3.7607866 | G34: =G17/$F$3 -> 2.0265203 | H34: =H17/$F$3 -> 1.0244565 | I34: =I17/$F$3 -> 0.2125 | J34: =J17/$F$3 -> 0.071260417 | K34: =K17/$F$3 -> 0.29589583 | ... P34: =P17/$F$3 -> 29.795652
B35: Ominaislämmönkulutus | C35: Wh/m3/oCd | D35: =1000*D31/D13 -> 3.5998842 | E35: =1000*E31/E13 -> 2.7033416 | F35: =1000*F31/F13 -> 2.4956114 | G35: =1000*G31/G13 -> 2.0779708 | H35: =1000*H31/H13 -> 2.6059639 | L35: =1000*L31/L13 -> 1.8686626 | M35: =1000*M31/M13 -> 2.1484556 | N35: =1000*N31/N13 -> 2.9814517 | O35: =1000*O31/O13 -> 2.7983656 | P35: =1000*P31/P13 -> 2.8040628
A37: Vuosikulutusarvio
B39: Lämmityssähkö ILPillä | D39: 2500 | E39: kWh | G39: Arvio lämmityssähkö ilman ILP | K39: 6100 | L39: kWh | M39: Vuosikulutusarvio ilma ILP
B40: Lämminvesi | D40: 2000 | E40: kWh | G40: Arvio ILPin säästämästä sähköstä | K40: =K39-D39 -> 3600 | L40: kWh | N40: 9600 | O40: kWh
B41: Taloussähkö | D41: 2800 | E41: kWh | G41: Säästöarvio lämmityssähkönkulutuksesta | K41: =K40/K39 -> 0.59016393
B42: Yhteensä | D42: =SUM(D39:D41) -> 7300 | E42: kWh | G42: Säästöarvio kokonaissähkönkulutuksesta | K42: =K40/(SUM(D40:D41)+K39) -> 0.33027523
A45: Sähkön hinta
B46: pörssisähkön hinta | C46: c/kWh | D46: 5.01 | E46: 3.5 | F46: 3.47 | G46: 3.43 | H46: 3.54 | I46: 4.34 | J46: 4.13 | K46: 4.18 | L46: 4.13 | M46: 4.84 | N46: 5.48 | O46: 4.6
B48: liukuva vuosikeskihinta | C48: c/kWh | D48: =(SUMPRODUCT($D$46:D46,$D$11:D11)+SUMPRODUCT('2015'!E$46:$O46,'2015'!E$11:$O11))/(D21+SUM('2015'!E$11:$O11)) -> 4.017062 | E48: =(SUMPRODUCT($D$46:E46,$D$11:E11)+SUMPRODUCT('2015'!F$46:$O46,'2015'!F$11:$O11))/(E21+SUM('2015'!F$11:$O11)) -> 3.9398506 | F48: =(SUMPRODUCT($D$46:F46,$D$11:F11)+SUMPRODUCT('2015'!G$46:$O46,'2015'!G$11:$O11))/(F21+SUM('2015'!G$11:$O11)) -> 3.9044173 | G48: =(SUMPRODUCT($D$46:G46,$D$11:G11)+SUMPRODUCT('2015'!H$46:$O46,'2015'!H$11:$O11))/(G21+SUM('2015'!H$11:$O11)) -> 3.8737393 | H48: =(SUMPRODUCT($D$46:H46,$D$11:H11)+SUMPRODUCT('2015'!I$46:$O46,'2015'!I$11:$O11))/(H21+SUM('2015'!I$11:$O11)) -> 3.8945137 | I48: =(SUMPRODUCT($D$46:I46,$D$11:I11)+SUMPRODUCT('2015'!J$46:$O46,'2015'!J$11:$O11))/(I21+SUM('2015'!J$11:$O11)) -> 3.9889804 | J48: =(SUMPRODUCT($D$46:J46,$D$11:J11)+SUMPRODUCT('2015'!K$46:$O46,'2015'!K$11:$O11))/(J21+SUM('2015'!K$11:$O11)) -> 4.0144665 | K48: =(SUMPRODUCT($D$46:K46,$D$11:K11)+SUMPRODUCT('2015'!L$46:$O46,'2015'!L$11:$O11))/(K21+SUM('2015'!L$11:$O11)) -> 4.0133059 | ... N48: =(SUMPRODUCT($D$46:N46,$D$11:N11)+SUMPRODUCT('2015'!O$46:$O46,'2015'!O$11:$O11))/(N21+SUM('2015'!O$11:$O11)) -> 4.2398024 | O48: =(SUMPRODUCT($D$46:O46,$D$11:O11))/(O21) -> 4.351851

Sheet 2015
A1: SÄHKÖNKULUTUSRAPORTTI | D1: 2015 | R1: http://www.saapalvelu.fi/kytaja/kuukausitilastot.php
A3: Hyvinkää rivitalo 4H+K+S | D3: Asuinala | F3: 96 | G3: m2 | H3: Taloussähkö arvio (ilman lvv) | K3: 7 | L3: kWh/d | M3: Kesäkuukaudet | O3: =(SUM(I11:K11))/92 -> 9.9456522 | P3: kWh/d
D4: Tilavuus | F4: =2.52*F3 -> 241.92 | G4: m3
A6: Jakso | D6: Tammi | E6: Helmi | F6: Maalis | G6: Huhti | H6: Touko | I6: Kesä | J6: Heinä | K6: Elo | L6: Syys | M6: Loka | N6: Marras | O6: Joulu | P6: Yhteensä
D7: 31 | E7: 28 | F7: 31 | G7: 30 | H7: 31 | I7: 30 | J7: 31 | K7: 31 | L7: 30 | M7: 31 | N7: 30 | O7: 31 | P7: =SUM(D7:O7) -> 365
A8: 2015 | B8: Keskilämpötila | C8: oC | D8: -2.88 | E8: -0.72 | F8: 1.05 | G8: 4.73 | H8: 9.14 | I8: 12.91 | J8: 15.28 | K8: 15.68 | L8: 11.43 | M8: 3.81 | N8: 3.8 | O8: 1.51 | P8: =AVERAGE(D8:O8) -> 6.3116667
A9: 2015 | B9: Sähkö päivä | C9: kWh | D9: 543.23 | E9: 361.97 | F9: 428.06 | G9: 321.8 | H9: 237.6 | I9: 215.78 | J9: 109.81 | K9: 139.6 | L9: 203.36 | M9: 338.04 | N9: 369.29 | O9: 423.69 | P9: =SUM(D9:O9) -> 3692.23 | R9: =P9/$P$11 -> 0.52695254
A10: 2015 | B10: Sähkö yö | C10: kWh | D10: 428.58 | E10: 293.54 | F10: 388.09 | G10: 320.7 | H10: 228.26 | I10: 187.56 | J10: 104.57 | K10: 157.68 | L10: 235.8 | M10: 312.4 | N10: 318.77 | O10: 338.58 | P10: =SUM(D10:O10) -> 3314.53 | R10: =P10/$P$11 -> 0.47304746
A11: 2015 | B11: Sähkö yhteensä | C11: kWh | D11: =SUM(D9:D10) -> 971.81 | E11: =SUM(E9:E10) -> 655.51 | F11: =SUM(F9:F10) -> 816.15 | G11: =SUM(G9:G10) -> 642.5 | H11: =SUM(H9:H10) -> 465.86 | I11: =SUM(I9:I10) -> 403.34 | J11: =SUM(J9:J10) -> 214.38 | K11: =SUM(K9:K10) -> 297.28 | ... O11: =SUM(O9:O10) -> 762.27 | P11: =SUM(D11:O11) -> 7006.76 | R11: =P11/$P$11 -> 1
A12: 2015 | B12: Ilmalämpöpumppu | C12: kWh | D12: =(1511-1009) -> 502 | E12: =(1833-1511) -> 322 | F12: =(2133-1833) -> 300 | G12: 231.4 | H12: 115 | I12: =(2534-2489-1) -> 44 | J12: =(2542.19-2534+5) -> 13.19 | K12: =(12-5) -> 7 | L12: 68.3 | M12: 209.5 | N12: 231 | O12: 289 | P12: =SUM(D12:O12) -> 2332.39 | R12: =P12/$P$11 -> 0.33287711 | X12: =P12+'2014'!X12 -> 12088.381
A13: 2015 | B13: Lämmitystarveluku toteutunut | C13: oCd | D13: 627 | E13: 502 | F13: 499 | G13: 366 | H13: 184 | I13: 15 | J13: 0 | K13: 5 | L13: 115 | M13: 404 | N13: 393 | O13: 480 | P13: =SUM(D13:O13) -> 3590
A14: 2015 | B14: Lämmitystarveluku normivuosi | C14: oCd | D14: 712 | E14: 664 | F14: 598 | G14: 387 | H14: 156 | I14: 20 | J14: 4 | K14: 30 | L14: 187 | M14: 375 | N14: 518 | O14: 655 | P14: =SUM(D14:O14) -> 4306
A15: 2015 | B15: Lämminvesivaraaja | C15: kWh | D15: 193 | E15: 125 | F15: 208 | G15: 207 | H15: 156 | I15: 157 | J15: 84 | K15: 123 | L15: 174 | M15: 202 | N15: 197 | O15: 177 | P15: =SUM(D15:O15) -> 2003
A16: 2015 | B16: Lämmityssähkö (arvio) | C16: kWh | D16: =D12 -> 502 | E16: =E12 -> 322 | F16: =F12 -> 300 | G16: =G12 -> 231.4 | H16: =H12 -> 115 | I16: =I12 -> 44 | J16: =J12 -> 13.19 | K16: =K12 -> 7 | ... O16: =O12 -> 289 | P16: =SUM(D16:O16) -> 2332.39
A17: 2015 | B17: Sääkorjattu lämmityssähkö | C17: kWh | D17: =IF(D16<0,0,((D14/D13))*D16) -> 570.05423 | E17: =IF(E16<0,0,((E14/E13))*E16) -> 425.91235 | F17: =IF(F16<0,0,((F14/F13))*F16) -> 359.51904 | G17: =IF(G16<0,0,((G14/G13))*G16) -> 244.67705 | H17: =IF(H16<0,0,((H14/H13))*H16) -> 97.5 | I17: =I16 -> 44 | J17: =J16 -> 13.19 | K17: =K16 -> 7 | L17: =IF(L16<0,0,((L14/L13))*L16) -> 111.06174 | M17: =IF(M16<0,0,((M14/M13))*M16) -> 194.46163 | N17: =IF(N16<0,0,((N14/N13))*N16) -> 304.47328 | O17: =IF(O16<0,0,((O14/O13))*O16) -> 394.36458 | P17: =SUM(D17:O17) -> 2766.2139 | R17: =P11-P12-P16 -> 2341.98
A20: Kulutus päivässä | C20: kWh/d | D20: =D11/D7 -> 31.34871 | E20: =E11/E7 -> 23.411071 | F20: =F11/F7 -> 26.327419 | G20: =G11/G7 -> 21.416667 | H20: =H11/H7 -> 15.027742 | I20: =I11/I7 -> 13.444667 | J20: =J11/J7 -> 6.9154839 | K20: =K11/K7 -> 9.5896774 | ... O20: =O11/O7 -> 24.589355 | P20: =P11/365 -> 19.196603
B21: Kumulatiivinen kulutus | C21: kWh | D21: =SUM(D11) -> 971.81 | E21: =SUM($D$11:E11) -> 1627.32 | F21: =SUM($D$11:F11) -> 2443.47 | G21: =SUM($D$11:G11) -> 3085.97 | H21: =SUM($D$11:H11) -> 3551.83 | I21: =SUM($D$11:I11) -> 3955.17 | J21: =SUM($D$11:J11) -> 4169.55 | K21: =SUM($D$11:K11) -> 4466.83 | L21: =SUM($D$11:L11) -> 4905.99 | ... O21: =SUM($D$11:O11) -> 7006.76
B22: Kumulatiivinen kulutus ILP | C22: kWh | D22: =SUM(D12) -> 502 | E22: =SUM($D$12:E12) -> 824 | F22: =SUM($D$12:F12) -> 1124 | G22: =SUM($D$12:G12) -> 1355.4 | H22: =SUM($D$12:H12) -> 1470.4 | I22: =SUM($D$12:I12) -> 1514.4 | J22: =SUM($D$12:J12) -> 1527.59 | K22: =SUM($D$12:K12) -> 1534.59 | L22: =SUM($D$12:L12) -> 1602.89 | ... O22: =SUM($D$12:O12) -> 2332.39
B23: Kumulatiivinen kulutus lämmitys | C23: kWh | D23: =SUM(D16) -> 502 | E23: =SUM($D$16:E16) -> 824 | F23: =SUM($D$16:F16) -> 1124 | G23: =SUM($D$16:G16) -> 1355.4 | H23: =SUM($D$16:H16) -> 1470.4 | I23: =SUM($D$16:I16) -> 1514.4 | J23: =SUM($D$16:J16) -> 1527.59 | K23: =SUM($D$16:K16) -> 1534.59 | L23: =SUM($D$16:L16) -> 1602.89 | ... O23: =SUM($D$16:O16) -> 2332.39
B24: Taloussähkö ilma LKV | C24: kWh | D24: =(D11-D12-D15)/D7 -> 8.9293548 | E24: =(E11-E12-E15)/E7 -> 7.4467857 | F24: =(F11-F12-F15)/F7 -> 9.9403226 | G24: =(G11-G12-G15)/G7 -> 6.8033333 | H24: =(H11-H12-H15)/H7 -> 6.2858065 | I24: =(I11-I12-I15)/I7 -> 6.7446667 | J24: =(J11-J12-J15)/J7 -> 3.7803226 | K24: =(K11-K12-K15)/K7 -> 5.396129 | ... P24: =(P11-P12-P15)/P7 -> 7.3188219
B25: Liukuva 12 kk kulutus | C25: kWh | D25: =D21+'2014'!$P$11-'2014'!D21 -> 6901.18 | E25: =E21+'2014'!$P$11-'2014'!E21 -> 6934.55 | F25: =F21+'2014'!$P$11-'2014'!F21 -> 6997 | G25: =G21+'2014'!$P$11-'2014'!G21 -> 7051.48 | H25: =H21+'2014'!$P$11-'2014'!H21 -> 6985.96 | I25: =I21+'2014'!$P$11-'2014'!I21 -> 7078.54 | J25: =J21+'2014'!$P$11-'2014'!J21 -> 7075.78 | K25: =K21+'2014'!$P$11-'2014'!K21 -> 7019.53 | ... O25: =O21+'2014'!$P$11-'2014'!O21 -> 7006.76
A26: Lämmitys
B27: Lämmityksen osuus kulutuksesta | D27: =D16/D11 -> 0.51656188 | E27: =E16/E11 -> 0.49122058 | F27: =F16/F11 -> 0.36757949 | G27: =G16/G11 -> 0.36015564 | H27: =H16/H11 -> 0.24685528 | I27: =I16/I11 -> 0.10908911 | J27: =J16/J11 -> 0.061526262 | K27: =K16/K11 -> 0.023546825 | ... P27: =P16/P11 -> 0.33287711
B28: Sähkönkulutus lämmitykseen | C28: kWh/oCd | D28: =D16/D13 -> 0.80063796 | E28: =E16/E13 -> 0.64143426 | F28: =F16/F13 -> 0.6012024 | G28: =G16/G13 -> 0.63224044 | H28: =H16/H13 -> 0.625 | L28: =L16/L13 -> 0.59391304 | M28: =M16/M13 -> 0.51856436 | N28: =N16/N13 -> 0.58778626 | O28: =O16/O13 -> 0.60208333 | P28: =P16/P13 -> 0.64969081
B29: Sähkönkulutus lämmitykseen | C29: kWh/d | D29: =D16/D7 -> 16.193548 | E29: =E16/E7 -> 11.5 | F29: =F16/F7 -> 9.6774194 | G29: =G16/G7 -> 7.7133333 | H29: =H16/H7 -> 3.7096774 | I29: =I16/I7 -> 1.4666667 | J29: =J16/J7 -> 0.42548387 | K29: =K16/K7 -> 0.22580645 | ... P29: =P16/P7 -> 6.3901096
B30: Norm sähkö lämmitykseen | C30: kWh/d | D30: =D17/D7 -> 18.388846 | E30: =E17/E7 -> 15.211155 | F30: =F17/F7 -> 11.597388 | G30: =G17/G7 -> 8.1559016 | H30: =H17/H7 -> 3.1451613 | I30: =I17/I7 -> 1.4666667 | J30: =J17/J7 -> 0.42548387 | K30: =K17/K7 -> 0.22580645 | ... P30: =P17/P7 -> 7.5786682
B31: Ominaislämmönkulutus | C31: kWh/m3 | D31: =D16/$F$4 -> 2.0750661 | E31: =E16/$F$4 -> 1.3310185 | F31: =F16/$F$4 -> 1.2400794 | G31: =G16/$F$4 -> 0.95651455 | H31: =H16/$F$4 -> 0.47536376 | I31: =I16/$F$4 -> 0.18187831 | J31: =J16/$F$4 -> 0.054522156 | K31: =K16/$F$4 -> 0.028935185 | ... P31: =P16/$F$4 -> 9.6411624
B32: Ominaislämmönkulutus | C32: kWh/m2 | D32: =D16/$F$3 -> 5.2291667 | E32: =E16/$F$3 -> 3.3541667 | F32: =F16/$F$3 -> 3.125 | G32: =G16/$F$3 -> 2.4104167 | H32: =H16/$F$3 -> 1.1979167 | I32: =I16/$F$3 -> 0.45833333 | J32: =J16/$F$3 -> 0.13739583 | K32: =K16/$F$3 -> 0.072916667 | ... P32: =P16/$F$3 -> 24.295729
B33: Norm lämmönkulutus | C33: kWh/m3 | D33: =D17/$F$4 -> 2.3563749 | E33: =E17/$F$4 -> 1.7605504 | F33: =F17/$F$4 -> 1.4861071 | G33: =G17/$F$4 -> 1.0113965 | H33: =H17/$F$4 -> 0.40302579 | I33: =I17/$F$4 -> 0.18187831 | J33: =J17/$F$4 -> 0.054522156 | K33: =K17/$F$4 -> 0.028935185 | ... P33: =P17/$F$4 -> 11.434416
B34: Norm lämmönkulutus | C34: kWh/m2 | D34: =D17/$F$3 -> 5.9380649 | E34: =E17/$F$3 -> 4.436587 | F34: =F17/$F$3 -> 3.74499 | G34: =G17/$F$3 -> 2.5487193 | H34: =H17/$F$3 -> 1.015625 | I34: =I17/$F$3 -> 0.45833333 | J34: =J17/$F$3 -> 0.13739583 | K34: =K17/$F$3 -> 0.072916667 | ... P34: =P17/$F$3 -> 28.814728
B35: Ominaislämmönkulutus | C35: Wh/m3/oCd | D35: =1000*D31/D13 -> 3.3095154 | E35: =1000*E31/E13 -> 2.6514313 | F35: =1000*F31/F13 -> 2.485129 | G35: =1000*G31/G13 -> 2.6134277 | H35: =1000*H31/H13 -> 2.5834987 | L35: =1000*L31/L13 -> 2.4549977 | M35: =1000*M31/M13 -> 2.1435365 | N35: =1000*N31/N13 -> 2.429672 | O35: =1000*O31/O13 -> 2.4887704 | P35: =1000*P31/P13 -> 2.6855605
A37: Vuosikulutusarvio
B39: Lämmityssähkö ILPillä | D39: 2300 | E39: kWh | G39: Arvio lämmityssähkö ilman ILP | K39: 7000 | L39: kWh | M39: Vuosikulutusarvio ilma ILP
B40: Lämminvesi | D40: 2300 | E40: kWh | G40: Arvio ILPin säästämästä sähköstä | K40: =K39-D39 -> 4700 | L40: kWh | N40: =SUM(D40:D41,K39) -> 11700 | O40: kWh
B41: Taloussähkö | D41: 2400 | E41: kWh | G41: Säästöarvio lämmityssähkönkulutuksesta | K41: =K40/K39 -> 0.67142857
B42: Yhteensä | D42: =SUM(D39:D41) -> 7000 | E42: kWh | G42: Säästöarvio kokonaissähkönkulutuksesta | K42: =K40/(SUM(D40:D41)+K39) -> 0.4017094
A45: Sähkön hinta
B46: pörssisähkön hinta | C46: c/kWh | D46: 4.5 | E46: 4.33 | F46: 3.8 | G46: 3.8 | H46: 3.3 | I46: 2.59 | J46: 3.28 | K46: 4.25 | L46: 3.88 | M46: 4.21 | N46: 4.11 | O46: 3.54
B48: liukuva vuosikeskihinta | C48: c/kWh | D48: =(SUMPRODUCT($D$46:D46,$D$11:D11)+SUMPRODUCT('2014'!E$46:$O46,'2014'!E$11:$O11))/(D21+SUM('2014'!E$11:$O11)) -> 4.6177798 | E48: =(SUMPRODUCT($D$46:E46,$D$11:E11)+SUMPRODUCT('2014'!F$46:$O46,'2014'!F$11:$O11))/(E21+SUM('2014'!F$11:$O11)) -> 4.5930688 | F48: =(SUMPRODUCT($D$46:F46,$D$11:F11)+SUMPRODUCT('2014'!G$46:$O46,'2014'!G$11:$O11))/(F21+SUM('2014'!G$11:$O11)) -> 4.5472121 | G48: =(SUMPRODUCT($D$46:G46,$D$11:G11)+SUMPRODUCT('2014'!H$46:$O46,'2014'!H$11:$O11))/(G21+SUM('2014'!H$11:$O11)) -> 4.5147544 | H48: =(SUMPRODUCT($D$46:H46,$D$11:H11)+SUMPRODUCT('2014'!I$46:$O46,'2014'!I$11:$O11))/(H21+SUM('2014'!I$11:$O11)) -> 4.4295461 | I48: =(SUMPRODUCT($D$46:I46,$D$11:I11)+SUMPRODUCT('2014'!J$46:$O46,'2014'!J$11:$O11))/(I21+SUM('2014'!J$11:$O11)) -> 4.3163663 | J48: =(SUMPRODUCT($D$46:J46,$D$11:J11)+SUMPRODUCT('2014'!K$46:$O46,'2014'!K$11:$O11))/(J21+SUM('2014'!K$11:$O11)) -> 4.2710457 | K48: =(SUMPRODUCT($D$46:K46,$D$11:K11)+SUMPRODUCT('2014'!L$46:$O46,'2014'!L$11:$O11))/(K21+SUM('2014'!L$11:$O11)) -> 4.2354561 | ... N48: =(SUMPRODUCT($D$46:N46,$D$11:N11)+SUMPRODUCT('2014'!O$46:$O46,'2014'!O$11:$O11))/(N21+SUM('2014'!O$11:$O11)) -> 4.0730075 | O48: =(SUMPRODUCT($D$46:O46,$D$11:O11))/(O21) -> 3.8921875

Sheet 2014
A1: SÄHKÖNKULUTUSRAPORTTI | D1: 2014 | R1: http://www.saapalvelu.fi/kytaja/kuukausitilastot.php
A3: Hyvinkää rivitalo 4H+K+S | D3: Asuinala | F3: 96 | G3: m2 | H3: Taloussähkö arvio (ilman lvv) | K3: 9 | L3: kWh/d | M3: Kesäkuukaudet | O3: =(SUM(I11:K11))/92 -> 9.5807609 | P3: kWh/d
D4: Tilavuus | F4: =2.52*F3 -> 241.92 | G4: m3
A6: Jakso | D6: Tammi | E6: Helmi | F6: Maalis | G6: Huhti | H6: Touko | I6: Kesä | J6: Heinä | K6: Elo | L6: Syys | M6: Loka | N6: Marras | O6: Joulu | P6: Yhteensä
D7: 31 | E7: 28 | F7: 31 | G7: 30 | H7: 31 | I7: 30 | J7: 31 | K7: 31 | L7: 30 | M7: 31 | N7: 30 | O7: 31 | P7: =SUM(D7:O7) -> 365
A8: 2014 | B8: Keskilämpötila | C8: oC | D8: -8.7 | E8: -0.6 | F8: 1 | G8: 4.8 | H8: 10.2 | I8: 12.8 | J8: 19 | K8: 17.1 | L8: 11.1 | M8: 5.1 | N8: 1.9 | O8: -2 | P8: =AVERAGE(D8:O8) -> 5.975
A9: 2014 | B9: Sähkö päivä | C9: kWh | D9: 675 | E9: 389.98 | F9: 423.22 | G9: 288.63 | H9: 244.7 | I9: 162.02 | J9: 102.63 | K9: 177.17 | L9: 228.36 | M9: 336.19 | N9: 381.86 | O9: 462.57 | P9: =SUM(D9:O9) -> 3872.33 | R9: =O9/$O$11 -> 0.56808636
A10: 2014 | B10: Sähkö yö | C10: kWh | D10: 483 | E10: 232.16 | F10: 330.48 | G10: 299.39 | H10: 286.68 | I10: 148.74 | J10: 114.51 | K10: 176.36 | L10: 194.72 | M10: 273.16 | N10: 324.15 | O10: 351.69 | P10: =SUM(D10:O10) -> 3215.04 | R10: =O10/$O$11 -> 0.43191364
A11: 2014 | B11: Sähkö yhteensä | C11: kWh | D11: =SUM(D9:D10) -> 1158 | E11: =SUM(E9:E10) -> 622.14 | F11: =SUM(F9:F10) -> 753.7 | G11: =SUM(G9:G10) -> 588.02 | H11: =SUM(H9:H10) -> 531.38 | I11: =SUM(I9:I10) -> 310.76 | J11: =SUM(J9:J10) -> 217.14 | K11: =SUM(K9:K10) -> 353.53 | ... O11: =SUM(O9:O10) -> 814.26 | P11: =SUM(D11:O11) -> 7087.37 | R11: =O11/$O$11 -> 1
A12: 2014 | B12: Ilmalämpöpumppu | C12: kWh | D12: =(3989-3308) -> 681 | E12: 316 | F12: =(4610-4305) -> 305 | G12: =(4778-4610) -> 168 | H12: =(4868-4778)+(4889-4873) -> 106 | I12: 48.8 | J12: =11.23-3.475 -> 7.755 | K12: 19 | L12: 64.5 | M12: 206 | N12: =(592-302) -> 290 | O12: =(1009-592) -> 417 | P12: =SUM(D12:O12) -> 2629.055 | R12: =O12/$O$11 -> 0.51212144 | X12: =P12+'2013'!X12 -> 9755.9907
A13: 2014 | B13: Lämmitystarveluku toteutunut | C13: oCd | D13: 788 | E13: 485 | F13: 496 | G13: 350 | H13: 198 | I13: 51 | J13: 5 | K13: 23 | L13: 163 | M13: 381 | N13: 463 | O13: 590 | P13: =SUM(D13:O13) -> 3993
A14: 2014 | B14: Lämmitystarveluku normivuosi | C14: oCd | D14: 712 | E14: 664 | F14: 598 | G14: 387 | H14: 156 | I14: 20 | J14: 4 | K14: 30 | L14: 187 | M14: 375 | N14: 518 | O14: 655 | P14: =SUM(D14:O14) -> 4306
A15: 2014 | B15: Lämminvesivaraaja | C15: kWh | D15: 152.5 | E15: 91.4 | F15: 149 | G15: 149 | H15: 161 | I15: 103 | J15: 79 | K15: 116 | L15: 126 | M15: 134 | N15: 122 | O15: 138 | P15: =SUM(D15:O15) -> 1520.9
A16: 2014 | B16: Lämmityssähkö (arvio) | C16: kWh | D16: =D12 -> 681 | E16: =E12 -> 316 | F16: =F12 -> 305 | G16: =G12 -> 168 | H16: =H12 -> 106 | I16: =I12 -> 48.8 | J16: =J12 -> 7.755 | K16: =K12 -> 19 | ... O16: =O12 -> 417 | P16: =SUM(D16:O16) -> 2629.055 | R16: =P11-P15-P16 -> 2937.415
A17: 2014 | B17: Sääkorjattu lämmityssähkö | C17: kWh | D17: =IF(D16<0,0,((D14/D13))*D16) -> 615.3198 | E17: =IF(E16<0,0,((E14/E13))*E16) -> 432.6268 | F17: =IF(F16<0,0,((F14/F13))*F16) -> 367.72177 | G17: =IF(G16<0,0,((G14/G13))*G16) -> 185.76 | H17: =IF(H16<0,0,((H14/H13))*H16) -> 83.515152 | I17: =I16 -> 48.8 | J17: =J16 -> 7.755 | K17: =K16 -> 19 | L17: =IF(L16<0,0,((L14/L13))*L16) -> 73.996933 | M17: =IF(M16<0,0,((M14/M13))*M16) -> 202.75591 | N17: =IF(N16<0,0,((N14/N13))*N16) -> 324.44924 | O17: =IF(O16<0,0,((O14/O13))*O16) -> 462.94068 | P17: =SUM(D17:O17) -> 2824.6413
A20: Kulutus päivässä | C20: kWh/d | D20: =D11/D7 -> 37.354839 | E20: =E11/E7 -> 22.219286 | F20: =F11/F7 -> 24.312903 | G20: =G11/G7 -> 19.600667 | H20: =H11/H7 -> 17.14129 | I20: =I11/I7 -> 10.358667 | J20: =J11/J7 -> 7.0045161 | K20: =K11/K7 -> 11.404194 | ... O20: =O11/O7 -> 26.266452 | P20: =P11/365 -> 19.417452
B21: Kumulatiivinen kulutus | C21: kWh | D21: =SUM(D11) -> 1158 | E21: =SUM($D$11:E11) -> 1780.14 | F21: =SUM($D$11:F11) -> 2533.84 | G21: =SUM($D$11:G11) -> 3121.86 | H21: =SUM($D$11:H11) -> 3653.24 | I21: =SUM($D$11:I11) -> 3964 | J21: =SUM($D$11:J11) -> 4181.14 | K21: =SUM($D$11:K11) -> 4534.67 | L21: =SUM($D$11:L11) -> 4957.75 | ... O21: =SUM($D$11:O11) -> 7087.37
B22: Kumulatiivinen kulutus ILP | C22: kWh | D22: =SUM(D12) -> 681 | E22: =SUM($D$12:E12) -> 997 | F22: =SUM($D$12:F12) -> 1302 | G22: =SUM($D$12:G12) -> 1470 | H22: =SUM($D$12:H12) -> 1576 | I22: =SUM($D$12:I12) -> 1624.8 | J22: =SUM($D$12:J12) -> 1632.555 | K22: =SUM($D$12:K12) -> 1651.555 | L22: =SUM($D$12:L12) -> 1716.055 | ... O22: =SUM($D$12:O12) -> 2629.055
B23: Kumulatiivinen kulutus lämmitys | C23: kWh | D23: =SUM(D16) -> 681 | E23: =SUM($D$16:E16) -> 997 | F23: =SUM($D$16:F16) -> 1302 | G23: =SUM($D$16:G16) -> 1470 | H23: =SUM($D$16:H16) -> 1576 | I23: =SUM($D$16:I16) -> 1624.8 | J23: =SUM($D$16:J16) -> 1632.555 | K23: =SUM($D$16:K16) -> 1651.555 | L23: =SUM($D$16:L16) -> 1716.055 | ... O23: =SUM($D$16:O16) -> 2629.055
B24: Taloussähkö ilma LKV | D24: =(D11-D12-D15)/D7 -> 10.467742 | E24: =(E11-E12-E15)/E7 -> 7.6692857 | F24: =(F11-F12-F15)/F7 -> 9.6677419 | G24: =(G11-G12-G15)/G7 -> 9.034 | H24: =(H11-H12-H15)/H7 -> 8.5283871 | I24: =(I11-I12-I15)/I7 -> 5.2986667 | J24: =(J11-J12-J15)/J7 -> 4.2059677 | K24: =(K11-K12-K15)/K7 -> 7.0493548 | ... P24: =(P11-P12-P15)/P7 -> 8.0477123
B25: Liukuva 12 kk kulutus | C25: kWh | D25: =D21+'2013'!$P$11-'2013'!D21 -> 7414.95 | E25: =E21+'2013'!$P$11-'2013'!E21 -> 7273.09 | F25: =F21+'2013'!$P$11-'2013'!F21 -> 7068.79 | G25: =G21+'2013'!$P$11-'2013'!G21 -> 6957.81 | H25: =H21+'2013'!$P$11-'2013'!H21 -> 7112.19 | I25: =I21+'2013'!$P$11-'2013'!I21 -> 7102.95 | J25: =J21+'2013'!$P$11-'2013'!J21 -> 7073.09 | K25: =K21+'2013'!$P$11-'2013'!K21 -> 7083.62 | ... O25: =O21+'2013'!$P$11-'2013'!O21 -> 7087.37
A26: Lämmitys
B27: Lämmityksen osuus kulutuksesta | D27: =D16/D11 -> 0.5880829 | E27: =E16/E11 -> 0.50792426 | F27: =F16/F11 -> 0.40467029 | G27: =G16/G11 -> 0.28570457 | H27: =H16/H11 -> 0.1994806 | I27: =I16/I11 -> 0.15703437 | J27: =J16/J11 -> 0.035714286 | K27: =K16/K11 -> 0.053743671 | ... P27: =P16/P11 -> 0.37094931
B28: Sähkönkulutus lämmitykseen | C28: kWh/oCd | D28: =D16/D13 -> 0.8642132 | E28: =E16/E13 -> 0.65154639 | F28: =F16/F13 -> 0.61491935 | G28: =G16/G13 -> 0.48 | H28: =H16/H13 -> 0.53535354 | L28: =L16/L13 -> 0.39570552 | M28: =M16/M13 -> 0.54068241 | N28: =N16/N13 -> 0.62634989 | O28: =O16/O13 -> 0.70677966 | P28: =P16/P13 -> 0.65841598
B29: Sähkönkulutus lämmitykseen | C29: kWh/d | D29: =D16/D7 -> 21.967742 | E29: =E16/E7 -> 11.285714 | F29: =F16/F7 -> 9.8387097 | G29: =G16/G7 -> 5.6 | H29: =H16/H7 -> 3.4193548 | I29: =I16/I7 -> 1.6266667 | J29: =J16/J7 -> 0.25016129 | K29: =K16/K7 -> 0.61290323 | ... P29: =P16/P7 -> 7.2028904
B30: Norm sähkö lämmitykseen | C30: kWh/d | D30: =D17/D7 -> 19.849026 | E30: =E17/E7 -> 15.450957 | F30: =F17/F7 -> 11.861993 | G30: =G17/G7 -> 6.192 | H30: =H17/H7 -> 2.6940371 | I30: =I17/I7 -> 1.6266667 | J30: =J17/J7 -> 0.25016129 | K30: =K17/K7 -> 0.61290323 | ... P30: =P17/P7 -> 7.7387433
B31: Ominaislämmönkulutus | C31: kWh/m3 | D31: =D16/$F$4 -> 2.8149802 | E31: =E16/$F$4 -> 1.3062169 | F31: =F16/$F$4 -> 1.2607474 | G31: =G16/$F$4 -> 0.69444444 | H31: =H16/$F$4 -> 0.43816138 | I31: =I16/$F$4 -> 0.20171958 | J31: =J16/$F$4 -> 0.032056052 | K31: =K16/$F$4 -> 0.07853836 | ... P31: =P16/$F$4 -> 10.867456
B32: Ominaislämmönkulutus | C32: kWh/m2 | D32: =D16/$F$3 -> 7.09375 | E32: =E16/$F$3 -> 3.2916667 | F32: =F16/$F$3 -> 3.1770833 | G32: =G16/$F$3 -> 1.75 | H32: =H16/$F$3 -> 1.1041667 | I32: =I16/$F$3 -> 0.50833333 | J32: =J16/$F$3 -> 0.08078125 | K32: =K16/$F$3 -> 0.19791667 | ... P32: =P16/$F$3 -> 27.38599
B33: Norm lämmönkulutus | C33: kWh/m3 | D33: =D17/$F$4 -> 2.5434846 | E33: =E17/$F$4 -> 1.7883052 | F33: =F17/$F$4 -> 1.5200139 | G33: =G17/$F$4 -> 0.76785714 | H33: =H17/$F$4 -> 0.34521805 | I33: =I17/$F$4 -> 0.20171958 | J33: =J17/$F$4 -> 0.032056052 | K33: =K17/$F$4 -> 0.07853836 | ... P33: =P17/$F$4 -> 11.675931
B34: Norm lämmönkulutus | C34: kWh/m2 | D34: =D17/$F$3 -> 6.4095812 | E34: =E17/$F$3 -> 4.5065292 | F34: =F17/$F$3 -> 3.8304351 | G34: =G17/$F$3 -> 1.935 | H34: =H17/$F$3 -> 0.86994949 | I34: =I17/$F$3 -> 0.50833333 | J34: =J17/$F$3 -> 0.08078125 | K34: =K17/$F$3 -> 0.19791667 | ... P34: =P17/$F$3 -> 29.423347
B35: Ominaislämmönkulutus | C35: Wh/m3/oCd | D35: =1000*D31/D13 -> 3.5723098 | E35: =1000*E31/E13 -> 2.6932308 | F35: =1000*F31/F13 -> 2.5418293 | G35: =1000*G31/G13 -> 1.984127 | H35: =1000*H31/H13 -> 2.2129362 | L35: =1000*L31/L13 -> 1.6356875 | M35: =1000*M31/M13 -> 2.2349637 | N35: =1000*N31/N13 -> 2.5890786 | O35: =1000*O31/O13 -> 2.9215429 | P35: =1000*P31/P13 -> 2.7216269
A37: Vuosikulutusarvio
B39: Lämmityssähkö ILPillä | D39: 2500 | E39: kWh | G39: Arvio lämmityssähkö ilman ILP | K39: 7000 | L39: kWh | M39: Vuosikulutusarvio ilma ILP
B40: Lämminvesi | D40: 1550 | E40: kWh | G40: Arvio ILPin säästämästä sähköstä | K40: =K39-D39 -> 4500 | L40: kWh | N40: =SUM(D40:D41,K39) -> 11835 | O40: kWh
B41: Taloussähkö | D41: =K3*365 -> 3285 | E41: kWh | G41: Säästöarvio lämmityssähkönkulutuksesta | K41: =K40/K39 -> 0.64285714
B42: Yhteensä | D42: =SUM(D39:D41) -> 7335 | E42: kWh | G42: Säästöarvio kokonaissähkönkulutuksesta | K42: =K40/(SUM(D40:D41)+K39) -> 0.38022814
A45: Sähkön hinta
B46: pörssisähkön hinta | C46: c/kWh | D46: 5.38 | E46: 4.59 | F46: 4.16 | G46: 4.12 | H46: 4.57 | I46: 4.62 | J46: 4.77 | K46: 4.96 | L46: 4.96 | M46: 4.79 | N46: 4.58 | O46: 5.13
B48: liukuva vuosikeskihinta | C48: c/kWh | D48: =(SUMPRODUCT($D$46:D46,$D$11:D11)+SUMPRODUCT('2013'!E$46:$O46,'2013'!E$11:$O11))/(D21+SUM('2013'!E$11:$O11)) -> 5.4007516 | E48: =(SUMPRODUCT($D$46:E46,$D$11:E11)+SUMPRODUCT('2013'!F$46:$O46,'2013'!F$11:$O11))/(E21+SUM('2013'!F$11:$O11)) -> 5.3587905 | F48: =(SUMPRODUCT($D$46:F46,$D$11:F11)+SUMPRODUCT('2013'!G$46:$O46,'2013'!G$11:$O11))/(F21+SUM('2013'!G$11:$O11)) -> 5.165755 | G48: =(SUMPRODUCT($D$46:G46,$D$11:G11)+SUMPRODUCT('2013'!H$46:$O46,'2013'!H$11:$O11))/(G21+SUM('2013'!H$11:$O11)) -> 5.0247089 | H48: =(SUMPRODUCT($D$46:H46,$D$11:H11)+SUMPRODUCT('2013'!I$46:$O46,'2013'!I$11:$O11))/(H21+SUM('2013'!I$11:$O11)) -> 4.9989365 | I48: =(SUMPRODUCT($D$46:I46,$D$11:I11)+SUMPRODUCT('2013'!J$46:$O46,'2013'!J$11:$O11))/(I21+SUM('2013'!J$11:$O11)) -> 4.9814088 | J48: =(SUMPRODUCT($D$46:J46,$D$11:J11)+SUMPRODUCT('2013'!K$46:$O46,'2013'!K$11:$O11))/(J21+SUM('2013'!K$11:$O11)) -> 4.9795076 | K48: =(SUMPRODUCT($D$46:K46,$D$11:K11)+SUMPRODUCT('2013'!L$46:$O46,'2013'!L$11:$O11))/(K21+SUM('2013'!L$11:$O11)) -> 4.9523625 | ... N48: =(SUMPRODUCT($D$46:N46,$D$11:N11)+SUMPRODUCT('2013'!O$46:$O46,'2013'!O$11:$O11))/(N21+SUM('2013'!O$11:$O11)) -> 4.7191735 | O48: =(SUMPRODUCT($D$46:O46,$D$11:O11))/(O21) -> 4.7584681

Sheet 2013
A1: SÄHKÖNKULUTUSRAPORTTI | D1: 2013 | S1: http://www.saapalvelu.fi/kytaja/kuukausitilastot.php
S2: =366*12 -> 4392
A3: Hyvinkää rivitalo 4H+K+S | D3: Asuinala | F3: 96 | G3: m2 | H3: Taloussähkö arvio (ilman lvv) | K3: 9 | L3: kWh/d | M3: Kesäkuukaudet | O3: =(SUM(I11:K11)/92) -> 9.8913043 | P3: kWh/d
D4: Tilavuus | F4: =2.52*F3 -> 241.92 | G4: m3
A6: Jakso | D6: Tammi | E6: Helmi | F6: Maalis | G6: Huhti | H6: Touko | I6: Kesä | J6: Heinä | K6: Elo | L6: Syys | M6: Loka | N6: Marras | O6: Joulu | P6: Yhteensä | T6: 12 kk liukuva
D7: 31 | E7: 28 | F7: 31 | G7: 30 | H7: 31 | I7: 30 | J7: 31 | K7: 31 | L7: 30 | M7: 31 | N7: 30 | O7: 31 | P7: =SUM(D7:O7) -> 365
A8: 2013 | B8: Keskilämpötila | C8: oC | D8: -6.4 | E8: -3.3 | F8: -7.2 | G8: 1.9 | H8: 12.7 | I8: 16 | J8: 16 | K8: 16.8 | L8: 11 | M8: 5.9 | N8: 2.6 | O8: 0.7 | P8: =AVERAGE(D8:O8) -> 5.5583333 | T8: =AVERAGE(D8:N8,'2012'!O8) -> 4.825
A9: 2013 | B9: Sähkö päivä | C9: kWh | D9: 661 | E9: 454 | F9: 533 | G9: 368 | H9: 187 | I9: 145 | J9: 132 | K9: =0.55*K11 -> 188.65 | L9: 370 | M9: 325.91 | N9: 393.35 | O9: 460 | P9: =SUM(D9:O9) -> 4217.91 | R9: =O9/$O$11 -> 0.58154235 | T9: =P9+SUM('2012'!O9) -> 4926.91 | V9: =P9/$P$11 -> 0.57122678 | X9: =SUM(D9:F9,'2011'!N9:O9) -> 2465
A10: 2013 | B10: Sähkö yö | C10: kWh | D10: 466 | E10: 310 | F10: 425 | G10: 331 | H10: 190 | I10: 175 | J10: 115 | K10: =K11-K9 -> 154.35 | L10: 90 | M10: 267.93 | N10: 310.76 | O10: 331 | P10: =SUM(D10:O10) -> 3166.04 | R10: =O10/$O$11 -> 0.41845765 | T10: =P10+SUM('2012'!O10) -> 3650.04 | V10: =P10/$P$11 -> 0.42877322 | X10: =T11-X9 -> 6111.95
A11: 2013 | B11: Sähkö yhteensä | C11: kWh | D11: =SUM(D9:D10) -> 1127 | E11: =SUM(E9:E10) -> 764 | F11: =SUM(F9:F10) -> 958 | G11: =SUM(G9:G10) -> 699 | H11: =SUM(H9:H10) -> 377 | I11: =SUM(I9:I10) -> 320 | J11: =SUM(J9:J10) -> 247 | K11: 343 | L11: =SUM(L9:L10) -> 460 | M11: =SUM(M9:M10) -> 593.84 | N11: =SUM(N9:N10) -> 704.11 | O11: =SUM(O9:O10) -> 791 | P11: =SUM(D11:O11) -> 7383.95 | R11: =O11/$O$11 -> 1 | T11: =P11+SUM('2012'!O11) -> 8576.95 | V11: =P11/$P$11 -> 1 | X11: =X9+X10 -> 8576.95
A12: 2013 | B12: Ilmalämpöpumppu | C12: kWh | D12: 596.6 | E12: 388.5 | F12: 497 | G12: 259 | H12: 62.1 | I12: 13 | J12: 2.6 | K12: 5.8 | L12: 87 | M12: 180 | N12: 258.9 | O12: 323.1 | P12: =SUM(D12:O12) -> 2673.6 | R12: =O12/$O$11 -> 0.40847029 | T12: =P12+SUM('2012'!O12) -> 3330.6 | V12: =P12/$P$11 -> 0.36208263 | X12: =P12+'2012'!X12 -> 7126.9357
A13: 2013 | B13: Lämmitystarveluku toteutunut | C13: oCd | D13: 725 | E13: 565 | F13: 760 | G13: 444 | H13: 60 | I13: 0 | J13: 0 | K13: 11 | L13: 121 | M13: 346 | N13: 431 | O13: 506 | P13: =SUM(D13:O13) -> 3969 | R13: =(P13-P14)/P14 -> -0.12864984
A14: 2013 | B14: Lämmitystarveluku normivuosi | C14: oCd | D14: 743 | E14: 693 | F14: 621 | G14: 422 | H14: 174 | I14: 25 | J14: 7 | K14: 36 | L14: 217 | M14: 398 | N14: 538 | O14: 681 | P14: =SUM(D14:O14) -> 4555
A15: 2013 | B15: Lämminvesivaraaja | C15: kWh | D15: 154 | E15: 137.4 | F15: 153 | G15: 147 | H15: 116.28 | I15: 116 | J15: 74.7 | K15: 114 | L15: 150 | M15: =157 -> 157 | N15: 149 | O15: 147 | P15: =SUM(D15:O15) -> 1615.38 | T15: =P15+SUM('2012'!O15) -> 1769.38
A16: 2013 | B16: Lämmityssähkö (arvio) | C16: kWh | D16: =D12 -> 596.6 | E16: =E12 -> 388.5 | F16: =F12 -> 497 | G16: =G12 -> 259 | H16: =H12 -> 62.1 | I16: =I12 -> 13 | J16: 0 | K16: =K12 -> 5.8 | L16: =L12 -> 87 | M16: =M12 -> 180 | N16: =N12 -> 258.9 | O16: =O12 -> 323.1 | P16: =SUM(D16:O16) -> 2671 | R16: =P11-P15-P16 -> 3097.57 | T16: =P16+SUM('2012'!O16) -> 3334
A17: 2013 | B17: Sääkorjattu lämmityssähkö | C17: kWh | D17: =IF(D16<0,0,((D14/D13))*D16) -> 611.41214 | E17: =IF(E16<0,0,((E14/E13))*E16) -> 476.51416 | F17: =IF(F16<0,0,((F14/F13))*F16) -> 406.10132 | G17: =IF(G16<0,0,((G14/G13))*G16) -> 246.16667 | H17: =IF(H16<0,0,((H14/H13))*H16) -> 180.09 | I17: =I16 -> 13 | J17: =J16 -> 0 | K17: =K16 -> 5.8 | L17: =IF(L16<0,0,((L14/L13))*L16) -> 156.02479 | M17: =IF(M16<0,0,((M14/M13))*M16) -> 207.05202 | N17: =IF(N16<0,0,((N14/N13))*N16) -> 323.17448 | O17: =IF(O16<0,0,((O14/O13))*O16) -> 434.84407 | P17: =SUM(D17:O17) -> 3060.1796
A20: Kulutus päivässä | C20: kWh/d | D20: =D11/D7 -> 36.354839 | E20: =E11/E7 -> 27.285714 | F20: =F11/F7 -> 30.903226 | G20: =G11/G7 -> 23.3 | H20: =H11/H7 -> 12.16129 | I20: =I11/I7 -> 10.666667 | J20: =J11/J7 -> 7.9677419 | K20: =K11/K7 -> 11.064516 | ... O20: =O11/O7 -> 25.516129 | P20: =P11/365 -> 20.23
B21: Kumulatiivinen kulutus | C21: kWh | D21: =SUM(D11) -> 1127 | E21: =SUM($D$11:E11) -> 1891 | F21: =SUM($D$11:F11) -> 2849 | G21: =SUM($D$11:G11) -> 3548 | H21: =SUM($D$11:H11) -> 3925 | I21: =SUM($D$11:I11) -> 4245 | J21: =SUM($D$11:J11) -> 4492 | K21: =SUM($D$11:K11) -> 4835 | L21: =SUM($D$11:L11) -> 5295 | ... O21: =SUM($D$11:O11) -> 7383.95
B22: Kumulatiivinen kulutus ILP | C22: kWh | D22: =SUM(D12) -> 596.6 | E22: =SUM($D$12:E12) -> 985.1 | F22: =SUM($D$12:F12) -> 1482.1 | G22: =SUM($D$12:G12) -> 1741.1 | H22: =SUM($D$12:H12) -> 1803.2 | I22: =SUM($D$12:I12) -> 1816.2 | J22: =SUM($D$12:J12) -> 1818.8 | K22: =SUM($D$12:K12) -> 1824.6 | L22: =SUM($D$12:L12) -> 1911.6 | ... O22: =SUM($D$12:O12) -> 2673.6
B23: Kumulatiivinen kulutus lämmitys | C23: kWh | D23: =SUM(D16) -> 596.6 | E23: =SUM($D$16:E16) -> 985.1 | F23: =SUM($D$16:F16) -> 1482.1 | G23: =SUM($D$16:G16) -> 1741.1 | H23: =SUM($D$16:H16) -> 1803.2 | I23: =SUM($D$16:I16) -> 1816.2 | J23: =SUM($D$16:J16) -> 1816.2 | K23: =SUM($D$16:K16) -> 1822 | L23: =SUM($D$16:L16) -> 1909 | ... O23: =SUM($D$16:O16) -> 2671
B24: Taloussähkö ilma LKV | D24: =(D11-D12-D15)/D7 -> 12.141935 | E24: =(E11-E12-E15)/E7 -> 8.5035714 | F24: =(F11-F12-F15)/F7 -> 9.9354839 | G24: =(G11-G12-G15)/G7 -> 9.7666667 | H24: =(H11-H12-H15)/H7 -> 6.4070968 | I24: =(I11-I12-I15)/I7 -> 6.3666667 | J24: =(J11-J12-J15)/J7 -> 5.4741935 | K24: =(K11-K12-K15)/K7 -> 7.2 | ... P24: =(P11-P12-P15)/P7 -> 8.4793699
B25: Liukuva 12 kk kulutus | C25: kWh | D25: =D21+'2012'!$P$11-'2012'!D21 -> 8128 | E25: =E21+'2012'!$P$11-'2012'!E21 -> 7926 | F25: =F21+'2012'!$P$11-'2012'!F21 -> 8083 | G25: =G21+'2012'!$P$11-'2012'!G21 -> 8060 | H25: =H21+'2012'!$P$11-'2012'!H21 -> 7975 | I25: =I21+'2012'!$P$11-'2012'!I21 -> 7935 | J25: =J21+'2012'!$P$11-'2012'!J21 -> 7933 | K25: =K21+'2012'!$P$11-'2012'!K21 -> 7894 | ... O25: =O21+'2012'!$P$11-'2012'!O21 -> 7383.95
A26: Lämmitys
B27: Lämmityksen osuus kulutuksesta | D27: =D16/D11 -> 0.52937001 | E27: =E16/E11 -> 0.50850785 | F27: =F16/F11 -> 0.51878914 | G27: =G16/G11 -> 0.37052933 | H27: =H16/H11 -> 0.16472149 | I27: =I16/I11 -> 0.040625 | J27: =J16/J11 -> 0 | K27: =K16/K11 -> 0.016909621 | ... P27: =P16/P11 -> 0.36173051
B28: Sähkönkulutus lämmitykseen | C28: kWh/oCd | D28: =D16/D13 -> 0.82289655 | E28: =E16/E13 -> 0.68761062 | F28: =F16/F13 -> 0.65394737 | G28: =G16/G13 -> 0.58333333 | H28: =H16/H13 -> 1.035 | L28: =L16/L13 -> 0.71900826 | M28: =M16/M13 -> 0.52023121 | N28: =N16/N13 -> 0.60069606 | O28: =O16/O13 -> 0.63853755 | P28: =P16/P13 -> 0.67296548
B29: Sähkönkulutus lämmitykseen | C29: kWh/d | D29: =D16/D7 -> 19.245161 | E29: =E16/E7 -> 13.875 | F29: =F16/F7 -> 16.032258 | G29: =G16/G7 -> 8.6333333 | H29: =H16/H7 -> 2.0032258 | I29: =I16/I7 -> 0.43333333 | J29: =J16/J7 -> 0 | K29: =K16/K7 -> 0.18709677 | ... P29: =P16/P7 -> 7.3178082
B30: Norm sähkö lämmitykseen | C30: kWh/d | D30: =D17/D7 -> 19.722972 | E30: =E17/E7 -> 17.018363 | F30: =F17/F7 -> 13.100042 | G30: =G17/G7 -> 8.2055556 | H30: =H17/H7 -> 5.8093548 | I30: =I17/I7 -> 0.43333333 | J30: =J17/J7 -> 0 | K30: =K17/K7 -> 0.18709677 | ... P30: =P17/P7 -> 8.3840538
B31: Ominaislämmönkulutus | C31: kWh/m3 | D31: =D16/$F$4 -> 2.4661045 | E31: =E16/$F$4 -> 1.6059028 | F31: =F16/$F$4 -> 2.0543981 | G31: =G16/$F$4 -> 1.0706019 | H31: =H16/$F$4 -> 0.25669643 | I31: =I16/$F$4 -> 0.053736772 | J31: =J16/$F$4 -> 0 | K31: =K16/$F$4 -> 0.023974868 | ... P31: =P16/$F$4 -> 11.04084 | T31: =T16/$F$4 -> 13.781415
B32: Ominaislämmönkulutus | C32: kWh/m2 | D32: =D16/$F$3 -> 6.2145833 | E32: =E16/$F$3 -> 4.046875 | F32: =F16/$F$3 -> 5.1770833 | G32: =G16/$F$3 -> 2.6979167 | H32: =H16/$F$3 -> 0.646875 | I32: =I16/$F$3 -> 0.13541667 | J32: =J16/$F$3 -> 0 | K32: =K16/$F$3 -> 0.060416667 | ... P32: =P16/$F$3 -> 27.822917
B33: Norm lämmönkulutus | C33: kWh/m3 | D33: =D17/$F$4 -> 2.5273319 | E33: =E17/$F$4 -> 1.9697179 | F33: =F17/$F$4 -> 1.6786595 | G33: =G17/$F$4 -> 1.017554 | H33: =H17/$F$4 -> 0.74441964 | I33: =I17/$F$4 -> 0.053736772 | J33: =J17/$F$4 -> 0 | K33: =K17/$F$4 -> 0.023974868 | ... P33: =P17/$F$4 -> 12.649552
B34: Norm lämmönkulutus | C34: kWh/m2 | D34: =D17/$F$3 -> 6.3688764 | E34: =E17/$F$3 -> 4.9636892 | F34: =F17/$F$3 -> 4.230222 | G34: =G17/$F$3 -> 2.5642361 | H34: =H17/$F$3 -> 1.8759375 | I34: =I17/$F$3 -> 0.13541667 | J34: =J17/$F$3 -> 0 | K34: =K17/$F$3 -> 0.060416667 | ... P34: =P17/$F$3 -> 31.876871
B35: Ominaislämmönkulutus | C35: Wh/m3/oCd | D35: =1000*D31/D13 -> 3.4015234 | E35: =1000*E31/E13 -> 2.8423058 | F35: =1000*F31/F13 -> 2.7031555 | G35: =1000*G31/G13 -> 2.4112654 | H35: =1000*H31/H13 -> 4.2782738 | L35: =1000*L31/L13 -> 2.972091 | M35: =1000*M31/M13 -> 2.1504266 | N35: =1000*N31/N13 -> 2.4830359 | O35: =1000*O31/O13 -> 2.6394575 | P35: =1000*P31/P13 -> 2.7817687 | T35: =1000*T31/#REF! -> #REF!
A37: Vuosikulutusarvio
B39: Lämmityssähkö ILPillä | D39: 3200 | E39: kWh | G39: Arvio lämmityssähkö ilman ILP | K39: 7500 | L39: kWh | M39: Vuosikulutusarvio ilma ILP
B40: Lämminvesi | D40: 1600 | E40: kWh | G40: Arvio ILPin säästämästä sähköstä | K40: =K39-D39 -> 4300 | L40: kWh | N40: =SUM(D40:D41,K39) -> 12385 | O40: kWh
B41: Taloussähkö | D41: =K3*365 -> 3285 | E41: kWh | G41: Säästöarvio lämmityssähkönkulutuksesta | K41: =K40/K39 -> 0.57333333
B42: Yhteensä | D42: =SUM(D39:D41) -> 8085 | E42: kWh | G42: Säästöarvio kokonaissähkönkulutuksesta | K42: =K40/(SUM(D40:D41)+K39) -> 0.34719419
A45: Sähkön hinta
B46: pörssisähkön hinta | C46: c/kWh | D46: 5.55 | E46: 5.14 | F46: 5.84 | G46: 5.69 | H46: 4.87 | I46: 5.02 | J46: 4.85 | K46: 5.52 | L46: 6.36 | M46: 5.94 | N46: 5.03 | O46: 4.79

Sheet 2012
A1: SÄHKÖNKULUTUSRAPORTTI | D1: 2012
S2: =366*12 -> 4392
A3: Hyvinkää rivitalo 4H+K+S | D3: Asuinala | F3: 96 | G3: m2 | H3: Taloussähkö arvio (ilman lvv) | K3: 9 | L3: kWh/d | M3: Kesäkuukaudet | O3: =SUM(I11:K11)/92 -> 10.771739 | P3: kWh/d
D4: Tilavuus | F4: =2.52*F3 -> 241.92 | G4: m3
A6: Jakso | D6: Tammi | E6: Helmi | F6: Maalis | G6: Huhti | H6: Touko | I6: Kesä | J6: Heinä | K6: Elo | L6: Syys | M6: Loka | N6: Marras | O6: Joulu | P6: Yhteensä | T6: 12 kk liukuva
D7: 31 | E7: 29 | F7: 31 | G7: 30 | H7: 31 | I7: 30 | J7: 31 | K7: 31 | L7: 30 | M7: 31 | N7: 30 | O7: 31 | P7: =SUM(D7:O7) -> 366
A8: 2012 | B8: Keskilämpötila | C8: oC | D8: -6.1 | E8: -8.9 | F8: -0.4 | G8: 3 | H8: 10.9 | I8: 13 | J8: 17.4 | K8: 14.5 | L8: 10.7 | M8: 5.6 | N8: 2.3 | O8: -8.1 | P8: =AVERAGE(D8:O8) -> 4.4916667 | T8: =AVERAGE(D8:N8,'2011'!O8) -> 5.2
A9: 2012 | B9: Sähkö päivä | C9: kWh | D9: 653 | E9: 552 | F9: 440 | G9: 383 | H9: 216 | I9: =3247-3056 -> 191 | J9: =(3373-3247) -> 126 | K9: 194 | L9: 261 | M9: 342 | N9: 428 | O9: 709 | P9: =SUM(D9:O9) -> 4495 | R9: =O9/$O$11 -> 0.59430008 | T9: =P9+SUM('2011'!O9) -> 4922 | V9: =P9/$P$11 -> 0.55445911
A10: 2012 | B10: Sähkö yö | C10: kWh | D10: 453 | E10: 414 | F10: 361 | G10: 339 | H10: 246 | I10: =2576-2407 -> 169 | J10: =(2699-2576) -> 123 | K10: 188 | L10: 231 | M10: 291 | N10: 313 | O10: 484 | P10: =SUM(D10:O10) -> 3612 | R10: =O10/$O$11 -> 0.40569992 | T10: =P10+SUM('2011'!O10) -> 3920 | V10: =P10/$P$11 -> 0.44554089
A11: 2012 | B11: Sähkö yhteensä | C11: kWh | D11: =SUM(D9:D10) -> 1106 | E11: =SUM(E9:E10) -> 966 | F11: =SUM(F9:F10) -> 801 | G11: =SUM(G9:G10) -> 722 | H11: =SUM(H9:H10) -> 462 | I11: =SUM(I9:I10) -> 360 | J11: =SUM(J9:J10) -> 249 | K11: =SUM(K9:K10) -> 382 | ... O11: =SUM(O9:O10) -> 1193 | P11: =SUM(D11:O11) -> 8107 | R11: =O11/$O$11 -> 1 | T11: =P11+SUM('2011'!O11) -> 8842 | V11: =P11/$P$11 -> 1
A12: 2012 | B12: Ilmalämpöpumppu | C12: kWh | D12: 577 | E12: 600 | F12: =313/28*31 -> 346.53571 | G12: 256 | H12: 84 | I12: 44 | J12: =48.6 -> 48.6 | K12: 23 | L12: 95 | M12: 199.6 | N12: 279 | O12: 657 | P12: =SUM(D12:O12) -> 3209.7357 | R12: =O12/$O$11 -> 0.55071249 | T12: =P12+SUM('2011'!O12) -> 3529.7357 | V12: =P12/$P$11 -> 0.39592151 | X12: =P12+'2011'!X12 -> 4453.3357
A13: 2012 | B13: Lämmitystarveluku toteutunut | C13: oCd | D13: 717 | E13: 749 | F13: 544 | G13: 401 | H13: 136 | I13: 24 | J13: 0 | K13: 31 | L13: 142 | M13: 374 | N13: 435 | O13: 767 | P13: =SUM(D13:O13) -> 4320 | T13: =P13+SUM('2011'!O13) -> 4811
A14: 2012 | B14: Lämmitystarveluku normivuosi | C14: oCd | D14: 743 | E14: 693 | F14: 621 | G14: 422 | H14: 174 | I14: 25 | J14: 7 | K14: 36 | L14: 217 | M14: 398 | N14: 538 | O14: 681 | P14: =SUM(D14:O14) -> 4555 | R14: =(P14-P13)/P14 -> 0.051591658 | T14: =P14+SUM('2011'!O14) -> 5236
A15: 2012 | B15: Lämminvesivaraaja | C15: kWh | D15: =154.5 -> 154.5 | E15: 97 | F15: 156.3 | G15: 164 | H15: 142 | I15: =97.4 -> 97.4 | J15: =75.7 -> 75.7 | K15: 126.6 | L15: 141 | M15: 164.5 | N15: 157.5 | O15: 154 | P15: =SUM(D15:O15) -> 1630.5 | T15: =P15+SUM('2011'!O15) -> 1749.5
A16: 2012 | B16: Lämmityssähkö (arvio) | C16: kWh | D16: =D12+6 -> 583 | E16: =E12+10*3 -> 630 | F16: =F12 -> 346.53571 | G16: =G12 -> 256 | H16: =H12 -> 84 | I16: =I12 -> 44 | J16: =J12-2 -> 46.6 | K16: =K12 -> 23 | L16: =L12 -> 95 | M16: =M12 -> 199.6 | N16: =N12 -> 279 | O16: =O12+6 -> 663 | P16: =SUM(D16:O16) -> 3249.7357 | Q16: =P11-P15-P16 -> 3226.7643 | T16: =P16+SUM('2011'!O16) -> 3569.7357
A17: 2012 | B17: Sääkorjattu lämmityssähkö | C17: kWh | D17: =IF(D16<0,0,((D14/D13))*D16) -> 604.14086 | E17: =IF(E16<0,0,((E14/E13))*E16) -> 582.8972 | F17: =IF(F16<0,0,((F14/F13))*F16) -> 395.58581 | G17: =IF(G16<0,0,((G14/G13))*G16) -> 269.40648 | H17: =IF(H16<0,0,((H14/H13))*H16) -> 107.47059 | I17: =I16 -> 44 | J17: =J16 -> 46.6 | K17: =K16 -> 23 | L17: =IF(L16<0,0,((L14/L13))*L16) -> 145.17606 | M17: =IF(M16<0,0,((M14/M13))*M16) -> 212.40856 | N17: =IF(N16<0,0,((N14/N13))*N16) -> 345.06207 | O17: =IF(O16<0,0,((O14/O13))*O16) -> 588.66102 | P17: =SUM(D17:O17) -> 3364.4086
A20: Kulutus päivässä | C20: kWh/d | D20: =D11/D7 -> 35.677419 | E20: =E11/E7 -> 33.310345 | F20: =F11/F7 -> 25.83871 | G20: =G11/G7 -> 24.066667 | H20: =H11/H7 -> 14.903226 | I20: =I11/I7 -> 12 | J20: =J11/J7 -> 8.0322581 | K20: =K11/K7 -> 12.322581 | ... O20: =O11/O7 -> 38.483871 | P20: =P11/365 -> 22.210959
B21: Kumulatiivinen kulutus | C21: kWh | D21: =SUM(D11) -> 1106 | E21: =SUM($D$11:E11) -> 2072 | F21: =SUM($D$11:F11) -> 2873 | G21: =SUM($D$11:G11) -> 3595 | H21: =SUM($D$11:H11) -> 4057 | I21: =SUM($D$11:I11) -> 4417 | J21: =SUM($D$11:J11) -> 4666 | K21: =SUM($D$11:K11) -> 5048 | L21: =SUM($D$11:L11) -> 5540 | ... O21: =SUM($D$11:O11) -> 8107
B22: Kumulatiivinen kulutus ILP | C22: kWh | D22: =SUM(D12) -> 577 | E22: =SUM($D$12:E12) -> 1177 | F22: =SUM($D$12:F12) -> 1523.5357 | G22: =SUM($D$12:G12) -> 1779.5357 | H22: =SUM($D$12:H12) -> 1863.5357 | I22: =SUM($D$12:I12) -> 1907.5357 | J22: =SUM($D$12:J12) -> 1956.1357 | K22: =SUM($D$12:K12) -> 1979.1357 | L22: =SUM($D$12:L12) -> 2074.1357 | ... O22: =SUM($D$12:O12) -> 3209.7357
B23: Kumulatiivinen kulutus lämmitys | C23: kWh | D23: =SUM(D16) -> 583 | E23: =SUM($D$16:E16) -> 1213 | F23: =SUM($D$16:F16) -> 1559.5357 | G23: =SUM($D$16:G16) -> 1815.5357 | H23: =SUM($D$16:H16) -> 1899.5357 | I23: =SUM($D$16:I16) -> 1943.5357 | J23: =SUM($D$16:J16) -> 1990.1357 | K23: =SUM($D$16:K16) -> 2013.1357 | L23: =SUM($D$16:L16) -> 2108.1357 | ... O23: =SUM($D$16:O16) -> 3249.7357
B24: Taloussähkö ilma LKV | D24: =(D11-D12-D15)/D7 -> 12.080645 | E24: =(E11-E12-E15)/E7 -> 9.2758621 | F24: =(F11-F12-F15)/F7 -> 9.6182028 | G24: =(G11-G12-G15)/G7 -> 10.066667 | H24: =(H11-H12-H15)/H7 -> 7.6129032 | I24: =(I11-I12-I15)/I7 -> 7.2866667 | J24: =(J11-J12-J15)/J7 -> 4.0225806 | K24: =(K11-K12-K15)/K7 -> 7.4967742 | ... P24: =(P11-P12-P15)/P7 -> 8.9255855
B25: Liukuva 12 kk kulutus | C25: kWh | D25: =D21+'2011'!$P$11-'2011'!D21 -> 8054 | E25: =E21+'2011'!$P$11-'2011'!E21 -> 7883 | F25: =F21+'2011'!$P$11-'2011'!F21 -> 7516 | G25: =G21+'2011'!$P$11-'2011'!G21 -> 7513 | H25: =H21+'2011'!$P$11-'2011'!H21 -> 7454 | I25: =I21+'2011'!$P$11-'2011'!I21 -> 7497 | J25: =J21+'2011'!$P$11-'2011'!J21 -> 7529 | K25: =K21+'2011'!$P$11-'2011'!K21 -> 7591 | ... O25: =O21+'2011'!$P$11-'2011'!O21 -> 8107
A26: Lämmitys
B27: Lämmityksen osuus kulutuksesta | D27: =D16/D11 -> 0.52712477 | E27: =E16/E11 -> 0.65217391 | F27: =F16/F11 -> 0.43262886 | G27: =G16/G11 -> 0.35457064 | H27: =H16/H11 -> 0.18181818 | I27: =I16/I11 -> 0.12222222 | J27: =J16/J11 -> 0.18714859 | K27: =K16/K11 -> 0.060209424 | ... P27: =P16/P11 -> 0.40085552
B28: Sähkönkulutus lämmitykseen | C28: kWh/oCd | D28: =D16/D13 -> 0.81311018 | E28: =E16/E13 -> 0.8411215 | F28: =F16/F13 -> 0.63701418 | G28: =G16/G13 -> 0.63840399 | H28: =H16/H13 -> 0.61764706 | L28: =L16/L13 -> 0.66901408 | M28: =M16/M13 -> 0.53368984 | N28: =N16/N13 -> 0.64137931 | O28: =O16/O13 -> 0.86440678 | P28: =P16/P13 -> 0.75225364
B29: Sähkönkulutus lämmitykseen | C29: kWh/d | D29: =D16/D7 -> 18.806452 | E29: =E16/E7 -> 21.724138 | F29: =F16/F7 -> 11.178571 | G29: =G16/G7 -> 8.5333333 | H29: =H16/H7 -> 2.7096774 | I29: =I16/I7 -> 1.4666667 | J29: =J16/J7 -> 1.5032258 | K29: =K16/K7 -> 0.74193548 | ... P29: =P16/P7 -> 8.8790593
B30: Norm sähkö lämmitykseen | C30: kWh/d | D30: =D17/D7 -> 19.488415 | E30: =E17/E7 -> 20.099903 | F30: =F17/F7 -> 12.760832 | G30: =G17/G7 -> 8.9802161 | H30: =H17/H7 -> 3.4667932 | I30: =I17/I7 -> 1.4666667 | J30: =J17/J7 -> 1.5032258 | K30: =K17/K7 -> 0.74193548 | ... P30: =P17/P7 -> 9.1923733
B31: Ominaislämmönkulutus | C31: kWh/m3 | D31: =D16/$F$4 -> 2.4098876 | E31: =E16/$F$4 -> 2.6041667 | F31: =F16/$F$4 -> 1.4324393 | G31: =G16/$F$4 -> 1.0582011 | H31: =H16/$F$4 -> 0.34722222 | I31: =I16/$F$4 -> 0.18187831 | J31: =J16/$F$4 -> 0.19262566 | K31: =K16/$F$4 -> 0.095072751 | ... P31: =P16/$F$4 -> 13.433101 | T31: =T16/$F$4 -> 14.755852
B32: Ominaislämmönkulutus | C32: kWh/m2 | D32: =D16/$F$3 -> 6.0729167 | E32: =E16/$F$3 -> 6.5625 | F32: =F16/$F$3 -> 3.609747 | G32: =G16/$F$3 -> 2.6666667 | H32: =H16/$F$3 -> 0.875 | I32: =I16/$F$3 -> 0.45833333 | J32: =J16/$F$3 -> 0.48541667 | K32: =K16/$F$3 -> 0.23958333 | ... P32: =P16/$F$3 -> 33.851414
B33: Norm lämmönkulutus | C33: kWh/m3 | D33: =D17/$F$4 -> 2.4972754 | E33: =E17/$F$4 -> 2.4094626 | F33: =F17/$F$4 -> 1.6351927 | G33: =G17/$F$4 -> 1.1136181 | H33: =H17/$F$4 -> 0.4442402 | I33: =I17/$F$4 -> 0.18187831 | J33: =J17/$F$4 -> 0.19262566 | K33: =K17/$F$4 -> 0.095072751 | ... P33: =P17/$F$4 -> 13.907112
B34: Norm lämmönkulutus | C34: kWh/m2 | D34: =D17/$F$3 -> 6.293134 | E34: =E17/$F$3 -> 6.0718458 | F34: =F17/$F$3 -> 4.1206855 | G34: =G17/$F$3 -> 2.8063175 | H34: =H17/$F$3 -> 1.1194853 | I34: =I17/$F$3 -> 0.45833333 | J34: =J17/$F$3 -> 0.48541667 | K34: =K17/$F$3 -> 0.23958333 | ... P34: =P17/$F$3 -> 35.045923
B35: Ominaislämmönkulutus | C35: Wh/m3/oCd | D35: =1000*D31/D13 -> 3.3610705 | E35: =1000*E31/E13 -> 3.476858 | F35: =1000*F31/F13 -> 2.6331605 | G35: =1000*G31/G13 -> 2.6389054 | H35: =1000*H31/H13 -> 2.5531046 | L35: =1000*L31/L13 -> 2.7654352 | M35: =1000*M31/M13 -> 2.2060592 | N35: =1000*N31/N13 -> 2.6512042 | O35: =1000*O31/O13 -> 3.57311 | P35: =1000*P31/P13 -> 3.109514 | T35: =1000*T31/#REF! -> #REF!
A37: Vuosikulutusarvio
B39: Lämmityssähkö ILPillä | D39: 3300 | E39: kWh | G39: Arvio lämmityssähkö ilman ILP | K39: 7500 | L39: kWh | M39: Vuosikulutusarvio ilma ILP
B40: Lämminvesi | D40: 1207 | E40: kWh | G40: Arvio ILPin säästämästä sähköstä | K40: =K39-D39 -> 4200 | L40: kWh | N40: =SUM(D40:D41,K39) -> 11992 | O40: kWh
B41: Taloussähkö | D41: =K3*365 -> 3285 | E41: kWh | G41: Säästöarvio lämmityssähkönkulutuksesta | K41: =K40/K39 -> 0.56
B42: Yhteensä | D42: =SUM(D39:D41) -> 7792 | E42: kWh | G42: Säästöarvio kokonaissähkönkulutuksesta | K42: =K40/(SUM(D40:D41)+K39) -> 0.35023349

Sheet 2011
A1: SÄHKÖNKULUTUSRAPORTTI | D1: 2011
A3: Hyvinkää rivitalo 4H+K+S | D3: Asuinala | F3: 96 | G3: m2 | H3: Taloussähkö arvio (ilman lvv) | K3: 12 | L3: kWh/d | M3: Kesäkuukaudet | O3: =SUM(I11:K11)/92 -> 9.2826087 | P3: kWh/d
D4: Tilavuus | F4: =2.52*F3 -> 241.92 | G4: m3
A6: Jakso | D6: Tammi | E6: Helmi | F6: Maalis | G6: Huhti | H6: Touko | I6: Kesä | J6: Heinä | K6: Elo | L6: Syys | M6: Loka | N6: Marras | O6: Joulu | P6: Yhteensä | T6: 12 kk liukuva
D7: 31 | E7: 28 | F7: 31 | G7: 30 | H7: 31 | I7: 30 | J7: 31 | K7: 31 | L7: 30 | M7: 31 | N7: 30 | O7: 31 | P7: =SUM(D7:O7) -> 365
A8: 2011 | B8: Keskilämpötila | C8: oC | D8: -6.8 | E8: -12.7 | F8: -2.5 | G8: 5.2 | H8: 10.1 | I8: 16.6 | J8: 20 | K8: 15.6 | L8: 11.5 | M8: 6.2 | N8: 2.8 | O8: 0.4 | P8: =AVERAGE(D8:O8) -> 5.5333333
A9: 2011 | B9: Sähkö päivä | C9: kWh | D9: 601 | E9: 651 | F9: 688 | G9: 375 | H9: 248 | I9: 148 | J9: 103 | K9: 159 | L9: 251 | M9: 359 | N9: 390 | O9: 427 | P9: =SUM(D9:O9) -> 4400 | R9: =O9/$O$11 -> 0.58095238 | S9: =P9/$P$11 -> 0.55055055 | T9: =P9+SUM('2010'!O9) -> 5169 | V9: =T9/$T$11 -> 0.55622512
A10: 2011 | B10: Sähkö yö | C10: kWh | D10: 443 | E10: 486 | F10: 480 | G10: 350 | H10: 273 | I10: 169 | J10: 114 | K10: 161 | L10: 224 | M10: 286 | N10: 298 | O10: 308 | P10: =SUM(D10:O10) -> 3592 | R10: =O10/$O$11 -> 0.41904762 | S10: =P10/$P$11 -> 0.44944945 | T10: =P10+SUM('2010'!O10) -> 4124 | V10: =T10/$T$11 -> 0.44377488
A11: 2011 | B11: Sähkö yhteensä | C11: kWh | D11: =SUM(D9:D10) -> 1044 | E11: =SUM(E9:E10) -> 1137 | F11: =SUM(F9:F10) -> 1168 | G11: =SUM(G9:G10) -> 725 | H11: =SUM(H9:H10) -> 521 | I11: =SUM(I9:I10) -> 317 | J11: =SUM(J9:J10) -> 217 | K11: =SUM(K9:K10) -> 320 | ... O11: =SUM(O9:O10) -> 735 | P11: =SUM(D11:O11) -> 7992 | R11: =O11/$O$11 -> 1 | S11: =P11/$P$11 -> 1 | T11: =P11+SUM('2010'!O11) -> 9293
A12: 2011 | B12: Ilmalämpöpumppu | C12: kWh | D12: 422 | E12: 436 | F12: 69 | G12: 232.6 | H12: 115 | I12: 23 | J12: 7.5 | K12: 4.8 | L12: 76.4 | M12: 201 | N12: 263.3 | O12: 320 | P12: =SUM(D12:O12) -> 2170.6 | R12: =O12/$O$11 -> 0.43537415 | S12: =P12/$P$11 -> 0.2715966 | T12: =P12+SUM('2010'!O12) -> 2718.6 | X12: =SUM(G12:O12) -> 1243.6
A13: 2011 | B13: Lämmitystarveluku toteutunut | C13: oCd | D13: 717 | E13: 821 | F13: 590 | G13: 321 | H13: 117 | I13: 0 | J13: 0 | K13: 0 | L13: 73 | M13: 318 | N13: 401 | O13: 491 | P13: =SUM(D13:O13) -> 3849 | T13: =P13+SUM('2010'!O13) -> 4687
A14: 2011 | B14: Lämmitystarveluku normivuosi | C14: oCd | D14: 743 | E14: 693 | F14: 621 | G14: 422 | H14: 174 | I14: 25 | J14: 7 | K14: 36 | L14: 217 | M14: 398 | N14: 538 | O14: 681 | P14: =SUM(D14:O14) -> 4555 | R14: =(P14-P13)/P14 -> 0.15499451
A15: 2011 | B15: Lämminvesivaraaja | C15: kWh | D15: 132 | E15: 116.6 | F15: 105.3 | G15: 142 | H15: 138 | I15: 98.7 | J15: 69 | K15: 100.69 | L15: 135 | M15: =139 -> 139 | N15: 135 | O15: 119 | P15: =SUM(D15:O15) -> 1430.29 | T15: =P15+SUM('2010'!O15) -> 1569.89
A16: 2011 | B16: Lämmityssähkö (arvio) | C16: kWh | D16: =D11-D15-D7*($K$3) -> 540 | E16: =E11-E15-E7*($K$3) -> 684.4 | F16: =F11-F15-F7*($K$3) -> 690.7 | G16: =G12 -> 232.6 | H16: =H12 -> 115 | I16: =I12-5 -> 18 | J16: 0 | K16: 4.8 | L16: =L12 -> 76.4 | M16: =M12 -> 201 | N16: =N12 -> 263.3 | O16: =O12 -> 320 | P16: =SUM(D16:O16) -> 3146.2 | Q16: =P11-P15-P16 -> 3415.51 | T16: =P16+SUM('2010'!O16) -> 3997.6
A17: 2011 | B17: Sääkorjattu lämmityssähkö | C17: kWh | D17: =IF(D16<0,0,((D14/D13))*D16) -> 559.58159 | E17: =IF(E16<0,0,((E14/E13))*E16) -> 577.69695 | F17: =IF(F16<0,0,((F14/F13))*F16) -> 726.99102 | G17: =IF(G16<0,0,((G14/G13))*G16) -> 305.78567 | H17: =IF(H16<0,0,((H14/H13))*H16) -> 171.02564 | I17: =I16 -> 18 | J17: =J16 -> 0 | K17: =K16 -> 4.8 | L17: =IF(L16<0,0,((L14/L13))*L16) -> 227.10685 | M17: =IF(M16<0,0,((M14/M13))*M16) -> 251.56604 | N17: =IF(N16<0,0,((N14/N13))*N16) -> 353.25536 | O17: =IF(O16<0,0,((O14/O13))*O16) -> 443.82892 | P17: =SUM(D17:O17) -> 3639.638 | T17: =P17+SUM('2010'!O17) -> 4331.5275
I19: =SUM(I15:K15)/92 -> 2.9172826
A20: Kulutus päivässä | C20: kWh/d | D20: =D11/D7 -> 33.677419 | E20: =E11/E7 -> 40.607143 | F20: =F11/F7 -> 37.677419 | G20: =G11/G7 -> 24.166667 | H20: =H11/H7 -> 16.806452 | I20: =I11/I7 -> 10.566667 | J20: =J11/J7 -> 7 | K20: =K11/K7 -> 10.322581 | ... O20: =O11/O7 -> 23.709677 | P20: =P10/365 -> 9.8410959
B21: Kumulatiivinen kulutus | C21: kWh | D21: =SUM(D11) -> 1044 | E21: =SUM($D$11:E11) -> 2181 | F21: =SUM($D$11:F11) -> 3349 | G21: =SUM($D$11:G11) -> 4074 | H21: =SUM($D$11:H11) -> 4595 | I21: =SUM($D$11:I11) -> 4912 | J21: =SUM($D$11:J11) -> 5129 | K21: =SUM($D$11:K11) -> 5449 | L21: =SUM($D$11:L11) -> 5924 | ... O21: =SUM($D$11:O11) -> 7992
B22: Kumulatiivinen kulutus ILP | C22: kWh | D22: =SUM(D12) -> 422 | E22: =SUM($D$12:E12) -> 858 | F22: =SUM($D$12:F12) -> 927 | G22: =SUM($D$12:G12) -> 1159.6 | H22: =SUM($D$12:H12) -> 1274.6 | I22: =SUM($D$12:I12) -> 1297.6 | J22: =SUM($D$12:J12) -> 1305.1 | K22: =SUM($D$12:K12) -> 1309.9 | L22: =SUM($D$12:L12) -> 1386.3 | ... O22: =SUM($D$12:O12) -> 2170.6
B23: Kumulatiivinen kulutus lämmitys | C23: kWh | D23: =SUM(D16) -> 540 | E23: =SUM($D$16:E16) -> 1224.4 | F23: =SUM($D$16:F16) -> 1915.1 | G23: =SUM($D$16:G16) -> 2147.7 | H23: =SUM($D$16:H16) -> 2262.7 | I23: =SUM($D$16:I16) -> 2280.7 | J23: =SUM($D$16:J16) -> 2280.7 | K23: =SUM($D$16:K16) -> 2285.5 | L23: =SUM($D$16:L16) -> 2361.9 | ... O23: =SUM($D$16:O16) -> 3146.2
B24: Taloussähkö ilma LKV | D24: =(D11-D12-D15)/D7 -> 15.806452 | E24: =(E11-E12-E15)/E7 -> 20.871429 | F24: =(F11-F12-F15)/F7 -> 32.054839 | G24: =(G11-G12-G15)/G7 -> 11.68 | H24: =(H11-H12-H15)/H7 -> 8.6451613 | I24: =(I11-I12-I15)/I7 -> 6.51 | J24: =(J11-J12-J15)/J7 -> 4.5322581 | K24: =(K11-K12-K15)/K7 -> 6.9196774 | ... P24: =(P11-P12-P15)/P7 -> 12.030438
B25: Liukuva 12 kk kulutus | C25: kWh | D25: =D21+'2010'!$P$11-'2010'!D21 -> 8351 | E25: =E21+'2010'!$P$11-'2010'!E21 -> 8411 | F25: =F21+'2010'!$P$11-'2010'!F21 -> 8821 | G25: =G21+'2010'!$P$11-'2010'!G21 -> 8837 | H25: =H21+'2010'!$P$11-'2010'!H21 -> 8806 | I25: =I21+'2010'!$P$11-'2010'!I21 -> 8737 | J25: =J21+'2010'!$P$11-'2010'!J21 -> 8737 | K25: =K21+'2010'!$P$11-'2010'!K21 -> 8742 | ... O25: =O21+'2010'!$P$11-'2010'!O21 -> 7992
A26: Lämmitys
B27: Lämmityksen osuus kulutuksesta | D27: =D16/D11 -> 0.51724138 | E27: =E16/E11 -> 0.60193492 | F27: =F16/F11 -> 0.59135274 | G27: =G16/G11 -> 0.32082759 | H27: =H16/H11 -> 0.22072937 | I27: =I16/I11 -> 0.056782334 | J27: =J16/J11 -> 0 | K27: =K16/K11 -> 0.015 | ... P27: =P16/P11 -> 0.39366867
B28: Sähkönkulutus lämmitykseen | C28: kWh/oCd | D28: =D16/D13 -> 0.75313808 | E28: =E16/E13 -> 0.83361754 | F28: =F16/F13 -> 1.170678 | G28: =G16/G13 -> 0.72461059 | H28: =H16/H13 -> 0.98290598 | L28: =L16/L13 -> 1.0465753 | M28: =M16/M13 -> 0.63207547 | N28: =N16/N13 -> 0.65660848 | O28: =O16/O13 -> 0.65173116 | P28: =P16/P13 -> 0.81740712
B29: Sähkönkulutus lämmitykseen | C29: kWh/d | D29: =D16/D7 -> 17.419355 | E29: =E16/E7 -> 24.442857 | F29: =F16/F7 -> 22.280645 | G29: =G16/G7 -> 7.7533333 | H29: =H16/H7 -> 3.7096774 | I29: =I16/I7 -> 0.6 | J29: =J16/J7 -> 0 | K29: =K16/K7 -> 0.15483871 | ... P29: =P16/P7 -> 8.619726
B30: Norm sähkö lämmitykseen | C30: kWh/d | D30: =D17/D7 -> 18.051019 | E30: =E17/E7 -> 20.632034 | F30: =F17/F7 -> 23.451323 | G30: =G17/G7 -> 10.192856 | H30: =H17/H7 -> 5.5169562 | I30: =I17/I7 -> 0.6 | J30: =J17/J7 -> 0 | K30: =K17/K7 -> 0.15483871 | ... P30: =P17/P7 -> 9.9716111
B31: Ominaislämmönkulutus | C31: kWh/m3 | D31: =D16/$F$4 -> 2.2321429 | E31: =E16/$F$4 -> 2.8290344 | F31: =F16/$F$4 -> 2.8550761 | G31: =G16/$F$4 -> 0.96147487 | H31: =H16/$F$4 -> 0.47536376 | I31: =I16/$F$4 -> 0.074404762 | J31: =J16/$F$4 -> 0 | K31: =K16/$F$4 -> 0.01984127 | ... P31: =P16/$F$4 -> 13.005126 | T31: =T16/$F$4 -> 16.524471
B32: Ominaislämmönkulutus | C32: kWh/m2 | D32: =D16/$F$3 -> 5.625 | E32: =E16/$F$3 -> 7.1291667 | F32: =F16/$F$3 -> 7.1947917 | G32: =G16/$F$3 -> 2.4229167 | H32: =H16/$F$3 -> 1.1979167 | I32: =I16/$F$3 -> 0.1875 | J32: =J16/$F$3 -> 0 | K32: =K16/$F$3 -> 0.05 | ... P32: =P16/$F$3 -> 32.772917
B33: Norm lämmönkulutus | C33: kWh/m3 | D33: =D17/$F$4 -> 2.3130853 | E33: =E17/$F$4 -> 2.3879669 | F33: =F17/$F$4 -> 3.0050885 | G33: =G17/$F$4 -> 1.263995 | H33: =H17/$F$4 -> 0.70695123 | I33: =I17/$F$4 -> 0.074404762 | J33: =J17/$F$4 -> 0 | K33: =K17/$F$4 -> 0.01984127 | ... P33: =P17/$F$4 -> 15.0448
B34: Norm lämmönkulutus | C34: kWh/m2 | D34: =D17/$F$3 -> 5.8289749 | E34: =E17/$F$3 -> 6.0176766 | F34: =F17/$F$3 -> 7.5728231 | G34: =G17/$F$3 -> 3.1852674 | H34: =H17/$F$3 -> 1.7815171 | I34: =I17/$F$3 -> 0.1875 | J34: =J17/$F$3 -> 0 | K34: =K17/$F$3 -> 0.05 | ... P34: =P17/$F$3 -> 37.912896
B35: Ominaislämmönkulutus | C35: Wh/m3/oCd | D35: =1000*D31/D13 -> 3.11317 | E35: =1000*E31/E13 -> 3.4458397 | F35: =1000*F31/F13 -> 4.839112 | G35: =1000*G31/G13 -> 2.9952488 | H35: =1000*H31/H13 -> 4.0629381 | L35: =1000*L31/L13 -> 4.3261216 | M35: =1000*M31/M13 -> 2.6127458 | N35: =1000*N31/N13 -> 2.7141554 | O35: =1000*O31/O13 -> 2.6939945 | P35: =1000*P31/P13 -> 3.3788323 | T35: =1000*T31/#REF! -> #REF!
A37: Vuosikulutusarvio
B39: Lämmityssähkö ILPillä | D39: 3300 | E39: kWh | G39: Arvio lämmityssähkö ilman ILP | K39: 5600 | L39: kWh | M39: Vuosikulutusarvio ilma ILP
B40: Lämminvesi | D40: 1207 | E40: kWh | G40: Arvio ILPin säästämästä sähköstä | K40: =K39-D39 -> 2300 | L40: kWh | N40: =SUM(D40:D41,K39) -> 11187 | O40: kWh
B41: Taloussähkö | D41: =K3*365 -> 4380 | E41: kWh | G41: Säästöarvio lämmityssähkönkulutuksesta | K41: =K40/K39 -> 0.41071429
B42: Yhteensä | D42: =SUM(D39:D41) -> 8887 | E42: kWh | G42: Säästöarvio kokonaissähkönkulutuksesta | K42: =K40/(SUM(D40:D41)+K39) -> 0.20559578

Sheet 2010
A1: SÄHKÖNKULUTUSRAPORTTI | D1: 2010
A3: Hyvinkää rivitalo 4H+K+S | D3: Asuinala | F3: 96 | G3: m2 | H3: Taloussähkö arvio | K3: 10 | L3: kWh/d | M3: Kesäkuukaudet | O3: =SUM(I11:K11)/92 -> 9.9782609 | P3: kWh/d
D4: Tilavuus | F4: =2.52*F3 -> 241.92 | G4: m3
A6: Jakso | D6: Tammi | E6: Helmi | F6: Maalis | G6: Huhti | H6: Touko | I6: Kesä | J6: Heinä | K6: Elo | L6: Syys | M6: Loka | N6: Marras | O6: Joulu | P6: Yhteensä
D7: 31 | E7: 28 | F7: 31 | G7: 30 | H7: 31 | I7: 30 | J7: 31 | K7: 31 | L7: 30 | M7: 31 | N7: 30 | O7: 31 | P7: =SUM(D7:O7) -> 365
A8: 2010 | B8: Keskilämpötila | C8: oC | D8: -14.1 | E8: -10.3 | F8: -3.5 | G8: 3.8 | H8: 11 | I8: 14.2 | J8: 21.7 | K8: 16.5 | L8: 10.2 | M8: 3.4 | N8: -3.1 | O8: -11.7 | P8: =AVERAGE(D8:O8) -> 3.175
A9: 2010 | B9: Sähkö päivä | C9: kWh | D9: 939 | E9: 619 | F9: 416 | G9: 332 | H9: 263 | I9: 195 | J9: 113 | K9: 151 | L9: 299 | M9: 338 | N9: 483 | O9: 769 | P9: =SUM(D9:O9) -> 4917 | R9: =P9/$P$11 -> 0.55216171
A10: 2010 | B10: Sähkö yö | C10: kWh | D10: 659 | E10: 458 | F10: 342 | G10: 377 | H10: 289 | I10: 191 | J10: 104 | K10: 164 | L10: 237 | M10: 268 | N10: 367 | O10: 532 | P10: =SUM(D10:O10) -> 3988 | R10: =P10/$P$11 -> 0.44783829
A11: 2010 | B11: Sähkö yhteensä | C11: kWh | D11: =SUM(D9:D10) -> 1598 | E11: =SUM(E9:E10) -> 1077 | F11: =SUM(F9:F10) -> 758 | G11: =SUM(G9:G10) -> 709 | H11: =SUM(H9:H10) -> 552 | I11: =SUM(I9:I10) -> 386 | J11: =SUM(J9:J10) -> 217 | K11: =SUM(K9:K10) -> 315 | ... O11: =SUM(O9:O10) -> 1301 | P11: =SUM(D11:O11) -> 8905 | R11: =P11/$P$11 -> 1
A12: 2010 | B12: Ilmalämpöpumppu | C12: kWh | D12: 366 | E12: 431.4 | F12: 322 | G12: 198 | H12: 109 | I12: 42.5 | J12: 17.5 | K12: 39.6 | L12: 132 | M12: 258 | N12: 369 | O12: 548 | P12: =SUM(D12:O12) -> 2833 | R12: =P12/$P$11 -> 0.31813588
A13: 2010 | B13: Lämmitystarveluku toteutunut | C13: oCd | D13: 942 | E13: 743 | F13: 616 | G13: 380 | H13: 139 | I13: 0 | J13: 0 | K13: 39 | L13: 153 | M13: 410 | N13: 585 | O13: 838 | P13: =SUM(D13:O13) -> 4845 | R13: =(P13-P14)/$P$14 -> 0.063666301
A14: 2010 | B14: Lämmitystarveluku normivuosi | C14: oCd | D14: 743 | E14: 693 | F14: 621 | G14: 422 | H14: 174 | I14: 25 | J14: 7 | K14: 36 | L14: 217 | M14: 398 | N14: 538 | O14: 681 | P14: =SUM(D14:O14) -> 4555
A15: 2010 | B15: Lämminvesivaraaja | C15: kWh | D15: 123.16 | E15: 106 | F15: 89 | G15: 142.6 | H15: 133.6 | I15: 103.7 | J15: 66 | K15: 87 | L15: =94/24*30 -> 117.5 | M15: 107 | N15: 133 | O15: 139.6 | P15: =SUM(D15:O15) -> 1348.16
A16: 2010 | B16: Lämmityssähkö (arvio) | C16: kWh | D16: =D11-D15-D7*($K$3) -> 1164.84 | E16: =E11-E15-E7*($K$3) -> 691 | F16: =F11-F15-F7*($K$3) -> 359 | G16: =G11-G15-G7*($K$3) -> 266.4 | H16: =H11-H15-H7*($K$3) -> 108.4 | I16: =I12 -> 42.5 | J16: 0 | K16: 38 | L16: =L12 -> 132 | M16: =M12 -> 258 | N16: =N11-N15-N7*($K$3) -> 417 | O16: =O11-O15-O7*($K$3) -> 851.4 | P16: =SUM(D16:O16) -> 4328.54
A17: 2010 | B17: Sääkorjattu lämmityssähkö | C17: kWh | D17: =IF(D16<0,0,((D14/D13))*D16) -> 918.76446 | E17: =IF(E16<0,0,((E14/E13))*E16) -> 644.49933 | F17: =IF(F16<0,0,((F14/F13))*F16) -> 361.91396 | G17: =IF(G16<0,0,((G14/G13))*G16) -> 295.84421 | H17: =IF(H16<0,0,((H14/H13))*H16) -> 135.69496 | I17: =I16 -> 42.5 | J17: =J16 -> 0 | K17: =K16 -> 38 | L17: =IF(L16<0,0,((L14/L13))*L16) -> 187.21569 | M17: =IF(M16<0,0,((M14/M13))*M16) -> 250.44878 | N17: =IF(N16<0,0,((N14/N13))*N16) -> 383.49744 | O17: =IF(O16<0,0,((O14/O13))*O16) -> 691.8895 | P17: =SUM(D17:O17) -> 3950.2683 | S17: =P11-P15-P16 -> 3228.3
I19: =SUM(I15:K15)/92 -> 2.7902174
A20: Kulutus päivässä | C20: kWh/d | D20: =D11/D7 -> 51.548387 | E20: =E11/E7 -> 38.464286 | F20: =F11/F7 -> 24.451613 | G20: =G10/G7 -> 12.566667 | H20: =H11/H7 -> 17.806452 | I20: =I11/I7 -> 12.866667 | J20: =J11/J7 -> 7 | K20: =K11/K7 -> 10.16129 | L20: =L11/L7 -> 17.866667 | M20: =M11/M7 -> 19.548387 | N20: =N11/N7 -> 28.333333 | O20: =O11/O7 -> 41.967742 | P20: =P10/365 -> 10.926027
B21: Kumulatiivinen kulutus | C21: kWh | D21: =SUM(D11) -> 1598 | E21: =SUM($D$11:E11) -> 2675 | F21: =SUM($D$11:F11) -> 3433 | G21: =SUM($D$11:G11) -> 4142 | H21: =SUM($D$11:H11) -> 4694 | I21: =SUM($D$11:I11) -> 5080 | J21: =SUM($D$11:J11) -> 5297 | K21: =SUM($D$11:K11) -> 5612 | L21: =SUM($D$11:L11) -> 6148 | ... O21: =SUM($D$11:O11) -> 8905
B22: Kumulatiivinen kulutus ILP | C22: kWh | D22: =SUM(D12) -> 366 | E22: =SUM($D$12:E12) -> 797.4 | F22: =SUM($D$12:F12) -> 1119.4 | G22: =SUM($D$12:G12) -> 1317.4 | H22: =SUM($D$12:H12) -> 1426.4 | I22: =SUM($D$12:I12) -> 1468.9 | J22: =SUM($D$12:J12) -> 1486.4 | K22: =SUM($D$12:K12) -> 1526 | L22: =SUM($D$12:L12) -> 1658 | ... O22: =SUM($D$12:O12) -> 2833
B23: Kumulatiivinen kulutus lämmitys | C23: kWh | D23: =SUM(D16) -> 1164.84 | E23: =SUM($D$16:E16) -> 1855.84 | F23: =SUM($D$16:F16) -> 2214.84 | G23: =SUM($D$16:G16) -> 2481.24 | H23: =SUM($D$16:H16) -> 2589.64 | I23: =SUM($D$16:I16) -> 2632.14 | J23: =SUM($D$16:J16) -> 2632.14 | K23: =SUM($D$16:K16) -> 2670.14 | L23: =SUM($D$16:L16) -> 2802.14 | ... O23: =SUM($D$16:O16) -> 4328.54
B24: Taloussähkö ilma LKV | D24: =(D11-D12-D15)/D7 -> 35.769032 | E24: =(E11-E12-E15)/E7 -> 19.271429 | F24: =(F11-F12-F15)/F7 -> 11.193548 | G24: =(G11-G12-G15)/G7 -> 12.28 | H24: =(H11-H12-H15)/H7 -> 9.9806452 | I24: =(I11-I12-I15)/I7 -> 7.9933333 | J24: =(J11-J12-J15)/J7 -> 4.3064516 | K24: =(K11-K12-K15)/K7 -> 6.0774194 | ... P24: =(P11-P12-P15)/P7 -> 12.942027
